| Back to Multiple platform build/check report for BioC 3.17 |
|
This page was generated on 2023-04-12 10:55:20 -0400 (Wed, 12 Apr 2023).
| Hostname | OS | Arch (*) | R version | Installed pkgs |
|---|---|---|---|---|
| nebbiolo1 | Linux (Ubuntu 22.04.1 LTS) | x86_64 | 4.3.0 alpha (2023-04-03 r84154) | 4547 |
| nebbiolo2 | Linux (Ubuntu 20.04.5 LTS) | x86_64 | R Under development (unstable) (2023-02-14 r83833) -- "Unsuffered Consequences" | 4333 |
| Click on any hostname to see more info about the system (e.g. compilers) (*) as reported by 'uname -p', except on Windows and Mac OS X | ||||
|
To the developers/maintainers of the RBGL package: - Allow up to 24 hours (and sometimes 48 hours) for your latest push to git@git.bioconductor.org:packages/RBGL.git to reflect on this report. See Troubleshooting Build Report for more information. - Use the following Renviron settings to reproduce errors and warnings. Note: If "R CMD check" recently failed on the Linux builder over a missing dependency, add the missing dependency to "Suggests" in your DESCRIPTION file. See the Renviron.bioc for details. |
| Package 1620/2207 | Hostname | OS / Arch | INSTALL | BUILD | CHECK | BUILD BIN | ||||||||
| RBGL 1.75.0 (landing page) Bioconductor Package Maintainer
| nebbiolo1 | Linux (Ubuntu 22.04.1 LTS) / x86_64 | OK | OK | WARNINGS | |||||||||
| nebbiolo2 | Linux (Ubuntu 20.04.5 LTS) / x86_64 | OK | OK | WARNINGS | ||||||||||
| QUICK STATS | OS / Arch | INSTALL | BUILD | CHECK | BUILD BIN | ||||||||||||||
| nebbiolo1 | Linux (Ubuntu 22.04.1 LTS) / x86_64 |
|
|
| |||||||||||||||
| nebbiolo2 | Linux (Ubuntu 20.04.5 LTS) / x86_64 |
|
|
| |||||||||||||||
| Package 1/28 | Hostname | OS / Arch | INSTALL | BUILD | CHECK | BUILD BIN | |||||||||||||
| alpine 1.25.0 (landing page) Michael Love
| nebbiolo1 | Linux (Ubuntu 22.04.1 LTS) / x86_64 | ERROR | ERROR | skipped | ||||||||||||||
| nebbiolo2 | Linux (Ubuntu 20.04.5 LTS) / x86_64 | OK | OK | OK | |||||||||||||||
| Package 2/28 | Hostname | OS / Arch | INSTALL | BUILD | CHECK | BUILD BIN | |||||||||||||
| apComplex 2.65.0 (landing page) Denise Scholtens
| nebbiolo1 | Linux (Ubuntu 22.04.1 LTS) / x86_64 | OK | OK | OK | ||||||||||||||
| nebbiolo2 | Linux (Ubuntu 20.04.5 LTS) / x86_64 | OK | OK | OK | |||||||||||||||
| Package 3/28 | Hostname | OS / Arch | INSTALL | BUILD | CHECK | BUILD BIN | |||||||||||||
| BiocPkgTools 1.17.10 (landing page) Sean Davis
| nebbiolo1 | Linux (Ubuntu 22.04.1 LTS) / x86_64 | OK | OK | WARNINGS | ||||||||||||||
| nebbiolo2 | Linux (Ubuntu 20.04.5 LTS) / x86_64 | OK | OK | WARNINGS | |||||||||||||||
| Package 4/28 | Hostname | OS / Arch | INSTALL | BUILD | CHECK | BUILD BIN | |||||||||||||
| biocViews 1.67.3 (landing page) Bioconductor Package Maintainer
| nebbiolo1 | Linux (Ubuntu 22.04.1 LTS) / x86_64 | OK | OK | OK | ||||||||||||||
| nebbiolo2 | Linux (Ubuntu 20.04.5 LTS) / x86_64 | OK | OK | OK | |||||||||||||||
| Package 5/28 | Hostname | OS / Arch | INSTALL | BUILD | CHECK | BUILD BIN | |||||||||||||
| BioNet 1.59.0 (landing page) Marcus Dittrich
| nebbiolo1 | Linux (Ubuntu 22.04.1 LTS) / x86_64 | OK | OK | OK | ||||||||||||||
| nebbiolo2 | Linux (Ubuntu 20.04.5 LTS) / x86_64 | OK | OK | OK | |||||||||||||||
| Package 6/28 | Hostname | OS / Arch | INSTALL | BUILD | CHECK | BUILD BIN | |||||||||||||
| CAMERA 1.55.0 (landing page) Steffen Neumann
| nebbiolo1 | Linux (Ubuntu 22.04.1 LTS) / x86_64 | OK | OK | OK | ||||||||||||||
| nebbiolo2 | Linux (Ubuntu 20.04.5 LTS) / x86_64 | OK | OK | OK | |||||||||||||||
| Package 7/28 | Hostname | OS / Arch | INSTALL | BUILD | CHECK | BUILD BIN | |||||||||||||
| Category 2.65.0 (landing page) Bioconductor Package Maintainer
| nebbiolo1 | Linux (Ubuntu 22.04.1 LTS) / x86_64 | OK | OK | OK | ||||||||||||||
| nebbiolo2 | Linux (Ubuntu 20.04.5 LTS) / x86_64 | OK | OK | OK | |||||||||||||||
| Package 8/28 | Hostname | OS / Arch | INSTALL | BUILD | CHECK | BUILD BIN | |||||||||||||
| CellNOptR 1.45.0 (landing page) Attila Gabor
| nebbiolo1 | Linux (Ubuntu 22.04.1 LTS) / x86_64 | OK | OK | OK | ||||||||||||||
| nebbiolo2 | Linux (Ubuntu 20.04.5 LTS) / x86_64 | OK | OK | OK | |||||||||||||||
| Package 9/28 | Hostname | OS / Arch | INSTALL | BUILD | CHECK | BUILD BIN | |||||||||||||
| ChIPpeakAnno 3.33.2 (landing page) Jianhong Ou
| nebbiolo1 | Linux (Ubuntu 22.04.1 LTS) / x86_64 | OK | OK | OK | ||||||||||||||
| nebbiolo2 | Linux (Ubuntu 20.04.5 LTS) / x86_64 | OK | OK | OK | |||||||||||||||
| Package 10/28 | Hostname | OS / Arch | INSTALL | BUILD | CHECK | BUILD BIN | |||||||||||||
| CHRONOS 1.27.0 (landing page) Panos Balomenos
| nebbiolo1 | Linux (Ubuntu 22.04.1 LTS) / x86_64 | OK | OK | OK | ||||||||||||||
| nebbiolo2 | Linux (Ubuntu 20.04.5 LTS) / x86_64 | OK | OK | OK | |||||||||||||||
| Package 11/28 | Hostname | OS / Arch | INSTALL | BUILD | CHECK | BUILD BIN | |||||||||||||
| clipper 1.39.0 (landing page) Paolo Martini
| nebbiolo1 | Linux (Ubuntu 22.04.1 LTS) / x86_64 | OK | OK | OK | ||||||||||||||
| nebbiolo2 | Linux (Ubuntu 20.04.5 LTS) / x86_64 | OK | OK | OK | |||||||||||||||
| Package 12/28 | Hostname | OS / Arch | INSTALL | BUILD | CHECK | BUILD BIN | |||||||||||||
| CytoML 2.11.0 (landing page) Mike Jiang
| nebbiolo1 | Linux (Ubuntu 22.04.1 LTS) / x86_64 | OK | OK | WARNINGS | ||||||||||||||
| nebbiolo2 | Linux (Ubuntu 20.04.5 LTS) / x86_64 | OK | OK | WARNINGS | |||||||||||||||
| Package 13/28 | Hostname | OS / Arch | INSTALL | BUILD | CHECK | BUILD BIN | |||||||||||||
| DEGraph 1.51.0 (landing page) Laurent Jacob
| nebbiolo1 | Linux (Ubuntu 22.04.1 LTS) / x86_64 | OK | OK | OK | ||||||||||||||
| nebbiolo2 | Linux (Ubuntu 20.04.5 LTS) / x86_64 | OK | OK | OK | |||||||||||||||
| Package 14/28 | Hostname | OS / Arch | INSTALL | BUILD | CHECK | BUILD BIN | |||||||||||||
| DEsubs 1.25.0 (landing page) Aristidis G. Vrahatis
| nebbiolo1 | Linux (Ubuntu 22.04.1 LTS) / x86_64 | OK | OK | WARNINGS | ||||||||||||||
| nebbiolo2 | Linux (Ubuntu 20.04.5 LTS) / x86_64 | OK | OK | WARNINGS | |||||||||||||||
| Package 15/28 | Hostname | OS / Arch | INSTALL | BUILD | CHECK | BUILD BIN | |||||||||||||
| EventPointer 3.7.0 (landing page) Juan A. Ferrer-Bonsoms
| nebbiolo1 | Linux (Ubuntu 22.04.1 LTS) / x86_64 | ERROR | ERROR | skipped | ||||||||||||||
| nebbiolo2 | Linux (Ubuntu 20.04.5 LTS) / x86_64 | OK | OK | OK | |||||||||||||||
| Package 16/28 | Hostname | OS / Arch | INSTALL | BUILD | CHECK | BUILD BIN | |||||||||||||
| fgga 1.7.0 (landing page) Flavio Spetale
| nebbiolo1 | Linux (Ubuntu 22.04.1 LTS) / x86_64 | OK | OK | ERROR | ||||||||||||||
| nebbiolo2 | Linux (Ubuntu 20.04.5 LTS) / x86_64 | OK | OK | ERROR | |||||||||||||||
| Package 17/28 | Hostname | OS / Arch | INSTALL | BUILD | CHECK | BUILD BIN | |||||||||||||
| flowWorkspace 4.11.1 (landing page) Greg Finak
| nebbiolo1 | Linux (Ubuntu 22.04.1 LTS) / x86_64 | OK | OK | WARNINGS | ||||||||||||||
| nebbiolo2 | Linux (Ubuntu 20.04.5 LTS) / x86_64 | OK | OK | WARNINGS | |||||||||||||||
| Package 18/28 | Hostname | OS / Arch | INSTALL | BUILD | CHECK | BUILD BIN | |||||||||||||
Rezvan Ehsani
| nebbiolo1 | Linux (Ubuntu 22.04.1 LTS) / x86_64 | OK | ERROR | skipped | ||||||||||||||
| nebbiolo2 | Linux (Ubuntu 20.04.5 LTS) / x86_64 | OK | ERROR | skipped | |||||||||||||||
| Package 19/28 | Hostname | OS / Arch | INSTALL | BUILD | CHECK | BUILD BIN | |||||||||||||
| GenomicInteractionNodes 1.3.0 (landing page) Jianhong Ou
| nebbiolo1 | Linux (Ubuntu 22.04.1 LTS) / x86_64 | OK | OK | OK | ||||||||||||||
| nebbiolo2 | Linux (Ubuntu 20.04.5 LTS) / x86_64 | OK | OK | OK | |||||||||||||||
| Package 20/28 | Hostname | OS / Arch | INSTALL | BUILD | CHECK | BUILD BIN | |||||||||||||
| GOSim 1.37.0 (landing page) Holger Froehlich
| nebbiolo1 | Linux (Ubuntu 22.04.1 LTS) / x86_64 | OK | OK | WARNINGS | ||||||||||||||
| nebbiolo2 | Linux (Ubuntu 20.04.5 LTS) / x86_64 | OK | OK | WARNINGS | |||||||||||||||
| Package 21/28 | Hostname | OS / Arch | INSTALL | BUILD | CHECK | BUILD BIN | |||||||||||||
| GOstats 2.65.3 (landing page) Bioconductor Package Maintainer
| nebbiolo1 | Linux (Ubuntu 22.04.1 LTS) / x86_64 | OK | OK | OK | ||||||||||||||
| nebbiolo2 | Linux (Ubuntu 20.04.5 LTS) / x86_64 | OK | OK | OK | |||||||||||||||
| Package 22/28 | Hostname | OS / Arch | INSTALL | BUILD | CHECK | BUILD BIN | |||||||||||||
Juan C. Rodriguez
| nebbiolo1 | Linux (Ubuntu 22.04.1 LTS) / x86_64 | OK | ERROR | skipped | ||||||||||||||
| nebbiolo2 | Linux (Ubuntu 20.04.5 LTS) / x86_64 | OK | ERROR | skipped | |||||||||||||||
| Package 23/28 | Hostname | OS / Arch | INSTALL | BUILD | CHECK | BUILD BIN | |||||||||||||
| NCIgraph 1.47.0 (landing page) Laurent Jacob
| nebbiolo1 | Linux (Ubuntu 22.04.1 LTS) / x86_64 | OK | OK | OK | ||||||||||||||
| nebbiolo2 | Linux (Ubuntu 20.04.5 LTS) / x86_64 | OK | OK | OK | |||||||||||||||
| Package 24/28 | Hostname | OS / Arch | INSTALL | BUILD | CHECK | BUILD BIN | |||||||||||||
| openCyto 2.11.1 (landing page) Mike Jiang
| nebbiolo1 | Linux (Ubuntu 22.04.1 LTS) / x86_64 | OK | OK | WARNINGS | ||||||||||||||
| nebbiolo2 | Linux (Ubuntu 20.04.5 LTS) / x86_64 | OK | OK | WARNINGS | |||||||||||||||
| Package 25/28 | Hostname | OS / Arch | INSTALL | BUILD | CHECK | BUILD BIN | |||||||||||||
| OrganismDbi 1.41.0 (landing page) Bioconductor Package Maintainer
| nebbiolo1 | Linux (Ubuntu 22.04.1 LTS) / x86_64 | OK | OK | WARNINGS | ||||||||||||||
| nebbiolo2 | Linux (Ubuntu 20.04.5 LTS) / x86_64 | OK | OK | WARNINGS | |||||||||||||||
| Package 26/28 | Hostname | OS / Arch | INSTALL | BUILD | CHECK | BUILD BIN | |||||||||||||
Bioconductor Package Maintainer
| nebbiolo1 | Linux (Ubuntu 22.04.1 LTS) / x86_64 | OK | OK | TIMEOUT | ||||||||||||||
| nebbiolo2 | Linux (Ubuntu 20.04.5 LTS) / x86_64 | OK | OK | TIMEOUT | |||||||||||||||
| Package 27/28 | Hostname | OS / Arch | INSTALL | BUILD | CHECK | BUILD BIN | |||||||||||||
| Streamer 1.45.0 (landing page) Martin Morgan
| nebbiolo1 | Linux (Ubuntu 22.04.1 LTS) / x86_64 | OK | OK | OK | ||||||||||||||
| nebbiolo2 | Linux (Ubuntu 20.04.5 LTS) / x86_64 | OK | OK | OK | |||||||||||||||
| Package 28/28 | Hostname | OS / Arch | INSTALL | BUILD | CHECK | BUILD BIN | |||||||||||||
| VariantFiltering 1.35.1 (landing page) Robert Castelo
| nebbiolo1 | Linux (Ubuntu 22.04.1 LTS) / x86_64 | OK | OK | OK | ||||||||||||||
| nebbiolo2 | Linux (Ubuntu 20.04.5 LTS) / x86_64 | OK | OK | OK | |||||||||||||||