| Back to Multiple platform build/check report for BioC 3.17 |
|
This page was generated on 2023-04-12 10:55:34 -0400 (Wed, 12 Apr 2023).
| Hostname | OS | Arch (*) | R version | Installed pkgs |
|---|---|---|---|---|
| nebbiolo1 | Linux (Ubuntu 22.04.1 LTS) | x86_64 | 4.3.0 alpha (2023-04-03 r84154) | 4547 |
| nebbiolo2 | Linux (Ubuntu 20.04.5 LTS) | x86_64 | R Under development (unstable) (2023-02-14 r83833) -- "Unsuffered Consequences" | 4333 |
| Click on any hostname to see more info about the system (e.g. compilers) (*) as reported by 'uname -p', except on Windows and Mac OS X | ||||
|
To the developers/maintainers of the biocViews package: - Allow up to 24 hours (and sometimes 48 hours) for your latest push to git@git.bioconductor.org:packages/biocViews.git to reflect on this report. See Troubleshooting Build Report for more information. - Use the following Renviron settings to reproduce errors and warnings. Note: If "R CMD check" recently failed on the Linux builder over a missing dependency, add the missing dependency to "Suggests" in your DESCRIPTION file. See the Renviron.bioc for details. |
| Package 191/2207 | Hostname | OS / Arch | INSTALL | BUILD | CHECK | BUILD BIN | ||||||||
| biocViews 1.67.3 (landing page) Bioconductor Package Maintainer
| nebbiolo1 | Linux (Ubuntu 22.04.1 LTS) / x86_64 | OK | OK | OK | |||||||||
| nebbiolo2 | Linux (Ubuntu 20.04.5 LTS) / x86_64 | OK | OK | OK | ||||||||||
| Package: biocViews |
| Version: 1.67.3 |
| Command: /home/biocbuild/bbs-3.17-bioc/R/bin/R CMD check --install=check:biocViews.install-out.txt --library=/home/biocbuild/bbs-3.17-bioc/R/site-library --timings biocViews_1.67.3.tar.gz |
| StartedAt: 2023-04-12 04:57:35 -0400 (Wed, 12 Apr 2023) |
| EndedAt: 2023-04-12 04:58:33 -0400 (Wed, 12 Apr 2023) |
| EllapsedTime: 57.2 seconds |
| RetCode: 0 |
| Status: OK |
| CheckDir: biocViews.Rcheck |
| Warnings: 0 |
##############################################################################
##############################################################################
###
### Running command:
###
### /home/biocbuild/bbs-3.17-bioc/R/bin/R CMD check --install=check:biocViews.install-out.txt --library=/home/biocbuild/bbs-3.17-bioc/R/site-library --timings biocViews_1.67.3.tar.gz
###
##############################################################################
##############################################################################
* using log directory ‘/home/biocbuild/bbs-3.17-bioc/meat/biocViews.Rcheck’
* using R Under development (unstable) (2023-02-14 r83833)
* using platform: x86_64-pc-linux-gnu (64-bit)
* R was compiled by
gcc (Ubuntu 9.4.0-1ubuntu1~20.04.1) 9.4.0
GNU Fortran (Ubuntu 9.4.0-1ubuntu1~20.04.1) 9.4.0
* running under: Ubuntu 20.04.6 LTS
* using session charset: UTF-8
* checking for file ‘biocViews/DESCRIPTION’ ... OK
* this is package ‘biocViews’ version ‘1.67.3’
* checking package namespace information ... OK
* checking package dependencies ... OK
* checking if this is a source package ... OK
* checking if there is a namespace ... OK
* checking for hidden files and directories ... OK
* checking for portable file names ... OK
* checking for sufficient/correct file permissions ... OK
* checking whether package ‘biocViews’ can be installed ... OK
* checking installed package size ... OK
* checking package directory ... OK
* checking ‘build’ directory ... OK
* checking DESCRIPTION meta-information ... OK
* checking top-level files ... OK
* checking for left-over files ... OK
* checking index information ... OK
* checking package subdirectories ... OK
* checking R files for non-ASCII characters ... OK
* checking R files for syntax errors ... OK
* checking whether the package can be loaded ... OK
* checking whether the package can be loaded with stated dependencies ... OK
* checking whether the package can be unloaded cleanly ... OK
* checking whether the namespace can be loaded with stated dependencies ... OK
* checking whether the namespace can be unloaded cleanly ... OK
* checking loading without being on the library search path ... OK
* checking dependencies in R code ... NOTE
':::' call which should be '::': ‘tools:::vignetteInfo’
See the note in ?`:::` about the use of this operator.
Unexported objects imported by ':::' calls:
‘tools:::.build_news_db_from_package_NEWS_Rd’
‘tools:::.build_news_db_from_package_NEWS_md’
‘tools:::.build_repository_package_db’
‘tools:::.expand_package_description_db_R_fields’
‘tools:::.get_standard_repository_db_fields’
‘tools:::.news_reader_default’ ‘tools:::.read_description’
‘tools:::.split_dependencies’
See the note in ?`:::` about the use of this operator.
* checking S3 generic/method consistency ... OK
* checking replacement functions ... OK
* checking foreign function calls ... OK
* checking R code for possible problems ... NOTE
getPackageNEWS : getNews: no visible binding for global variable
‘Version’
getReverseDepends : <anonymous>: no visible binding for global variable
‘Package’
Undefined global functions or variables:
Package Version
* checking Rd files ... OK
* checking Rd metadata ... OK
* checking Rd cross-references ... OK
* checking for missing documentation entries ... OK
* checking for code/documentation mismatches ... OK
* checking Rd \usage sections ... OK
* checking Rd contents ... OK
* checking for unstated dependencies in examples ... OK
* checking contents of ‘data’ directory ... OK
* checking data for non-ASCII characters ... OK
* checking data for ASCII and uncompressed saves ... OK
* checking installed files from ‘inst/doc’ ... OK
* checking files in ‘vignettes’ ... OK
* checking examples ... OK
* checking for unstated dependencies in ‘tests’ ... OK
* checking tests ...
Running ‘runTests.R’
OK
* checking for unstated dependencies in vignettes ... OK
* checking package vignettes in ‘inst/doc’ ... OK
* checking running R code from vignettes ...
‘HOWTO-BCV.Rmd’ using ‘UTF-8’... OK
‘createReposHtml.Rmd’ using ‘UTF-8’... OK
NONE
* checking re-building of vignette outputs ... OK
* checking PDF version of manual ... OK
* DONE
Status: 2 NOTEs
See
‘/home/biocbuild/bbs-3.17-bioc/meat/biocViews.Rcheck/00check.log’
for details.
biocViews.Rcheck/00install.out
############################################################################## ############################################################################## ### ### Running command: ### ### /home/biocbuild/bbs-3.17-bioc/R/bin/R CMD INSTALL biocViews ### ############################################################################## ############################################################################## * installing to library ‘/home/biocbuild/bbs-3.17-bioc/R/site-library’ * installing *source* package ‘biocViews’ ... ** using staged installation ** R ** data ** inst ** byte-compile and prepare package for lazy loading ** help *** installing help indices ** building package indices ** installing vignettes ** testing if installed package can be loaded from temporary location ** testing if installed package can be loaded from final location ** testing if installed package keeps a record of temporary installation path * DONE (biocViews)
biocViews.Rcheck/tests/runTests.Rout
R Under development (unstable) (2023-02-14 r83833) -- "Unsuffered Consequences"
Copyright (C) 2023 The R Foundation for Statistical Computing
Platform: x86_64-pc-linux-gnu (64-bit)
R is free software and comes with ABSOLUTELY NO WARRANTY.
You are welcome to redistribute it under certain conditions.
Type 'license()' or 'licence()' for distribution details.
R is a collaborative project with many contributors.
Type 'contributors()' for more information and
'citation()' on how to cite R or R packages in publications.
Type 'demo()' for some demos, 'help()' for on-line help, or
'help.start()' for an HTML browser interface to help.
Type 'q()' to quit R.
> BiocGenerics:::testPackage("biocViews")
Generate citation for /tmp/RtmpHvHeod/testing/testrepos/src/contrib/biocViews2_1.67.3.tar.gz ... (try to process CITATION file) OK
Generate citation for /tmp/RtmpHvHeod/testing/testrepos/src/contrib/biocViews_1.67.3.tar.gz ... /usr/bin/tar: biocViews/inst/CITATION: Not found in archive
/usr/bin/tar: Exiting with failure status due to previous errors
(auto-generate from DESCRIPTION file) OK
RUNIT TEST PROTOCOL -- Wed Apr 12 04:58:20 2023
***********************************************
Number of test functions: 5
Number of errors: 0
Number of failures: 0
1 Test Suite :
biocViews RUnit Tests - 5 test functions, 0 errors, 0 failures
Number of test functions: 5
Number of errors: 0
Number of failures: 0
Warning message:
In untar(tarball, tpaths, exdir = tmpdir) :
'/usr/bin/tar -xf '/tmp/RtmpHvHeod/testing/testrepos/src/contrib/biocViews_1.67.3.tar.gz' -C '/tmp/RtmpHvHeod' 'biocViews/DESCRIPTION' 'biocViews/inst/CITATION'' returned error code 2
>
> proc.time()
user system elapsed
3.352 0.103 4.742
biocViews.Rcheck/biocViews-Ex.timings
| name | user | system | elapsed | |
| PackageDetail-class | 0.073 | 0.001 | 0.073 | |
| biocViews-package | 0.046 | 0.000 | 0.046 | |
| biocViewsVocab | 0.005 | 0.000 | 0.005 | |
| getBiocSubViews | 0.999 | 0.008 | 1.007 | |
| getBiocViews | 0.772 | 0.020 | 0.792 | |
| getCurrentbiocViews | 0.007 | 0.000 | 0.006 | |
| getPackageTitles | 0 | 0 | 0 | |
| getSubTerms | 0.108 | 0.004 | 0.112 | |
| guessPackageType | 0.012 | 0.000 | 0.012 | |
| recommendPackages | 0.377 | 0.011 | 0.680 | |
| validation_tests | 0.004 | 0.000 | 0.004 | |