| Back to Multiple platform build/check report for BioC 3.17 |
|
This page was generated on 2023-04-12 10:55:36 -0400 (Wed, 12 Apr 2023).
| Hostname | OS | Arch (*) | R version | Installed pkgs |
|---|---|---|---|---|
| nebbiolo1 | Linux (Ubuntu 22.04.1 LTS) | x86_64 | 4.3.0 alpha (2023-04-03 r84154) | 4547 |
| nebbiolo2 | Linux (Ubuntu 20.04.5 LTS) | x86_64 | R Under development (unstable) (2023-02-14 r83833) -- "Unsuffered Consequences" | 4333 |
| Click on any hostname to see more info about the system (e.g. compilers) (*) as reported by 'uname -p', except on Windows and Mac OS X | ||||
|
To the developers/maintainers of the EventPointer package: - Allow up to 24 hours (and sometimes 48 hours) for your latest push to git@git.bioconductor.org:packages/EventPointer.git to reflect on this report. See Troubleshooting Build Report for more information. - Use the following Renviron settings to reproduce errors and warnings. Note: If "R CMD check" recently failed on the Linux builder over a missing dependency, add the missing dependency to "Suggests" in your DESCRIPTION file. See the Renviron.bioc for details. |
| Package 656/2207 | Hostname | OS / Arch | INSTALL | BUILD | CHECK | BUILD BIN | ||||||||
| EventPointer 3.7.0 (landing page) Juan A. Ferrer-Bonsoms
| nebbiolo1 | Linux (Ubuntu 22.04.1 LTS) / x86_64 | ERROR | ERROR | skipped | |||||||||
| nebbiolo2 | Linux (Ubuntu 20.04.5 LTS) / x86_64 | OK | OK | OK | ||||||||||
| Package: EventPointer |
| Version: 3.7.0 |
| Command: /home/biocbuild/bbs-3.17-bioc/R/bin/R CMD check --install=check:EventPointer.install-out.txt --library=/home/biocbuild/bbs-3.17-bioc/R/site-library --timings EventPointer_3.7.0.tar.gz |
| StartedAt: 2023-04-12 06:10:12 -0400 (Wed, 12 Apr 2023) |
| EndedAt: 2023-04-12 06:16:43 -0400 (Wed, 12 Apr 2023) |
| EllapsedTime: 391.1 seconds |
| RetCode: 0 |
| Status: OK |
| CheckDir: EventPointer.Rcheck |
| Warnings: 0 |
##############################################################################
##############################################################################
###
### Running command:
###
### /home/biocbuild/bbs-3.17-bioc/R/bin/R CMD check --install=check:EventPointer.install-out.txt --library=/home/biocbuild/bbs-3.17-bioc/R/site-library --timings EventPointer_3.7.0.tar.gz
###
##############################################################################
##############################################################################
* using log directory ‘/home/biocbuild/bbs-3.17-bioc/meat/EventPointer.Rcheck’
* using R Under development (unstable) (2023-02-14 r83833)
* using platform: x86_64-pc-linux-gnu (64-bit)
* R was compiled by
gcc (Ubuntu 9.4.0-1ubuntu1~20.04.1) 9.4.0
GNU Fortran (Ubuntu 9.4.0-1ubuntu1~20.04.1) 9.4.0
* running under: Ubuntu 20.04.6 LTS
* using session charset: UTF-8
* checking for file ‘EventPointer/DESCRIPTION’ ... OK
* checking extension type ... Package
* this is package ‘EventPointer’ version ‘3.7.0’
* package encoding: UTF-8
* checking package namespace information ... OK
* checking package dependencies ... OK
* checking if this is a source package ... OK
* checking if there is a namespace ... OK
* checking for hidden files and directories ... OK
* checking for portable file names ... OK
* checking for sufficient/correct file permissions ... OK
* checking whether package ‘EventPointer’ can be installed ... OK
* used C compiler: ‘gcc (Ubuntu 9.4.0-1ubuntu1~20.04.1) 9.4.0’
* checking installed package size ... OK
* checking package directory ... OK
* checking ‘build’ directory ... OK
* checking DESCRIPTION meta-information ... OK
* checking top-level files ... OK
* checking for left-over files ... OK
* checking index information ... OK
* checking package subdirectories ... OK
* checking R files for non-ASCII characters ... OK
* checking R files for syntax errors ... OK
* checking whether the package can be loaded ... OK
* checking whether the package can be loaded with stated dependencies ... OK
* checking whether the package can be unloaded cleanly ... OK
* checking whether the namespace can be loaded with stated dependencies ... OK
* checking whether the namespace can be unloaded cleanly ... OK
* checking loading without being on the library search path ... OK
* checking dependencies in R code ... NOTE
Unexported objects imported by ':::' calls:
‘SGSeq:::addFeatureID’ ‘SGSeq:::addGeneID’ ‘SGSeq:::edges’
‘SGSeq:::exonGraph’ ‘SGSeq:::feature2name’ ‘SGSeq:::matchSGFeatures’
‘SGSeq:::nodes’ ‘SGSeq:::propagateAnnotation’
‘SGSeq:::splitCharacterList’
See the note in ?`:::` about the use of this operator.
* checking S3 generic/method consistency ... OK
* checking replacement functions ... OK
* checking foreign function calls ... OK
* checking R code for possible problems ... NOTE
EventDetection_transcriptome: no visible binding for global variable
‘jj’
SF_Prediction: no visible binding for global variable ‘valueRanking’
SF_Prediction: no visible binding for global variable ‘PSI_table’
annotate2: no visible global function definition for
‘addDummySpliceSites’
annotate2: no visible global function definition for ‘annotatePaths’
annotateFeatures2: no visible global function definition for
‘matchTxFeatures’
callGRseq_parallel: no visible global function definition for
‘makeCluster’
callGRseq_parallel: no visible binding for global variable ‘i’
callGRseq_parallel: no visible global function definition for
‘stopCluster’
call_get_table_Bootstrap: no visible global function definition for
‘makeCluster’
call_get_table_Bootstrap: no visible binding for global variable ‘ii’
call_get_table_Bootstrap: no visible global function definition for
‘stopCluster’
fitgl: no visible binding for global variable ‘hist’
myphyper: no visible global function definition for ‘dhyper’
Undefined global functions or variables:
PSI_table addDummySpliceSites annotatePaths dhyper hist i ii jj
makeCluster matchTxFeatures stopCluster valueRanking
Consider adding
importFrom("graphics", "hist")
importFrom("stats", "dhyper")
to your NAMESPACE file.
* checking Rd files ... OK
* checking Rd metadata ... OK
* checking Rd cross-references ... OK
* checking for missing documentation entries ... OK
* checking for code/documentation mismatches ... OK
* checking Rd \usage sections ... OK
* checking Rd contents ... OK
* checking for unstated dependencies in examples ... OK
* checking contents of ‘data’ directory ... OK
* checking data for non-ASCII characters ... OK
* checking LazyData ... OK
* checking data for ASCII and uncompressed saves ... OK
* checking line endings in C/C++/Fortran sources/headers ... OK
* checking compiled code ... NOTE
Note: information on .o files is not available
* checking files in ‘vignettes’ ... OK
* checking examples ... OK
* checking for unstated dependencies in ‘tests’ ... OK
* checking tests ...
Running ‘runTests.R’
OK
* checking for unstated dependencies in vignettes ... OK
* checking package vignettes in ‘inst/doc’ ... OK
* checking running R code from vignettes ...
‘EventPointer.Rmd’ using ‘UTF-8’... OK
NONE
* checking re-building of vignette outputs ... OK
* checking PDF version of manual ... OK
* DONE
Status: 3 NOTEs
See
‘/home/biocbuild/bbs-3.17-bioc/meat/EventPointer.Rcheck/00check.log’
for details.
EventPointer.Rcheck/00install.out
############################################################################## ############################################################################## ### ### Running command: ### ### /home/biocbuild/bbs-3.17-bioc/R/bin/R CMD INSTALL EventPointer ### ############################################################################## ############################################################################## * installing to library ‘/home/biocbuild/bbs-3.17-bioc/R/site-library’ * installing *source* package ‘EventPointer’ ... ** using staged installation ** libs using C compiler: ‘gcc (Ubuntu 9.4.0-1ubuntu1~20.04.1) 9.4.0’ gcc -I"/home/biocbuild/bbs-3.17-bioc/R/include" -DNDEBUG -I/usr/local/include -fpic -g -O2 -Wall -c dgl.c -o dgl.o gcc -I"/home/biocbuild/bbs-3.17-bioc/R/include" -DNDEBUG -I/usr/local/include -fpic -g -O2 -Wall -c params.c -o params.o gcc -I"/home/biocbuild/bbs-3.17-bioc/R/include" -DNDEBUG -I/usr/local/include -fpic -g -O2 -Wall -c pgl.c -o pgl.o gcc -I"/home/biocbuild/bbs-3.17-bioc/R/include" -DNDEBUG -I/usr/local/include -fpic -g -O2 -Wall -c qdgl.c -o qdgl.o gcc -I"/home/biocbuild/bbs-3.17-bioc/R/include" -DNDEBUG -I/usr/local/include -fpic -g -O2 -Wall -c qgl.c -o qgl.o gcc -I"/home/biocbuild/bbs-3.17-bioc/R/include" -DNDEBUG -I/usr/local/include -fpic -g -O2 -Wall -c rgl.c -o rgl.o gcc -shared -L/home/biocbuild/bbs-3.17-bioc/R/lib -L/usr/local/lib -o EventPointer.so dgl.o params.o pgl.o qdgl.o qgl.o rgl.o -L/home/biocbuild/bbs-3.17-bioc/R/lib -lR installing to /home/biocbuild/bbs-3.17-bioc/R/site-library/00LOCK-EventPointer/00new/EventPointer/libs ** R ** data *** moving datasets to lazyload DB ** inst ** byte-compile and prepare package for lazy loading ** help *** installing help indices ** building package indices ** installing vignettes ** testing if installed package can be loaded from temporary location ** checking absolute paths in shared objects and dynamic libraries ** testing if installed package can be loaded from final location ** testing if installed package keeps a record of temporary installation path * DONE (EventPointer)
EventPointer.Rcheck/tests/runTests.Rout
R Under development (unstable) (2023-02-14 r83833) -- "Unsuffered Consequences"
Copyright (C) 2023 The R Foundation for Statistical Computing
Platform: x86_64-pc-linux-gnu (64-bit)
R is free software and comes with ABSOLUTELY NO WARRANTY.
You are welcome to redistribute it under certain conditions.
Type 'license()' or 'licence()' for distribution details.
R is a collaborative project with many contributors.
Type 'contributors()' for more information and
'citation()' on how to cite R or R packages in publications.
Type 'demo()' for some demos, 'help()' for on-line help, or
'help.start()' for an HTML browser interface to help.
Type 'q()' to quit R.
> BiocGenerics:::testPackage("EventPointer")
Attaching package: 'BiocGenerics'
The following objects are masked from 'package:stats':
IQR, mad, sd, var, xtabs
The following objects are masked from 'package:base':
Filter, Find, Map, Position, Reduce, anyDuplicated, aperm, append,
as.data.frame, basename, cbind, colnames, dirname, do.call,
duplicated, eval, evalq, get, grep, grepl, intersect, is.unsorted,
lapply, mapply, match, mget, order, paste, pmax, pmax.int, pmin,
pmin.int, rank, rbind, rownames, sapply, setdiff, sort, table,
tapply, union, unique, unsplit, which.max, which.min
Attaching package: 'S4Vectors'
The following objects are masked from 'package:base':
I, expand.grid, unname
Attaching package: 'Biostrings'
The following object is masked from 'package:base':
strsplit
Attaching package: 'MatrixGenerics'
The following objects are masked from 'package:matrixStats':
colAlls, colAnyNAs, colAnys, colAvgsPerRowSet, colCollapse,
colCounts, colCummaxs, colCummins, colCumprods, colCumsums,
colDiffs, colIQRDiffs, colIQRs, colLogSumExps, colMadDiffs,
colMads, colMaxs, colMeans2, colMedians, colMins, colOrderStats,
colProds, colQuantiles, colRanges, colRanks, colSdDiffs, colSds,
colSums2, colTabulates, colVarDiffs, colVars, colWeightedMads,
colWeightedMeans, colWeightedMedians, colWeightedSds,
colWeightedVars, rowAlls, rowAnyNAs, rowAnys, rowAvgsPerColSet,
rowCollapse, rowCounts, rowCummaxs, rowCummins, rowCumprods,
rowCumsums, rowDiffs, rowIQRDiffs, rowIQRs, rowLogSumExps,
rowMadDiffs, rowMads, rowMaxs, rowMeans2, rowMedians, rowMins,
rowOrderStats, rowProds, rowQuantiles, rowRanges, rowRanks,
rowSdDiffs, rowSds, rowSums2, rowTabulates, rowVarDiffs, rowVars,
rowWeightedMads, rowWeightedMeans, rowWeightedMedians,
rowWeightedSds, rowWeightedVars
Welcome to Bioconductor
Vignettes contain introductory material; view with
'browseVignettes()'. To cite Bioconductor, see
'citation("Biobase")', and for packages 'citation("pkgname")'.
Attaching package: 'Biobase'
The following object is masked from 'package:MatrixGenerics':
rowMedians
The following objects are masked from 'package:matrixStats':
anyMissing, rowMedians
Attaching package: 'Matrix'
The following object is masked from 'package:S4Vectors':
expand
Creating SG Information...Creating SG Information...Creating SG Information...Creating SG Information...Creating SG Information...Creating SG Information...1 2 3 4
RUNIT TEST PROTOCOL -- Wed Apr 12 06:16:09 2023
***********************************************
Number of test functions: 18
Number of errors: 0
Number of failures: 0
1 Test Suite :
EventPointer RUnit Tests - 18 test functions, 0 errors, 0 failures
Number of test functions: 18
Number of errors: 0
Number of failures: 0
>
> proc.time()
user system elapsed
15.088 1.110 16.184
EventPointer.Rcheck/EventPointer-Ex.timings
| name | user | system | elapsed | |
| CDFfromGTF | 0 | 0 | 0 | |
| CDFfromGTF_Multipath | 0.001 | 0.000 | 0.000 | |
| EventDetection | 0 | 0 | 0 | |
| EventDetectionMultipath | 0 | 0 | 0 | |
| EventDetection_transcriptome | 0.001 | 0.001 | 0.000 | |
| EventPointer | 0.054 | 0.003 | 0.058 | |
| EventPointer_Bootstraps | 0.184 | 0.004 | 0.188 | |
| EventPointer_IGV | 0.000 | 0.000 | 0.001 | |
| EventPointer_RNASeq | 0.062 | 0.000 | 0.062 | |
| EventPointer_RNASeq_IGV | 0 | 0 | 0 | |
| EventPointer_RNASeq_TranRef | 0 | 0 | 0 | |
| EventPointer_RNASeq_TranRef_IGV | 0.266 | 0.000 | 0.266 | |
| Events_ReClassification | 2.086 | 0.048 | 2.133 | |
| FindPrimers | 0 | 0 | 0 | |
| GetPSI_FromTranRef | 0.269 | 0.012 | 0.282 | |
| PSI_Statistic | 0 | 0 | 0 | |
| PrepareBam_EP | 0 | 0 | 0 | |
| Protein_Domain_Enrichment | 0 | 0 | 0 | |
| ResulTable | 0.112 | 0.000 | 0.112 | |
| getbootstrapdata | 0.217 | 0.016 | 0.233 | |