| Back to Build/check report for BioC 3.17 |
|
This page was generated on 2023-01-02 09:00:48 -0500 (Mon, 02 Jan 2023).
| Hostname | OS | Arch (*) | R version | Installed pkgs |
|---|---|---|---|---|
| palomino5 | Windows Server 2022 Datacenter | x64 | R Under development (unstable) (2022-12-25 r83502 ucrt) -- "Unsuffered Consequences" | 4165 |
| Click on any hostname to see more info about the system (e.g. compilers) (*) as reported by 'uname -p', except on Windows and Mac OS X | ||||
|
To the developers/maintainers of the RProtoBufLib package: Make sure to use the following settings in order to reproduce any error or warning you see on this page. |
| Package 1706/2158 | Hostname | OS / Arch | INSTALL | BUILD | CHECK | BUILD BIN | ||||||||
| RProtoBufLib 2.11.0 (landing page) Mike Jiang
| palomino5 | Windows Server 2022 Datacenter / x64 | OK | OK | OK | OK | ||||||||
| Package: RProtoBufLib |
| Version: 2.11.0 |
| Command: chmod a+r RProtoBufLib -R && F:\biocbuild\bbs-3.17-bioc\R\bin\R.exe CMD build --keep-empty-dirs --no-resave-data RProtoBufLib |
| StartedAt: 2022-12-28 20:16:40 -0500 (Wed, 28 Dec 2022) |
| EndedAt: 2022-12-28 20:17:15 -0500 (Wed, 28 Dec 2022) |
| EllapsedTime: 34.7 seconds |
| RetCode: 0 |
| Status: OK |
| PackageFile: RProtoBufLib_2.11.0.tar.gz |
| PackageFileSize: 21.07 MiB |
############################################################################## ############################################################################## ### ### Running command: ### ### chmod a+r RProtoBufLib -R && F:\biocbuild\bbs-3.17-bioc\R\bin\R.exe CMD build --keep-empty-dirs --no-resave-data RProtoBufLib ### ############################################################################## ############################################################################## * checking for file 'RProtoBufLib/DESCRIPTION' ... OK * preparing 'RProtoBufLib': * checking DESCRIPTION meta-information ... OK * cleaning src * running 'cleanup.win' * installing the package to build vignettes * creating vignettes ... OK * cleaning src * running 'cleanup.win' * checking for LF line-endings in source and make files and shell scripts * checking for empty or unneeded directories * building 'RProtoBufLib_2.11.0.tar.gz' Warning: file 'RProtoBufLib/cleanup' did not have execute permissions: corrected Warning: file 'RProtoBufLib/configure' did not have execute permissions: corrected Warning in utils::tar(filepath, pkgname, compression = compression, compression_level = 9L, : storing paths of more than 100 bytes is not portable: 'RProtoBufLib/windows/protobuf-3.8.0/include/google/protobuf/compiler/objectivec/objectivec_generator.h'