| Back to Mac ARM64 build report for BioC 3.16 |
|
This page was generated on 2023-04-19 11:01:49 -0400 (Wed, 19 Apr 2023).
| Hostname | OS | Arch (*) | R version | Installed pkgs |
|---|---|---|---|---|
| kjohnson | macOS 13.0 Ventura | arm64 | 4.2.2 (2022-10-31) -- "Innocent and Trusting" | 4256 |
| Click on any hostname to see more info about the system (e.g. compilers) (*) as reported by 'uname -p', except on Windows and Mac OS X | ||||
|
To the developers/maintainers of the graph package: Make sure to use the following settings in order to reproduce any error or warning you see on this page. |
| Package 855/2183 | Hostname | OS / Arch | INSTALL | BUILD | BUILD BIN | ||||||||
| graph 1.76.0 (landing page) Bioconductor Package Maintainer
| kjohnson | macOS 13.0 Ventura / arm64 | OK | OK | OK | ||||||||
| QUICK STATS | OS / Arch | INSTALL | BUILD | BUILD BIN | |||||||||||||
| kjohnson | macOS 13.0 Ventura / arm64 |
|
|
| |||||||||||||
| Package 1/89 | Hostname | OS / Arch | INSTALL | BUILD | BUILD BIN | ||||||||||||
| alpine 1.24.0 (landing page) Michael Love
| kjohnson | macOS 13.0 Ventura / arm64 | OK | OK | OK | ||||||||||||
| Package 2/89 | Hostname | OS / Arch | INSTALL | BUILD | BUILD BIN | ||||||||||||
| AnnotationHubData 1.28.0 (landing page) Bioconductor Package Maintainer
| kjohnson | macOS 13.0 Ventura / arm64 | OK | OK | OK | ||||||||||||
| Package 3/89 | Hostname | OS / Arch | INSTALL | BUILD | BUILD BIN | ||||||||||||
| apComplex 2.64.0 (landing page) Denise Scholtens
| kjohnson | macOS 13.0 Ventura / arm64 | OK | OK | OK | ||||||||||||
| Package 4/89 | Hostname | OS / Arch | INSTALL | BUILD | BUILD BIN | ||||||||||||
| BgeeDB 2.24.0 (landing page) Julien Wollbrett
| kjohnson | macOS 13.0 Ventura / arm64 | OK | OK | OK | ||||||||||||
| Package 5/89 | Hostname | OS / Arch | INSTALL | BUILD | BUILD BIN | ||||||||||||
| BiocCheck 1.34.3 (landing page) Marcel Ramos
| kjohnson | macOS 13.0 Ventura / arm64 | OK | OK | OK | ||||||||||||
| Package 6/89 | Hostname | OS / Arch | INSTALL | BUILD | BUILD BIN | ||||||||||||
| BiocFHIR 1.0.0 (landing page) Vincent Carey
| kjohnson | macOS 13.0 Ventura / arm64 | OK | OK | OK | ||||||||||||
| Package 7/89 | Hostname | OS / Arch | INSTALL | BUILD | BUILD BIN | ||||||||||||
| biocGraph 1.60.0 (landing page) Florian Hahne
| kjohnson | macOS 13.0 Ventura / arm64 | OK | OK | OK | ||||||||||||
| Package 8/89 | Hostname | OS / Arch | INSTALL | BUILD | BUILD BIN | ||||||||||||
| BiocOncoTK 1.18.0 (landing page) VJ Carey
| kjohnson | macOS 13.0 Ventura / arm64 | OK | OK | OK | ||||||||||||
| Package 9/89 | Hostname | OS / Arch | INSTALL | BUILD | BUILD BIN | ||||||||||||
| BiocPkgTools 1.16.1 (landing page) Sean Davis
| kjohnson | macOS 13.0 Ventura / arm64 | OK | OK | OK | ||||||||||||
| Package 10/89 | Hostname | OS / Arch | INSTALL | BUILD | BUILD BIN | ||||||||||||
| biocViews 1.66.3 (landing page) Bioconductor Package Maintainer
| kjohnson | macOS 13.0 Ventura / arm64 | OK | OK | OK | ||||||||||||
| Package 11/89 | Hostname | OS / Arch | INSTALL | BUILD | BUILD BIN | ||||||||||||
| BioMVCClass 1.66.0 (landing page) Elizabeth Whalen
| kjohnson | macOS 13.0 Ventura / arm64 | OK | OK | OK | ||||||||||||
| Package 12/89 | Hostname | OS / Arch | INSTALL | BUILD | BUILD BIN | ||||||||||||
| BioNet 1.58.0 (landing page) Marcus Dittrich
| kjohnson | macOS 13.0 Ventura / arm64 | OK | OK | OK | ||||||||||||
| Package 13/89 | Hostname | OS / Arch | INSTALL | BUILD | BUILD BIN | ||||||||||||
| BLMA 1.22.0 (landing page) Hung Nguyen
| kjohnson | macOS 13.0 Ventura / arm64 | OK | OK | OK | ||||||||||||
| Package 14/89 | Hostname | OS / Arch | INSTALL | BUILD | BUILD BIN | ||||||||||||
| bnem 1.6.0 (landing page) Martin Pirkl
| kjohnson | macOS 13.0 Ventura / arm64 | OK | OK | OK | ||||||||||||
| Package 15/89 | Hostname | OS / Arch | INSTALL | BUILD | BUILD BIN | ||||||||||||
| CAMERA 1.54.0 (landing page) Steffen Neumann
| kjohnson | macOS 13.0 Ventura / arm64 | OK | OK | OK | ||||||||||||
| Package 16/89 | Hostname | OS / Arch | INSTALL | BUILD | BUILD BIN | ||||||||||||
| Category 2.64.0 (landing page) Bioconductor Package Maintainer
| kjohnson | macOS 13.0 Ventura / arm64 | OK | OK | OK | ||||||||||||
| Package 17/89 | Hostname | OS / Arch | INSTALL | BUILD | BUILD BIN | ||||||||||||
| categoryCompare 1.42.0 (landing page) Robert M. Flight
| kjohnson | macOS 13.0 Ventura / arm64 | OK | OK | OK | ||||||||||||
| Package 18/89 | Hostname | OS / Arch | INSTALL | BUILD | BUILD BIN | ||||||||||||
| CellNOptR 1.44.0 (landing page) Attila Gabor
| kjohnson | macOS 13.0 Ventura / arm64 | OK | OK | OK | ||||||||||||
| Package 19/89 | Hostname | OS / Arch | INSTALL | BUILD | BUILD BIN | ||||||||||||
| chimeraviz 1.24.0 (landing page) Stian Lågstad
| kjohnson | macOS 13.0 Ventura / arm64 | OK | OK | OK | ||||||||||||
| Package 20/89 | Hostname | OS / Arch | INSTALL | BUILD | BUILD BIN | ||||||||||||
| ChIPpeakAnno 3.32.0 (landing page) Jianhong Ou
| kjohnson | macOS 13.0 Ventura / arm64 | OK | OK | OK | ||||||||||||
| Package 21/89 | Hostname | OS / Arch | INSTALL | BUILD | BUILD BIN | ||||||||||||
| CHRONOS 1.26.0 (landing page) Panos Balomenos
| kjohnson | macOS 13.0 Ventura / arm64 | OK | ERROR | skipped | ||||||||||||
| Package 22/89 | Hostname | OS / Arch | INSTALL | BUILD | BUILD BIN | ||||||||||||
| clipper 1.38.0 (landing page) Paolo Martini
| kjohnson | macOS 13.0 Ventura / arm64 | OK | OK | OK | ||||||||||||
| Package 23/89 | Hostname | OS / Arch | INSTALL | BUILD | BUILD BIN | ||||||||||||
| CNORfeeder 1.38.0 (landing page) Attila Gabor
| kjohnson | macOS 13.0 Ventura / arm64 | OK | OK | OK | ||||||||||||
| Package 24/89 | Hostname | OS / Arch | INSTALL | BUILD | BUILD BIN | ||||||||||||
| consICA 1.0.0 (landing page) Petr V. Nazarov
| kjohnson | macOS 13.0 Ventura / arm64 | OK | OK | OK | ||||||||||||
| Package 25/89 | Hostname | OS / Arch | INSTALL | BUILD | BUILD BIN | ||||||||||||
| CytoML 2.10.0 (landing page) Mike Jiang
| kjohnson | macOS 13.0 Ventura / arm64 | OK | OK | OK | ||||||||||||
| Package 26/89 | Hostname | OS / Arch | INSTALL | BUILD | BUILD BIN | ||||||||||||
| dce 1.6.0 (landing page) Kim Philipp Jablonski
| kjohnson | macOS 13.0 Ventura / arm64 | OK | OK | OK | ||||||||||||
| Package 27/89 | Hostname | OS / Arch | INSTALL | BUILD | BUILD BIN | ||||||||||||
| DEsubs 1.24.0 (landing page) Aristidis G. Vrahatis
| kjohnson | macOS 13.0 Ventura / arm64 | OK | OK | OK | ||||||||||||
| Package 28/89 | Hostname | OS / Arch | INSTALL | BUILD | BUILD BIN | ||||||||||||
| EnrichmentBrowser 2.28.2 (landing page) Ludwig Geistlinger
| kjohnson | macOS 13.0 Ventura / arm64 | OK | OK | OK | ||||||||||||
| Package 29/89 | Hostname | OS / Arch | INSTALL | BUILD | BUILD BIN | ||||||||||||
| epiNEM 1.22.0 (landing page) Martin Pirkl
| kjohnson | macOS 13.0 Ventura / arm64 | OK | OK | OK | ||||||||||||
| Package 30/89 | Hostname | OS / Arch | INSTALL | BUILD | BUILD BIN | ||||||||||||
| EventPointer 3.6.0 (landing page) Juan A. Ferrer-Bonsoms
| kjohnson | macOS 13.0 Ventura / arm64 | OK | OK | OK | ||||||||||||
| Package 31/89 | Hostname | OS / Arch | INSTALL | BUILD | BUILD BIN | ||||||||||||
| fgga 1.6.0 (landing page) Flavio Spetale
| kjohnson | macOS 13.0 Ventura / arm64 | OK | OK | OK | ||||||||||||
| Package 32/89 | Hostname | OS / Arch | INSTALL | BUILD | BUILD BIN | ||||||||||||
Justin Meskas
| kjohnson | macOS 13.0 Ventura / arm64 | ERROR | ERROR | skipped | ||||||||||||
| Package 33/89 | Hostname | OS / Arch | INSTALL | BUILD | BUILD BIN | ||||||||||||
| flowClust 3.36.1 (landing page) Greg Finak
| kjohnson | macOS 13.0 Ventura / arm64 | OK | OK | OK | ||||||||||||
| Package 34/89 | Hostname | OS / Arch | INSTALL | BUILD | BUILD BIN | ||||||||||||
| flowMerge 2.46.0 (landing page) Greg Finak
| kjohnson | macOS 13.0 Ventura / arm64 | OK | OK | OK | ||||||||||||
| Package 35/89 | Hostname | OS / Arch | INSTALL | BUILD | BUILD BIN | ||||||||||||
Josef Spidlen
| kjohnson | macOS 13.0 Ventura / arm64 | OK | ERROR | skipped | ||||||||||||
| Package 36/89 | Hostname | OS / Arch | INSTALL | BUILD | BUILD BIN | ||||||||||||
| flowWorkspace 4.10.1 (landing page) Greg Finak
| kjohnson | macOS 13.0 Ventura / arm64 | OK | OK | OK | ||||||||||||
| Package 37/89 | Hostname | OS / Arch | INSTALL | BUILD | BUILD BIN | ||||||||||||
| gage 2.48.0 (landing page) Weijun Luo
| kjohnson | macOS 13.0 Ventura / arm64 | OK | OK | OK | ||||||||||||
| Package 38/89 | Hostname | OS / Arch | INSTALL | BUILD | BUILD BIN | ||||||||||||
| gaggle 1.66.0 (landing page) Christopher Bare
| kjohnson | macOS 13.0 Ventura / arm64 | OK | OK | OK | ||||||||||||
| Package 39/89 | Hostname | OS / Arch | INSTALL | BUILD | BUILD BIN | ||||||||||||
| GAPGOM 1.14.0 (landing page) Rezvan Ehsani
| kjohnson | macOS 13.0 Ventura / arm64 | OK | ERROR | skipped | ||||||||||||
| Package 40/89 | Hostname | OS / Arch | INSTALL | BUILD | BUILD BIN | ||||||||||||
| GeneNetworkBuilder 1.40.0 (landing page) Jianhong Ou
| kjohnson | macOS 13.0 Ventura / arm64 | OK | OK | OK | ||||||||||||
| Package 41/89 | Hostname | OS / Arch | INSTALL | BUILD | BUILD BIN | ||||||||||||
| GenomicInteractionNodes 1.2.0 (landing page) Jianhong Ou
| kjohnson | macOS 13.0 Ventura / arm64 | OK | OK | OK | ||||||||||||
| Package 42/89 | Hostname | OS / Arch | INSTALL | BUILD | BUILD BIN | ||||||||||||
| GOSim 1.36.0 (landing page) Holger Froehlich
| kjohnson | macOS 13.0 Ventura / arm64 | OK | OK | OK | ||||||||||||
| Package 43/89 | Hostname | OS / Arch | INSTALL | BUILD | BUILD BIN | ||||||||||||
| GOstats 2.64.0 (landing page) Bioconductor Package Maintainer
| kjohnson | macOS 13.0 Ventura / arm64 | OK | OK | OK | ||||||||||||
| Package 44/89 | Hostname | OS / Arch | INSTALL | BUILD | BUILD BIN | ||||||||||||
| GraphAT 1.70.0 (landing page) Thomas LaFramboise
| kjohnson | macOS 13.0 Ventura / arm64 | OK | OK | OK | ||||||||||||
| Package 45/89 | Hostname | OS / Arch | INSTALL | BUILD | BUILD BIN | ||||||||||||
| graphite 1.44.0 (landing page) Gabriele Sales
| kjohnson | macOS 13.0 Ventura / arm64 | OK | OK | OK | ||||||||||||
| Package 46/89 | Hostname | OS / Arch | INSTALL | BUILD | BUILD BIN | ||||||||||||
| GRridge 1.22.0 (landing page) Mark A. van de Wiel
| kjohnson | macOS 13.0 Ventura / arm64 | OK | OK | OK | ||||||||||||
| Package 47/89 | Hostname | OS / Arch | INSTALL | BUILD | BUILD BIN | ||||||||||||
| GSEABase 1.60.0 (landing page) Bioconductor Package Maintainer
| kjohnson | macOS 13.0 Ventura / arm64 | OK | OK | OK | ||||||||||||
| Package 48/89 | Hostname | OS / Arch | INSTALL | BUILD | BUILD BIN | ||||||||||||
| hyperdraw 1.50.0 (landing page) Paul Murrell
| kjohnson | macOS 13.0 Ventura / arm64 | OK | OK | OK | ||||||||||||
| Package 49/89 | Hostname | OS / Arch | INSTALL | BUILD | BUILD BIN | ||||||||||||
| hypergraph 1.70.0 (landing page) Bioconductor Package Maintainer
| kjohnson | macOS 13.0 Ventura / arm64 | OK | OK | OK | ||||||||||||
| Package 50/89 | Hostname | OS / Arch | INSTALL | BUILD | BUILD BIN | ||||||||||||
| KEGGgraph 1.58.3 (landing page) Jitao David Zhang
| kjohnson | macOS 13.0 Ventura / arm64 | OK | OK | OK | ||||||||||||
| Package 51/89 | Hostname | OS / Arch | INSTALL | BUILD | BUILD BIN | ||||||||||||
| keggorthology 2.50.0 (landing page) VJ Carey
| kjohnson | macOS 13.0 Ventura / arm64 | OK | OK | OK | ||||||||||||
| Package 52/89 | Hostname | OS / Arch | INSTALL | BUILD | BUILD BIN | ||||||||||||
| maigesPack 1.62.0 (landing page) Gustavo H. Esteves
| kjohnson | macOS 13.0 Ventura / arm64 | OK | OK | OK | ||||||||||||
| Package 53/89 | Hostname | OS / Arch | INSTALL | BUILD | BUILD BIN | ||||||||||||
| MIGSA 1.22.0 (landing page) Juan C. Rodriguez
| kjohnson | macOS 13.0 Ventura / arm64 | OK | ERROR | skipped | ||||||||||||
| Package 54/89 | Hostname | OS / Arch | INSTALL | BUILD | BUILD BIN | ||||||||||||
| MineICA 1.38.0 (landing page) Anne Biton
| kjohnson | macOS 13.0 Ventura / arm64 | OK | OK | OK | ||||||||||||
| Package 55/89 | Hostname | OS / Arch | INSTALL | BUILD | BUILD BIN | ||||||||||||
| mirIntegrator 1.28.0 (landing page) Diana Diaz
| kjohnson | macOS 13.0 Ventura / arm64 | OK | OK | OK | ||||||||||||
| Package 56/89 | Hostname | OS / Arch | INSTALL | BUILD | BUILD BIN | ||||||||||||
| mnem 1.14.0 (landing page) Martin Pirkl
| kjohnson | macOS 13.0 Ventura / arm64 | OK | OK | OK | ||||||||||||
| Package 57/89 | Hostname | OS / Arch | INSTALL | BUILD | BUILD BIN | ||||||||||||
| NeighborNet 1.16.0 (landing page) Sahar Ansari
| kjohnson | macOS 13.0 Ventura / arm64 | OK | OK | OK | ||||||||||||
| Package 58/89 | Hostname | OS / Arch | INSTALL | BUILD | BUILD BIN | ||||||||||||
| netresponse 1.58.0 (landing page) Leo Lahti
| kjohnson | macOS 13.0 Ventura / arm64 | OK | OK | OK | ||||||||||||
| Package 59/89 | Hostname | OS / Arch | INSTALL | BUILD | BUILD BIN | ||||||||||||
| OncoSimulR 4.0.2 (landing page) Ramon Diaz-Uriarte
| kjohnson | macOS 13.0 Ventura / arm64 | OK | ERROR | skipped | ||||||||||||
| Package 60/89 | Hostname | OS / Arch | INSTALL | BUILD | BUILD BIN | ||||||||||||
| ontoProc 1.20.0 (landing page) Vincent Carey
| kjohnson | macOS 13.0 Ventura / arm64 | OK | OK | OK | ||||||||||||
| Package 61/89 | Hostname | OS / Arch | INSTALL | BUILD | BUILD BIN | ||||||||||||
| openCyto 2.10.1 (landing page) Mike Jiang
| kjohnson | macOS 13.0 Ventura / arm64 | OK | ERROR | skipped | ||||||||||||
| Package 62/89 | Hostname | OS / Arch | INSTALL | BUILD | BUILD BIN | ||||||||||||
| oposSOM 2.16.0 (landing page) Henry Loeffler-Wirth
| kjohnson | macOS 13.0 Ventura / arm64 | OK | OK | OK | ||||||||||||
| Package 63/89 | Hostname | OS / Arch | INSTALL | BUILD | BUILD BIN | ||||||||||||
| OrganismDbi 1.40.0 (landing page) Bioconductor Package Maintainer
| kjohnson | macOS 13.0 Ventura / arm64 | OK | OK | OK | ||||||||||||
| Package 64/89 | Hostname | OS / Arch | INSTALL | BUILD | BUILD BIN | ||||||||||||
| pathRender 1.66.0 (landing page) Vince Carey
| kjohnson | macOS 13.0 Ventura / arm64 | OK | OK | OK | ||||||||||||
| Package 65/89 | Hostname | OS / Arch | INSTALL | BUILD | BUILD BIN | ||||||||||||
| pathview 1.38.0 (landing page) Weijun Luo
| kjohnson | macOS 13.0 Ventura / arm64 | OK | OK | OK | ||||||||||||
| Package 66/89 | Hostname | OS / Arch | INSTALL | BUILD | BUILD BIN | ||||||||||||
| PFP 1.6.0 (landing page) XC Zhang
| kjohnson | macOS 13.0 Ventura / arm64 | OK | OK | OK | ||||||||||||
| Package 67/89 | Hostname | OS / Arch | INSTALL | BUILD | BUILD BIN | ||||||||||||
| PhenStat 2.34.0 (landing page) Hamed Haselimashhadi
| kjohnson | macOS 13.0 Ventura / arm64 | OK | OK | OK | ||||||||||||
| Package 68/89 | Hostname | OS / Arch | INSTALL | BUILD | BUILD BIN | ||||||||||||
| Pigengene 1.24.0 (landing page) Habil Zare
| kjohnson | macOS 13.0 Ventura / arm64 | OK | OK | OK | ||||||||||||
| Package 69/89 | Hostname | OS / Arch | INSTALL | BUILD | BUILD BIN | ||||||||||||
| pkgDepTools 1.64.0 (landing page) Bioconductor Package Maintainer
| kjohnson | macOS 13.0 Ventura / arm64 | OK | OK | OK | ||||||||||||
| Package 70/89 | Hostname | OS / Arch | INSTALL | BUILD | BUILD BIN | ||||||||||||
Margaret Linan
| kjohnson | macOS 13.0 Ventura / arm64 | OK | ERROR | skipped | ||||||||||||
| Package 71/89 | Hostname | OS / Arch | INSTALL | BUILD | BUILD BIN | ||||||||||||
| pwOmics 1.30.0 (landing page) Maren Sitte
| kjohnson | macOS 13.0 Ventura / arm64 | OK | OK | OK | ||||||||||||
| Package 72/89 | Hostname | OS / Arch | INSTALL | BUILD | BUILD BIN | ||||||||||||
| qpgraph 2.32.2 (landing page) Robert Castelo
| kjohnson | macOS 13.0 Ventura / arm64 | OK | OK | OK | ||||||||||||
| Package 73/89 | Hostname | OS / Arch | INSTALL | BUILD | BUILD BIN | ||||||||||||
| RbcBook1 1.66.0 (landing page) Vince Carey
| kjohnson | macOS 13.0 Ventura / arm64 | OK | OK | OK | ||||||||||||
| Package 74/89 | Hostname | OS / Arch | INSTALL | BUILD | BUILD BIN | ||||||||||||
| RBGL 1.74.0 (landing page) Bioconductor Package Maintainer
| kjohnson | macOS 13.0 Ventura / arm64 | OK | OK | OK | ||||||||||||
| Package 75/89 | Hostname | OS / Arch | INSTALL | BUILD | BUILD BIN | ||||||||||||
| RBioinf 1.58.0 (landing page) Robert Gentleman
| kjohnson | macOS 13.0 Ventura / arm64 | OK | OK | OK | ||||||||||||
| Package 76/89 | Hostname | OS / Arch | INSTALL | BUILD | BUILD BIN | ||||||||||||
| RCy3 2.18.0 (landing page) Alex Pico
| kjohnson | macOS 13.0 Ventura / arm64 | OK | OK | OK | ||||||||||||
| Package 77/89 | Hostname | OS / Arch | INSTALL | BUILD | BUILD BIN | ||||||||||||
| RCyjs 2.20.0 (landing page) Paul Shannon
| kjohnson | macOS 13.0 Ventura / arm64 | OK | OK | OK | ||||||||||||
| Package 78/89 | Hostname | OS / Arch | INSTALL | BUILD | BUILD BIN | ||||||||||||
| RGraph2js 1.26.0 (landing page) Stephane Cano
| kjohnson | macOS 13.0 Ventura / arm64 | OK | OK | OK | ||||||||||||
| Package 79/89 | Hostname | OS / Arch | INSTALL | BUILD | BUILD BIN | ||||||||||||
| Rgraphviz 2.42.0 (landing page) Kasper Daniel Hansen
| kjohnson | macOS 13.0 Ventura / arm64 | OK | OK | OK | ||||||||||||
| Package 80/89 | Hostname | OS / Arch | INSTALL | BUILD | BUILD BIN | ||||||||||||
| ROntoTools 2.26.0 (landing page) Calin Voichita
| kjohnson | macOS 13.0 Ventura / arm64 | OK | OK | OK | ||||||||||||
| Package 81/89 | Hostname | OS / Arch | INSTALL | BUILD | BUILD BIN | ||||||||||||
rsbml (landing page)
| kjohnson | macOS 13.0 Ventura / arm64 | ... NOT SUPPORTED ... | ||||||||||||||
| Package 82/89 | Hostname | OS / Arch | INSTALL | BUILD | BUILD BIN | ||||||||||||
| Rtreemix 1.60.0 (landing page) Jasmina Bogojeska
| kjohnson | macOS 13.0 Ventura / arm64 | OK | OK | OK | ||||||||||||
| Package 83/89 | Hostname | OS / Arch | INSTALL | BUILD | BUILD BIN | ||||||||||||
| SplicingGraphs 1.38.0 (landing page) H. Pagès
| kjohnson | macOS 13.0 Ventura / arm64 | OK | OK | OK | ||||||||||||
| Package 84/89 | Hostname | OS / Arch | INSTALL | BUILD | BUILD BIN | ||||||||||||
| SRAdb 1.60.0 (landing page) Jack Zhu
| kjohnson | macOS 13.0 Ventura / arm64 | OK | OK | OK | ||||||||||||
| Package 85/89 | Hostname | OS / Arch | INSTALL | BUILD | BUILD BIN | ||||||||||||
| Streamer 1.44.0 (landing page) Martin Morgan
| kjohnson | macOS 13.0 Ventura / arm64 | OK | OK | OK | ||||||||||||
| Package 86/89 | Hostname | OS / Arch | INSTALL | BUILD | BUILD BIN | ||||||||||||
| topGO 2.50.0 (landing page) Adrian Alexa
| kjohnson | macOS 13.0 Ventura / arm64 | OK | OK | OK | ||||||||||||
| Package 87/89 | Hostname | OS / Arch | INSTALL | BUILD | BUILD BIN | ||||||||||||
| trackViewer 1.34.0 (landing page) Jianhong Ou
| kjohnson | macOS 13.0 Ventura / arm64 | OK | OK | OK | ||||||||||||
| Package 88/89 | Hostname | OS / Arch | INSTALL | BUILD | BUILD BIN | ||||||||||||
| VariantFiltering 1.34.0 (landing page) Robert Castelo
| kjohnson | macOS 13.0 Ventura / arm64 | OK | ERROR | skipped | ||||||||||||
| Package 89/89 | Hostname | OS / Arch | INSTALL | BUILD | BUILD BIN | ||||||||||||
| vtpnet 0.38.0 (landing page) VJ Carey
| kjohnson | macOS 13.0 Ventura / arm64 | OK | OK | OK | ||||||||||||