| Back to Mac ARM64 build report for BioC 3.16 |
|
This page was generated on 2023-04-19 11:01:57 -0400 (Wed, 19 Apr 2023).
| Hostname | OS | Arch (*) | R version | Installed pkgs |
|---|---|---|---|---|
| kjohnson | macOS 13.0 Ventura | arm64 | 4.2.2 (2022-10-31) -- "Innocent and Trusting" | 4256 |
| Click on any hostname to see more info about the system (e.g. compilers) (*) as reported by 'uname -p', except on Windows and Mac OS X | ||||
|
To the developers/maintainers of the PhenStat package: Make sure to use the following settings in order to reproduce any error or warning you see on this page. |
| Package 1475/2183 | Hostname | OS / Arch | INSTALL | BUILD | BUILD BIN | ||||||||
| PhenStat 2.34.0 (landing page) Hamed Haselimashhadi
| kjohnson | macOS 13.0 Ventura / arm64 | OK | OK | OK | ||||||||
| Package: PhenStat |
| Version: 2.34.0 |
| Command: /Library/Frameworks/R.framework/Resources/bin/R CMD build --keep-empty-dirs --no-resave-data PhenStat |
| StartedAt: 2023-04-17 21:38:20 -0400 (Mon, 17 Apr 2023) |
| EndedAt: 2023-04-17 21:38:58 -0400 (Mon, 17 Apr 2023) |
| EllapsedTime: 38.5 seconds |
| RetCode: 0 |
| Status: OK |
| PackageFile: PhenStat_2.34.0.tar.gz |
| PackageFileSize: 681.9 KiB |
##############################################################################
##############################################################################
###
### Running command:
###
### /Library/Frameworks/R.framework/Resources/bin/R CMD build --keep-empty-dirs --no-resave-data PhenStat
###
##############################################################################
##############################################################################
* checking for file ‘PhenStat/DESCRIPTION’ ... OK
* preparing ‘PhenStat’:
* checking DESCRIPTION meta-information ... OK
* installing the package to build vignettes
* creating vignettes ... OK
Warning: ‘inst/doc’ files
‘PhenStat.Rnw’, ‘PhenStat.pdf’, ‘PhenStat.R’
ignored as vignettes have been rebuilt.
Run R CMD build with --no-build-vignettes to prevent rebuilding.
* checking for LF line-endings in source and make files and shell scripts
* checking for empty or unneeded directories
* building ‘PhenStat_2.34.0.tar.gz’