| Back to Mac ARM64 build report for BioC 3.16 |
|
This page was generated on 2023-04-19 11:01:57 -0400 (Wed, 19 Apr 2023).
| Hostname | OS | Arch (*) | R version | Installed pkgs |
|---|---|---|---|---|
| kjohnson | macOS 13.0 Ventura | arm64 | 4.2.2 (2022-10-31) -- "Innocent and Trusting" | 4256 |
| Click on any hostname to see more info about the system (e.g. compilers) (*) as reported by 'uname -p', except on Windows and Mac OS X | ||||
|
To the developers/maintainers of the RCyjs package: Make sure to use the following settings in order to reproduce any error or warning you see on this page. |
| Package 1621/2183 | Hostname | OS / Arch | INSTALL | BUILD | BUILD BIN | ||||||||
| RCyjs 2.20.0 (landing page) Paul Shannon
| kjohnson | macOS 13.0 Ventura / arm64 | OK | OK | OK | ||||||||
| Package: RCyjs |
| Version: 2.20.0 |
| Command: /Library/Frameworks/R.framework/Resources/bin/R CMD build --keep-empty-dirs --no-resave-data RCyjs |
| StartedAt: 2023-04-18 00:17:43 -0400 (Tue, 18 Apr 2023) |
| EndedAt: 2023-04-18 00:17:57 -0400 (Tue, 18 Apr 2023) |
| EllapsedTime: 14.1 seconds |
| RetCode: 0 |
| Status: OK |
| PackageFile: RCyjs_2.20.0.tar.gz |
| PackageFileSize: 1.084 MiB |
############################################################################## ############################################################################## ### ### Running command: ### ### /Library/Frameworks/R.framework/Resources/bin/R CMD build --keep-empty-dirs --no-resave-data RCyjs ### ############################################################################## ############################################################################## * checking for file ‘RCyjs/DESCRIPTION’ ... OK * preparing ‘RCyjs’: * checking DESCRIPTION meta-information ... OK * installing the package to build vignettes * creating vignettes ... OK * checking for LF line-endings in source and make files and shell scripts * checking for empty or unneeded directories WARNING: directory ‘RCyjs/inst/demo’ is empty * building ‘RCyjs_2.20.0.tar.gz’