| Back to Mac ARM64 build report for BioC 3.16 | 
  | 
This page was generated on 2023-04-19 11:01:51 -0400 (Wed, 19 Apr 2023).
| Hostname | OS | Arch (*) | R version | Installed pkgs | 
|---|---|---|---|---|
| kjohnson | macOS 13.0 Ventura | arm64 | 4.2.2 (2022-10-31) -- "Innocent and Trusting" | 4256 | 
| Click on any hostname to see more info about the system (e.g. compilers) (*) as reported by 'uname -p', except on Windows and Mac OS X | ||||
| 
To the developers/maintainers of the Rhtslib package: Make sure to use the following settings in order to reproduce any error or warning you see on this page.  | 
| Package 1675/2183 | Hostname | OS / Arch | INSTALL | BUILD | BUILD BIN | ||||||||
| Rhtslib 2.0.0  (landing page) Hervé Pagès 
  | kjohnson | macOS 13.0 Ventura / arm64 | OK | OK | OK | ||||||||
| QUICK STATS | OS / Arch | INSTALL | BUILD | BUILD BIN | |||||||||||||
| kjohnson | macOS 13.0 Ventura / arm64 | 
  | 
  | 
  | |||||||||||||
| Package 1/23 | Hostname | OS / Arch | INSTALL | BUILD | BUILD BIN | ||||||||||||
| ArrayExpressHTS 1.48.0  (landing page) Angela Goncalves 
  | kjohnson | macOS 13.0 Ventura / arm64 | ERROR | ERROR | skipped | ||||||||||||
| Package 2/23 | Hostname | OS / Arch | INSTALL | BUILD | BUILD BIN | ||||||||||||
| bamsignals 1.30.0  (landing page) Johannes Helmuth 
  | kjohnson | macOS 13.0 Ventura / arm64 | OK | OK | OK | ||||||||||||
| Package 3/23 | Hostname | OS / Arch | INSTALL | BUILD | BUILD BIN | ||||||||||||
Antti Honkela 
  | kjohnson | macOS 13.0 Ventura / arm64 | ERROR | ERROR | skipped | ||||||||||||
| Package 4/23 | Hostname | OS / Arch | INSTALL | BUILD | BUILD BIN | ||||||||||||
| csaw 1.32.0  (landing page) Aaron Lun 
  | kjohnson | macOS 13.0 Ventura / arm64 | OK | OK | OK | ||||||||||||
| Package 5/23 | Hostname | OS / Arch | INSTALL | BUILD | BUILD BIN | ||||||||||||
| deepSNV 1.44.0  (landing page) Moritz Gerstung 
  | kjohnson | macOS 13.0 Ventura / arm64 | OK | OK | OK | ||||||||||||
| Package 6/23 | Hostname | OS / Arch | INSTALL | BUILD | BUILD BIN | ||||||||||||
| DiffBind 3.8.4  (landing page) Rory Stark 
  | kjohnson | macOS 13.0 Ventura / arm64 | OK | OK | OK | ||||||||||||
| Package 7/23 | Hostname | OS / Arch | INSTALL | BUILD | BUILD BIN | ||||||||||||
| diffHic 1.30.0  (landing page) Aaron Lun 
  | kjohnson | macOS 13.0 Ventura / arm64 | OK | OK | OK | ||||||||||||
| Package 8/23 | Hostname | OS / Arch | INSTALL | BUILD | BUILD BIN | ||||||||||||
| epialleleR 1.6.1  (landing page) Oleksii Nikolaienko 
  | kjohnson | macOS 13.0 Ventura / arm64 | OK | OK | OK | ||||||||||||
| Package 9/23 | Hostname | OS / Arch | INSTALL | BUILD | BUILD BIN | ||||||||||||
| FLAMES 1.4.3  (landing page) Oliver Voogd 
  | kjohnson | macOS 13.0 Ventura / arm64 | OK | OK | OK | ||||||||||||
| Package 10/23 | Hostname | OS / Arch | INSTALL | BUILD | BUILD BIN | ||||||||||||
| h5vc 2.32.0  (landing page) Paul Theodor Pyl 
  | kjohnson | macOS 13.0 Ventura / arm64 | OK | OK | OK | ||||||||||||
| Package 11/23 | Hostname | OS / Arch | INSTALL | BUILD | BUILD BIN | ||||||||||||
| maftools 2.14.0  (landing page) Anand Mayakonda 
  | kjohnson | macOS 13.0 Ventura / arm64 | OK | OK | OK | ||||||||||||
| Package 12/23 | Hostname | OS / Arch | INSTALL | BUILD | BUILD BIN | ||||||||||||
| methylKit 1.24.0  (landing page) Altuna Akalin 
  | kjohnson | macOS 13.0 Ventura / arm64 | OK | OK | OK | ||||||||||||
| Package 13/23 | Hostname | OS / Arch | INSTALL | BUILD | BUILD BIN | ||||||||||||
| mitoClone2 1.4.0  (landing page) Benjamin Story 
  | kjohnson | macOS 13.0 Ventura / arm64 | OK | OK | OK | ||||||||||||
| Package 14/23 | Hostname | OS / Arch | INSTALL | BUILD | BUILD BIN | ||||||||||||
| podkat 1.30.0  (landing page) Ulrich Bodenhofer 
  | kjohnson | macOS 13.0 Ventura / arm64 | OK | OK | OK | ||||||||||||
| Package 15/23 | Hostname | OS / Arch | INSTALL | BUILD | BUILD BIN | ||||||||||||
| qrqc 1.52.0  (landing page) Vince Buffalo 
  | kjohnson | macOS 13.0 Ventura / arm64 | OK | OK | OK | ||||||||||||
| Package 16/23 | Hostname | OS / Arch | INSTALL | BUILD | BUILD BIN | ||||||||||||
| QuasR 1.38.0  (landing page) Michael Stadler 
  | kjohnson | macOS 13.0 Ventura / arm64 | OK | OK | OK | ||||||||||||
| Package 17/23 | Hostname | OS / Arch | INSTALL | BUILD | BUILD BIN | ||||||||||||
| Rfastp 1.8.0  (landing page) Thomas Carroll 
  | kjohnson | macOS 13.0 Ventura / arm64 | OK | OK | OK | ||||||||||||
| Package 18/23 | Hostname | OS / Arch | INSTALL | BUILD | BUILD BIN | ||||||||||||
| Rsamtools 2.14.0  (landing page) Bioconductor Package Maintainer 
  | kjohnson | macOS 13.0 Ventura / arm64 | OK | OK | OK | ||||||||||||
| Package 19/23 | Hostname | OS / Arch | INSTALL | BUILD | BUILD BIN | ||||||||||||
| scPipe 1.20.6  (landing page) Shian Su 
  | kjohnson | macOS 13.0 Ventura / arm64 | OK | OK | OK | ||||||||||||
| Package 20/23 | Hostname | OS / Arch | INSTALL | BUILD | BUILD BIN | ||||||||||||
| seqbias 1.46.0  (landing page) Daniel Jones 
  | kjohnson | macOS 13.0 Ventura / arm64 | ERROR | ERROR | skipped | ||||||||||||
| Package 21/23 | Hostname | OS / Arch | INSTALL | BUILD | BUILD BIN | ||||||||||||
| ShortRead 1.56.1  (landing page) Bioconductor Package Maintainer 
  | kjohnson | macOS 13.0 Ventura / arm64 | OK | OK | OK | ||||||||||||
| Package 22/23 | Hostname | OS / Arch | INSTALL | BUILD | BUILD BIN | ||||||||||||
| TransView 1.42.0  (landing page) Julius Muller 
  | kjohnson | macOS 13.0 Ventura / arm64 | OK | OK | OK | ||||||||||||
| Package 23/23 | Hostname | OS / Arch | INSTALL | BUILD | BUILD BIN | ||||||||||||
| VariantAnnotation 1.44.1  (landing page) Bioconductor Package Maintainer 
  | kjohnson | macOS 13.0 Ventura / arm64 | OK | OK | OK | ||||||||||||