| Back to Mac ARM64 build report for BioC 3.16 |
|
This page was generated on 2023-04-19 11:01:55 -0400 (Wed, 19 Apr 2023).
| Hostname | OS | Arch (*) | R version | Installed pkgs |
|---|---|---|---|---|
| kjohnson | macOS 13.0 Ventura | arm64 | 4.2.2 (2022-10-31) -- "Innocent and Trusting" | 4256 |
| Click on any hostname to see more info about the system (e.g. compilers) (*) as reported by 'uname -p', except on Windows and Mac OS X | ||||
|
To the developers/maintainers of the maftools package: Make sure to use the following settings in order to reproduce any error or warning you see on this page. |
| Package 1080/2183 | Hostname | OS / Arch | INSTALL | BUILD | BUILD BIN | ||||||||
| maftools 2.14.0 (landing page) Anand Mayakonda
| kjohnson | macOS 13.0 Ventura / arm64 | OK | OK | OK | ||||||||
| Package: maftools |
| Version: 2.14.0 |
| Command: rm -rf maftools.buildbin-libdir && mkdir maftools.buildbin-libdir && /Users/biocbuild/BBS/utils/build-universal.sh maftools_2.14.0.tar.gz /Library/Frameworks/R.framework/Resources/bin/R maftools.buildbin-libdir |
| StartedAt: 2023-04-18 16:54:04 -0400 (Tue, 18 Apr 2023) |
| EndedAt: 2023-04-18 16:54:53 -0400 (Tue, 18 Apr 2023) |
| EllapsedTime: 49.4 seconds |
| RetCode: 0 |
| Status: OK |
| PackageFile: maftools_2.14.0.tgz |
| PackageFileSize: 11 MiB |
##############################################################################
##############################################################################
###
### Running command:
###
### rm -rf maftools.buildbin-libdir && mkdir maftools.buildbin-libdir && /Users/biocbuild/BBS/utils/build-universal.sh maftools_2.14.0.tar.gz /Library/Frameworks/R.framework/Resources/bin/R maftools.buildbin-libdir
###
##############################################################################
##############################################################################
>>>>>>>
>>>>>>> INSTALLATION WITH 'R CMD INSTALL --preclean --no-multiarch --library=maftools.buildbin-libdir maftools_2.14.0.tar.gz'
>>>>>>>
* installing *source* package ‘maftools’ ...
** using staged installation
** libs
clang -arch arm64 -I"/Library/Frameworks/R.framework/Resources/include" -DNDEBUG -D_FILE_OFFSET_BITS=64 -I'/Library/Frameworks/R.framework/Versions/4.2-arm64/Resources/library/Rhtslib/include' -I'/Library/Frameworks/R.framework/Versions/4.2-arm64/Resources/library/zlibbioc/include' -I/opt/R/arm64/include -fPIC -falign-functions=64 -Wall -g -O2 -c ntcounts.c -o ntcounts.o
clang -arch arm64 -I"/Library/Frameworks/R.framework/Resources/include" -DNDEBUG -D_FILE_OFFSET_BITS=64 -I'/Library/Frameworks/R.framework/Versions/4.2-arm64/Resources/library/Rhtslib/include' -I'/Library/Frameworks/R.framework/Versions/4.2-arm64/Resources/library/zlibbioc/include' -I/opt/R/arm64/include -fPIC -falign-functions=64 -Wall -g -O2 -c snpcounts.c -o snpcounts.o
snpcounts.c:56:26: warning: passing 'const char *' to parameter of type 'char *' discards qualifiers [-Wincompatible-pointer-types-discards-qualifiers]
int nloci = countlines(bedfile);
^~~~~~~
snpcounts.c:13:22: note: passing argument to parameter 'filename' here
int countlines(char *filename){
^
snpcounts.c:56:7: warning: unused variable 'nloci' [-Wunused-variable]
int nloci = countlines(bedfile);
^
2 warnings generated.
clang -arch arm64 -I"/Library/Frameworks/R.framework/Resources/include" -DNDEBUG -D_FILE_OFFSET_BITS=64 -I'/Library/Frameworks/R.framework/Versions/4.2-arm64/Resources/library/Rhtslib/include' -I'/Library/Frameworks/R.framework/Versions/4.2-arm64/Resources/library/zlibbioc/include' -I/opt/R/arm64/include -fPIC -falign-functions=64 -Wall -g -O2 -c somaticfreq.c -o somaticfreq.o
clang -arch arm64 -dynamiclib -Wl,-headerpad_max_install_names -undefined dynamic_lookup -single_module -multiply_defined suppress -L/Library/Frameworks/R.framework/Resources/lib -L/opt/R/arm64/lib -o maftools.so ntcounts.o snpcounts.o somaticfreq.o /Library/Frameworks/R.framework/Versions/4.2-arm64/Resources/library/Rhtslib/usrlib/libhts.a -lcurl -F/Library/Frameworks/R.framework/.. -framework R -Wl,-framework -Wl,CoreFoundation
ld: warning: -undefined dynamic_lookup may not work with chained fixups
installing to /Volumes/External/bbs-3.16-bioc-m1/meat/maftools.buildbin-libdir/00LOCK-maftools/00new/maftools/libs
** R
** inst
** byte-compile and prepare package for lazy loading
** help
*** installing help indices
** building package indices
** installing vignettes
** testing if installed package can be loaded from temporary location
** checking absolute paths in shared objects and dynamic libraries
** testing if installed package can be loaded from final location
** testing if installed package keeps a record of temporary installation path
* DONE (maftools)
>>>>>>>
>>>>>>> FIXING LINKS FOR maftools.buildbin-libdir/maftools/libs/maftools.so
>>>>>>>
install_name_tool -change "/opt/R/arm64/lib/libgcc_s.1.1.dylib" "/Library/Frameworks/R.framework/Versions/4.2-arm64/Resources/lib/libgcc_s.1.1.dylib" "maftools.buildbin-libdir/maftools/libs/maftools.so"
install_name_tool -change "/opt/R/arm64/lib/libgfortran.5.dylib" "/Library/Frameworks/R.framework/Versions/4.2-arm64/Resources/lib/libgfortran.5.dylib" "maftools.buildbin-libdir/maftools/libs/maftools.so"
install_name_tool -change "/opt/R/arm64/lib/libquadmath.0.dylib" "/Library/Frameworks/R.framework/Versions/4.2-arm64/Resources/lib/libquadmath.0.dylib" "maftools.buildbin-libdir/maftools/libs/maftools.so"