| Back to Mac ARM64 build report for BioC 3.16 |
|
This page was generated on 2023-04-19 11:01:53 -0400 (Wed, 19 Apr 2023).
| Hostname | OS | Arch (*) | R version | Installed pkgs |
|---|---|---|---|---|
| kjohnson | macOS 13.0 Ventura | arm64 | 4.2.2 (2022-10-31) -- "Innocent and Trusting" | 4256 |
| Click on any hostname to see more info about the system (e.g. compilers) (*) as reported by 'uname -p', except on Windows and Mac OS X | ||||
|
To the developers/maintainers of the ArrayExpressHTS package: Make sure to use the following settings in order to reproduce any error or warning you see on this page. |
| Package 76/2183 | Hostname | OS / Arch | INSTALL | BUILD | BUILD BIN | ||||||||
| ArrayExpressHTS 1.48.0 (landing page) Angela Goncalves
| kjohnson | macOS 13.0 Ventura / arm64 | ERROR | ERROR | skipped | ||||||||
| Package: ArrayExpressHTS |
| Version: 1.48.0 |
| Command: /Library/Frameworks/R.framework/Resources/bin/R CMD INSTALL ArrayExpressHTS |
| StartedAt: 2023-04-16 16:15:23 -0400 (Sun, 16 Apr 2023) |
| EndedAt: 2023-04-16 16:15:25 -0400 (Sun, 16 Apr 2023) |
| EllapsedTime: 1.5 seconds |
| RetCode: 1 |
| Status: ERROR |
##############################################################################
##############################################################################
###
### Running command:
###
### /Library/Frameworks/R.framework/Resources/bin/R CMD INSTALL ArrayExpressHTS
###
##############################################################################
##############################################################################
* installing to library ‘/Library/Frameworks/R.framework/Versions/4.2-arm64/Resources/library’
* installing *source* package ‘ArrayExpressHTS’ ...
** using staged installation
** libs
clang -arch arm64 -I"/Library/Frameworks/R.framework/Resources/include" -DNDEBUG -D_FILE_OFFSET_BITS=64 -I'/Library/Frameworks/R.framework/Versions/4.2-arm64/Resources/library/Rhtslib/include' -I/opt/R/arm64/include -fPIC -falign-functions=64 -Wall -g -O2 -c addXS.c -o addXS.o
addXS.c:42:5: error: implicit declaration of function 'Rprintf' is invalid in C99 [-Werror,-Wimplicit-function-declaration]
Rprintf("What?\n");
^
1 error generated.
make: *** [addXS.o] Error 1
ERROR: compilation failed for package ‘ArrayExpressHTS’
* removing ‘/Library/Frameworks/R.framework/Versions/4.2-arm64/Resources/library/ArrayExpressHTS’