| Back to Mac ARM64 build report for BioC 3.16 |
|
This page was generated on 2023-04-19 11:01:48 -0400 (Wed, 19 Apr 2023).
| Hostname | OS | Arch (*) | R version | Installed pkgs |
|---|---|---|---|---|
| kjohnson | macOS 13.0 Ventura | arm64 | 4.2.2 (2022-10-31) -- "Innocent and Trusting" | 4256 |
| Click on any hostname to see more info about the system (e.g. compilers) (*) as reported by 'uname -p', except on Windows and Mac OS X | ||||
|
To the developers/maintainers of the ComplexHeatmap package: Make sure to use the following settings in order to reproduce any error or warning you see on this page. |
| Package 395/2183 | Hostname | OS / Arch | INSTALL | BUILD | BUILD BIN | ||||||||
| ComplexHeatmap 2.14.0 (landing page) Zuguang Gu
| kjohnson | macOS 13.0 Ventura / arm64 | OK | OK | OK | ||||||||
| QUICK STATS | OS / Arch | INSTALL | BUILD | BUILD BIN | |||||||||||||
| kjohnson | macOS 13.0 Ventura / arm64 |
|
|
| |||||||||||||
| Package 1/59 | Hostname | OS / Arch | INSTALL | BUILD | BUILD BIN | ||||||||||||
| airpart 1.6.0 (landing page) Wancen Mu
| kjohnson | macOS 13.0 Ventura / arm64 | OK | OK | OK | ||||||||||||
| Package 2/59 | Hostname | OS / Arch | INSTALL | BUILD | BUILD BIN | ||||||||||||
| AMARETTO 1.14.0 (landing page) Olivier Gevaert
| kjohnson | macOS 13.0 Ventura / arm64 | OK | OK | OK | ||||||||||||
| Package 3/59 | Hostname | OS / Arch | INSTALL | BUILD | BUILD BIN | ||||||||||||
| ASURAT 1.2.0 (landing page) Keita Iida
| kjohnson | macOS 13.0 Ventura / arm64 | OK | OK | OK | ||||||||||||
| Package 4/59 | Hostname | OS / Arch | INSTALL | BUILD | BUILD BIN | ||||||||||||
| BiocOncoTK 1.18.0 (landing page) VJ Carey
| kjohnson | macOS 13.0 Ventura / arm64 | OK | OK | OK | ||||||||||||
| Package 5/59 | Hostname | OS / Arch | INSTALL | BUILD | BUILD BIN | ||||||||||||
| BioNERO 1.6.1 (landing page) Fabricio Almeida-Silva
| kjohnson | macOS 13.0 Ventura / arm64 | OK | OK | OK | ||||||||||||
| Package 6/59 | Hostname | OS / Arch | INSTALL | BUILD | BUILD BIN | ||||||||||||
| blacksheepr 1.12.0 (landing page) RugglesLab
| kjohnson | macOS 13.0 Ventura / arm64 | OK | OK | OK | ||||||||||||
| Package 7/59 | Hostname | OS / Arch | INSTALL | BUILD | BUILD BIN | ||||||||||||
| BloodGen3Module 1.6.0 (landing page) Darawan Rinchai
| kjohnson | macOS 13.0 Ventura / arm64 | OK | OK | OK | ||||||||||||
| Package 8/59 | Hostname | OS / Arch | INSTALL | BUILD | BUILD BIN | ||||||||||||
| CATALYST 1.22.0 (landing page) Helena L. Crowell
| kjohnson | macOS 13.0 Ventura / arm64 | OK | OK | OK | ||||||||||||
| Package 9/59 | Hostname | OS / Arch | INSTALL | BUILD | BUILD BIN | ||||||||||||
| celda 1.14.2 (landing page) Joshua Campbell
| kjohnson | macOS 13.0 Ventura / arm64 | OK | OK | OK | ||||||||||||
| Package 10/59 | Hostname | OS / Arch | INSTALL | BUILD | BUILD BIN | ||||||||||||
| CeTF 1.10.2 (landing page) Carlos Alberto Oliveira de Biagi Junior
| kjohnson | macOS 13.0 Ventura / arm64 | OK | OK | OK | ||||||||||||
| Package 11/59 | Hostname | OS / Arch | INSTALL | BUILD | BUILD BIN | ||||||||||||
| COCOA 2.12.0 (landing page) John Lawson
| kjohnson | macOS 13.0 Ventura / arm64 | OK | OK | OK | ||||||||||||
| Package 12/59 | Hostname | OS / Arch | INSTALL | BUILD | BUILD BIN | ||||||||||||
| cola 2.4.0 (landing page) Zuguang Gu
| kjohnson | macOS 13.0 Ventura / arm64 | OK | OK | OK | ||||||||||||
| Package 13/59 | Hostname | OS / Arch | INSTALL | BUILD | BUILD BIN | ||||||||||||
| COTAN 1.2.0 (landing page) Galfrè Silvia Giulia
| kjohnson | macOS 13.0 Ventura / arm64 | OK | OK | OK | ||||||||||||
| Package 14/59 | Hostname | OS / Arch | INSTALL | BUILD | BUILD BIN | ||||||||||||
| cytoKernel 1.4.0 (landing page) Tusharkanti Ghosh
| kjohnson | macOS 13.0 Ventura / arm64 | OK | OK | OK | ||||||||||||
| Package 15/59 | Hostname | OS / Arch | INSTALL | BUILD | BUILD BIN | ||||||||||||
Guofeng Meng
| kjohnson | macOS 13.0 Ventura / arm64 | OK | ERROR | skipped | ||||||||||||
| Package 16/59 | Hostname | OS / Arch | INSTALL | BUILD | BUILD BIN | ||||||||||||
| DEGreport 1.34.0 (landing page) Lorena Pantano
| kjohnson | macOS 13.0 Ventura / arm64 | OK | OK | OK | ||||||||||||
| Package 17/59 | Hostname | OS / Arch | INSTALL | BUILD | BUILD BIN | ||||||||||||
| DEP 1.20.0 (landing page) Arne Smits
| kjohnson | macOS 13.0 Ventura / arm64 | OK | OK | OK | ||||||||||||
| Package 18/59 | Hostname | OS / Arch | INSTALL | BUILD | BUILD BIN | ||||||||||||
| diffcyt 1.18.0 (landing page) Lukas M. Weber
| kjohnson | macOS 13.0 Ventura / arm64 | OK | OK | OK | ||||||||||||
| Package 19/59 | Hostname | OS / Arch | INSTALL | BUILD | BUILD BIN | ||||||||||||
| diffUTR 1.6.0 (landing page) Pierre-Luc Germain
| kjohnson | macOS 13.0 Ventura / arm64 | OK | OK | OK | ||||||||||||
| Package 20/59 | Hostname | OS / Arch | INSTALL | BUILD | BUILD BIN | ||||||||||||
| ELMER 2.22.0 (landing page) Tiago Chedraoui Silva
| kjohnson | macOS 13.0 Ventura / arm64 | OK | OK | OK | ||||||||||||
| Package 21/59 | Hostname | OS / Arch | INSTALL | BUILD | BUILD BIN | ||||||||||||
| EnrichedHeatmap 1.28.1 (landing page) Zuguang Gu
| kjohnson | macOS 13.0 Ventura / arm64 | OK | OK | OK | ||||||||||||
| Package 22/59 | Hostname | OS / Arch | INSTALL | BUILD | BUILD BIN | ||||||||||||
| fCCAC 1.24.0 (landing page) Pedro Madrigal
| kjohnson | macOS 13.0 Ventura / arm64 | OK | OK | OK | ||||||||||||
| Package 23/59 | Hostname | OS / Arch | INSTALL | BUILD | BUILD BIN | ||||||||||||
| FLAMES 1.4.3 (landing page) Oliver Voogd
| kjohnson | macOS 13.0 Ventura / arm64 | OK | OK | OK | ||||||||||||
| Package 24/59 | Hostname | OS / Arch | INSTALL | BUILD | BUILD BIN | ||||||||||||
| gCrisprTools 2.4.0 (landing page) Russell Bainer
| kjohnson | macOS 13.0 Ventura / arm64 | OK | OK | OK | ||||||||||||
| Package 25/59 | Hostname | OS / Arch | INSTALL | BUILD | BUILD BIN | ||||||||||||
| GeneTonic 2.2.0 (landing page) Federico Marini
| kjohnson | macOS 13.0 Ventura / arm64 | OK | OK | OK | ||||||||||||
| Package 26/59 | Hostname | OS / Arch | INSTALL | BUILD | BUILD BIN | ||||||||||||
| GenomicSuperSignature 1.6.0 (landing page) Sehyun Oh
| kjohnson | macOS 13.0 Ventura / arm64 | OK | OK | OK | ||||||||||||
| Package 27/59 | Hostname | OS / Arch | INSTALL | BUILD | BUILD BIN | ||||||||||||
| gmoviz 1.10.0 (landing page) Kathleen Zeglinski
| kjohnson | macOS 13.0 Ventura / arm64 | OK | OK | OK | ||||||||||||
| Package 28/59 | Hostname | OS / Arch | INSTALL | BUILD | BUILD BIN | ||||||||||||
| GRaNIE 1.2.7 (landing page) Christian Arnold
| kjohnson | macOS 13.0 Ventura / arm64 | OK | OK | OK | ||||||||||||
| Package 29/59 | Hostname | OS / Arch | INSTALL | BUILD | BUILD BIN | ||||||||||||
| hermes 1.2.0 (landing page) Daniel Sabanés Bové
| kjohnson | macOS 13.0 Ventura / arm64 | OK | OK | OK | ||||||||||||
| Package 30/59 | Hostname | OS / Arch | INSTALL | BUILD | BUILD BIN | ||||||||||||
| InteractiveComplexHeatmap 1.6.0 (landing page) Zuguang Gu
| kjohnson | macOS 13.0 Ventura / arm64 | OK | OK | OK | ||||||||||||
| Package 31/59 | Hostname | OS / Arch | INSTALL | BUILD | BUILD BIN | ||||||||||||
| InterCellar 2.4.0 (landing page) Marta Interlandi
| kjohnson | macOS 13.0 Ventura / arm64 | OK | OK | OK | ||||||||||||
| Package 32/59 | Hostname | OS / Arch | INSTALL | BUILD | BUILD BIN | ||||||||||||
| iSEE 2.10.0 (landing page) Kevin Rue-Albrecht
| kjohnson | macOS 13.0 Ventura / arm64 | OK | OK | OK | ||||||||||||
| Package 33/59 | Hostname | OS / Arch | INSTALL | BUILD | BUILD BIN | ||||||||||||
| LineagePulse 1.18.0 (landing page) David S Fischer
| kjohnson | macOS 13.0 Ventura / arm64 | OK | OK | OK | ||||||||||||
| Package 34/59 | Hostname | OS / Arch | INSTALL | BUILD | BUILD BIN | ||||||||||||
| MatrixQCvis 1.6.1 (landing page) Thomas Naake
| kjohnson | macOS 13.0 Ventura / arm64 | OK | OK | OK | ||||||||||||
| Package 35/59 | Hostname | OS / Arch | INSTALL | BUILD | BUILD BIN | ||||||||||||
| MesKit 1.8.0 (landing page) Mengni Liu
| kjohnson | macOS 13.0 Ventura / arm64 | OK | OK | OK | ||||||||||||
| Package 36/59 | Hostname | OS / Arch | INSTALL | BUILD | BUILD BIN | ||||||||||||
| microbiomeMarker 1.4.0 (landing page) Yang Cao
| kjohnson | macOS 13.0 Ventura / arm64 | OK | OK | OK | ||||||||||||
| Package 37/59 | Hostname | OS / Arch | INSTALL | BUILD | BUILD BIN | ||||||||||||
| MOMA 1.10.0 (landing page) Sunny Jones
| kjohnson | macOS 13.0 Ventura / arm64 | OK | OK | OK | ||||||||||||
| Package 38/59 | Hostname | OS / Arch | INSTALL | BUILD | BUILD BIN | ||||||||||||
| monaLisa 1.4.0 (landing page) Michael Stadler
| kjohnson | macOS 13.0 Ventura / arm64 | OK | OK | OK | ||||||||||||
| Package 39/59 | Hostname | OS / Arch | INSTALL | BUILD | BUILD BIN | ||||||||||||
| muscat 1.12.1 (landing page) Helena L. Crowell
| kjohnson | macOS 13.0 Ventura / arm64 | OK | ERROR | skipped | ||||||||||||
| Package 40/59 | Hostname | OS / Arch | INSTALL | BUILD | BUILD BIN | ||||||||||||
| musicatk 1.8.0 (landing page) Aaron Chevalier
| kjohnson | macOS 13.0 Ventura / arm64 | OK | OK | OK | ||||||||||||
| Package 41/59 | Hostname | OS / Arch | INSTALL | BUILD | BUILD BIN | ||||||||||||
| MWASTools 1.22.0 (landing page) Andrea Rodriguez-Martinez
| kjohnson | macOS 13.0 Ventura / arm64 | OK | OK | OK | ||||||||||||
| Package 42/59 | Hostname | OS / Arch | INSTALL | BUILD | BUILD BIN | ||||||||||||
| PathoStat 1.24.0 (landing page) Solaiappan Manimaran
| kjohnson | macOS 13.0 Ventura / arm64 | OK | OK | OK | ||||||||||||
| Package 43/59 | Hostname | OS / Arch | INSTALL | BUILD | BUILD BIN | ||||||||||||
| PeacoQC 1.8.0 (landing page) Annelies Emmaneel
| kjohnson | macOS 13.0 Ventura / arm64 | OK | OK | OK | ||||||||||||
| Package 44/59 | Hostname | OS / Arch | INSTALL | BUILD | BUILD BIN | ||||||||||||
| pipeComp 1.8.0 (landing page) Pierre-Luc Germain
| kjohnson | macOS 13.0 Ventura / arm64 | OK | OK | OK | ||||||||||||
| Package 45/59 | Hostname | OS / Arch | INSTALL | BUILD | BUILD BIN | ||||||||||||
| POMA 1.8.0 (landing page) Pol Castellano-Escuder
| kjohnson | macOS 13.0 Ventura / arm64 | OK | OK | OK | ||||||||||||
| Package 46/59 | Hostname | OS / Arch | INSTALL | BUILD | BUILD BIN | ||||||||||||
| profileplyr 1.14.1 (landing page) Tom Carroll
| kjohnson | macOS 13.0 Ventura / arm64 | OK | OK | OK | ||||||||||||
| Package 47/59 | Hostname | OS / Arch | INSTALL | BUILD | BUILD BIN | ||||||||||||
| recoup 1.26.0 (landing page) Panagiotis Moulos
| kjohnson | macOS 13.0 Ventura / arm64 | OK | OK | OK | ||||||||||||
| Package 48/59 | Hostname | OS / Arch | INSTALL | BUILD | BUILD BIN | ||||||||||||
| RLSeq 1.4.1 (landing page) Henry Miller
| kjohnson | macOS 13.0 Ventura / arm64 | OK | ERROR | skipped | ||||||||||||
| Package 49/59 | Hostname | OS / Arch | INSTALL | BUILD | BUILD BIN | ||||||||||||
| sechm 1.6.0 (landing page) Pierre-Luc Germain
| kjohnson | macOS 13.0 Ventura / arm64 | OK | OK | OK | ||||||||||||
| Package 50/59 | Hostname | OS / Arch | INSTALL | BUILD | BUILD BIN | ||||||||||||
| segmenter 1.4.0 (landing page) Mahmoud Ahmed
| kjohnson | macOS 13.0 Ventura / arm64 | OK | OK | OK | ||||||||||||
| Package 51/59 | Hostname | OS / Arch | INSTALL | BUILD | BUILD BIN | ||||||||||||
| signifinder 1.0.0 (landing page) Stefania Pirrotta
| kjohnson | macOS 13.0 Ventura / arm64 | OK | OK | OK | ||||||||||||
| Package 52/59 | Hostname | OS / Arch | INSTALL | BUILD | BUILD BIN | ||||||||||||
| simplifyEnrichment 1.8.0 (landing page) Zuguang Gu
| kjohnson | macOS 13.0 Ventura / arm64 | OK | OK | OK | ||||||||||||
| Package 53/59 | Hostname | OS / Arch | INSTALL | BUILD | BUILD BIN | ||||||||||||
| singleCellTK 2.8.0 (landing page) Yichen Wang
| kjohnson | macOS 13.0 Ventura / arm64 | OK | OK | OK | ||||||||||||
| Package 54/59 | Hostname | OS / Arch | INSTALL | BUILD | BUILD BIN | ||||||||||||
| sparrow 1.4.0 (landing page) Steve Lianoglou
| kjohnson | macOS 13.0 Ventura / arm64 | OK | OK | OK | ||||||||||||
| Package 55/59 | Hostname | OS / Arch | INSTALL | BUILD | BUILD BIN | ||||||||||||
| SPIAT 1.0.4 (landing page) Yuzhou Feng
| kjohnson | macOS 13.0 Ventura / arm64 | OK | OK | OK | ||||||||||||
| Package 56/59 | Hostname | OS / Arch | INSTALL | BUILD | BUILD BIN | ||||||||||||
| SPONGE 1.20.0 (landing page) Markus List
| kjohnson | macOS 13.0 Ventura / arm64 | OK | OK | OK | ||||||||||||
| Package 57/59 | Hostname | OS / Arch | INSTALL | BUILD | BUILD BIN | ||||||||||||
| TBSignatureProfiler 1.10.0 (landing page) Aubrey R. Odom-Mabey
| kjohnson | macOS 13.0 Ventura / arm64 | OK | OK | OK | ||||||||||||
| Package 58/59 | Hostname | OS / Arch | INSTALL | BUILD | BUILD BIN | ||||||||||||
| Xeva 1.14.0 (landing page) Benjamin Haibe-Kains
| kjohnson | macOS 13.0 Ventura / arm64 | OK | OK | OK | ||||||||||||
| Package 59/59 | Hostname | OS / Arch | INSTALL | BUILD | BUILD BIN | ||||||||||||
| YAPSA 1.24.0 (landing page) Daniel Huebschmann
| kjohnson | macOS 13.0 Ventura / arm64 | OK | OK | OK | ||||||||||||