| Back to Mac ARM64 build report for BioC 3.16 |
|
This page was generated on 2023-04-19 11:01:54 -0400 (Wed, 19 Apr 2023).
| Hostname | OS | Arch (*) | R version | Installed pkgs |
|---|---|---|---|---|
| kjohnson | macOS 13.0 Ventura | arm64 | 4.2.2 (2022-10-31) -- "Innocent and Trusting" | 4256 |
| Click on any hostname to see more info about the system (e.g. compilers) (*) as reported by 'uname -p', except on Windows and Mac OS X | ||||
|
To the developers/maintainers of the fCCAC package: Make sure to use the following settings in order to reproduce any error or warning you see on this page. |
| Package 664/2183 | Hostname | OS / Arch | INSTALL | BUILD | BUILD BIN | ||||||||
| fCCAC 1.24.0 (landing page) Pedro Madrigal
| kjohnson | macOS 13.0 Ventura / arm64 | OK | OK | OK | ||||||||
| Package: fCCAC |
| Version: 1.24.0 |
| Command: /Library/Frameworks/R.framework/Resources/bin/R CMD build --keep-empty-dirs --no-resave-data fCCAC |
| StartedAt: 2023-04-17 06:16:49 -0400 (Mon, 17 Apr 2023) |
| EndedAt: 2023-04-17 06:17:54 -0400 (Mon, 17 Apr 2023) |
| EllapsedTime: 64.5 seconds |
| RetCode: 0 |
| Status: OK |
| PackageFile: fCCAC_1.24.0.tar.gz |
| PackageFileSize: 3.498 MiB |
############################################################################## ############################################################################## ### ### Running command: ### ### /Library/Frameworks/R.framework/Resources/bin/R CMD build --keep-empty-dirs --no-resave-data fCCAC ### ############################################################################## ############################################################################## * checking for file ‘fCCAC/DESCRIPTION’ ... OK * preparing ‘fCCAC’: * checking DESCRIPTION meta-information ... OK * installing the package to build vignettes * creating vignettes ... OK * checking for LF line-endings in source and make files and shell scripts * checking for empty or unneeded directories Omitted ‘LazyData’ from DESCRIPTION * building ‘fCCAC_1.24.0.tar.gz’