| Back to Mac ARM64 build report for BioC 3.16 |
|
This page was generated on 2023-04-19 11:01:59 -0400 (Wed, 19 Apr 2023).
| Hostname | OS | Arch (*) | R version | Installed pkgs |
|---|---|---|---|---|
| kjohnson | macOS 13.0 Ventura | arm64 | 4.2.2 (2022-10-31) -- "Innocent and Trusting" | 4256 |
| Click on any hostname to see more info about the system (e.g. compilers) (*) as reported by 'uname -p', except on Windows and Mac OS X | ||||
|
To the developers/maintainers of the YAPSA package: Make sure to use the following settings in order to reproduce any error or warning you see on this page. |
| Package 2177/2183 | Hostname | OS / Arch | INSTALL | BUILD | BUILD BIN | ||||||||
| YAPSA 1.24.0 (landing page) Daniel Huebschmann
| kjohnson | macOS 13.0 Ventura / arm64 | OK | OK | OK | ||||||||
| Package: YAPSA |
| Version: 1.24.0 |
| Command: rm -rf YAPSA.buildbin-libdir && mkdir YAPSA.buildbin-libdir && /Users/biocbuild/BBS/utils/build-universal.sh YAPSA_1.24.0.tar.gz /Library/Frameworks/R.framework/Resources/bin/R YAPSA.buildbin-libdir |
| StartedAt: 2023-04-18 20:32:06 -0400 (Tue, 18 Apr 2023) |
| EndedAt: 2023-04-18 20:34:43 -0400 (Tue, 18 Apr 2023) |
| EllapsedTime: 157.3 seconds |
| RetCode: 0 |
| Status: OK |
| PackageFile: YAPSA_1.24.0.tgz |
| PackageFileSize: 4.041 MiB |
############################################################################## ############################################################################## ### ### Running command: ### ### rm -rf YAPSA.buildbin-libdir && mkdir YAPSA.buildbin-libdir && /Users/biocbuild/BBS/utils/build-universal.sh YAPSA_1.24.0.tar.gz /Library/Frameworks/R.framework/Resources/bin/R YAPSA.buildbin-libdir ### ############################################################################## ############################################################################## >>>>>>> >>>>>>> INSTALLATION WITH 'R CMD INSTALL --preclean --no-multiarch --library=YAPSA.buildbin-libdir YAPSA_1.24.0.tar.gz' >>>>>>> * installing *source* package ‘YAPSA’ ... ** using staged installation ** R ** data ** inst ** byte-compile and prepare package for lazy loading Found more than one class "atomicVector" in cache; using the first, from namespace 'Matrix' Also defined by ‘Rmpfr’ Found more than one class "atomicVector" in cache; using the first, from namespace 'Matrix' Also defined by ‘Rmpfr’ Found more than one class "atomicVector" in cache; using the first, from namespace 'Matrix' Also defined by ‘Rmpfr’ Found more than one class "atomicVector" in cache; using the first, from namespace 'Matrix' Also defined by ‘Rmpfr’ Found more than one class "atomicVector" in cache; using the first, from namespace 'Matrix' Also defined by ‘Rmpfr’ Found more than one class "atomicVector" in cache; using the first, from namespace 'Matrix' Also defined by ‘Rmpfr’ Found more than one class "atomicVector" in cache; using the first, from namespace 'Matrix' Also defined by ‘Rmpfr’ Found more than one class "atomicVector" in cache; using the first, from namespace 'Matrix' Also defined by ‘Rmpfr’ Found more than one class "atomicVector" in cache; using the first, from namespace 'Matrix' Also defined by ‘Rmpfr’ Found more than one class "atomicVector" in cache; using the first, from namespace 'Matrix' Also defined by ‘Rmpfr’ Found more than one class "atomicVector" in cache; using the first, from namespace 'Matrix' Also defined by ‘Rmpfr’ Found more than one class "atomicVector" in cache; using the first, from namespace 'Matrix' Also defined by ‘Rmpfr’ Warning: replacing previous import ‘GenomicRanges::subtract’ by ‘magrittr::subtract’ when loading ‘YAPSA’ ** help *** installing help indices ** building package indices ** installing vignettes ** testing if installed package can be loaded from temporary location Found more than one class "atomicVector" in cache; using the first, from namespace 'Matrix' Also defined by ‘Rmpfr’ Found more than one class "atomicVector" in cache; using the first, from namespace 'Matrix' Also defined by ‘Rmpfr’ Found more than one class "atomicVector" in cache; using the first, from namespace 'Matrix' Also defined by ‘Rmpfr’ Found more than one class "atomicVector" in cache; using the first, from namespace 'Matrix' Also defined by ‘Rmpfr’ Found more than one class "atomicVector" in cache; using the first, from namespace 'Matrix' Also defined by ‘Rmpfr’ Found more than one class "atomicVector" in cache; using the first, from namespace 'Matrix' Also defined by ‘Rmpfr’ Found more than one class "atomicVector" in cache; using the first, from namespace 'Matrix' Also defined by ‘Rmpfr’ Found more than one class "atomicVector" in cache; using the first, from namespace 'Matrix' Also defined by ‘Rmpfr’ Found more than one class "atomicVector" in cache; using the first, from namespace 'Matrix' Also defined by ‘Rmpfr’ Found more than one class "atomicVector" in cache; using the first, from namespace 'Matrix' Also defined by ‘Rmpfr’ Found more than one class "atomicVector" in cache; using the first, from namespace 'Matrix' Also defined by ‘Rmpfr’ Found more than one class "atomicVector" in cache; using the first, from namespace 'Matrix' Also defined by ‘Rmpfr’ Warning: replacing previous import ‘GenomicRanges::subtract’ by ‘magrittr::subtract’ when loading ‘YAPSA’ ** testing if installed package can be loaded from final location Found more than one class "atomicVector" in cache; using the first, from namespace 'Matrix' Also defined by ‘Rmpfr’ Found more than one class "atomicVector" in cache; using the first, from namespace 'Matrix' Also defined by ‘Rmpfr’ Found more than one class "atomicVector" in cache; using the first, from namespace 'Matrix' Also defined by ‘Rmpfr’ Found more than one class "atomicVector" in cache; using the first, from namespace 'Matrix' Also defined by ‘Rmpfr’ Found more than one class "atomicVector" in cache; using the first, from namespace 'Matrix' Also defined by ‘Rmpfr’ Found more than one class "atomicVector" in cache; using the first, from namespace 'Matrix' Also defined by ‘Rmpfr’ Found more than one class "atomicVector" in cache; using the first, from namespace 'Matrix' Also defined by ‘Rmpfr’ Found more than one class "atomicVector" in cache; using the first, from namespace 'Matrix' Also defined by ‘Rmpfr’ Found more than one class "atomicVector" in cache; using the first, from namespace 'Matrix' Also defined by ‘Rmpfr’ Found more than one class "atomicVector" in cache; using the first, from namespace 'Matrix' Also defined by ‘Rmpfr’ Found more than one class "atomicVector" in cache; using the first, from namespace 'Matrix' Also defined by ‘Rmpfr’ Found more than one class "atomicVector" in cache; using the first, from namespace 'Matrix' Also defined by ‘Rmpfr’ Warning: replacing previous import ‘GenomicRanges::subtract’ by ‘magrittr::subtract’ when loading ‘YAPSA’ ** testing if installed package keeps a record of temporary installation path * DONE (YAPSA)