| Back to Multiple platform build/check report for BioC 3.16: simplified long |
|
This page was generated on 2023-04-12 11:05:09 -0400 (Wed, 12 Apr 2023).
| Hostname | OS | Arch (*) | R version | Installed pkgs |
|---|---|---|---|---|
| nebbiolo2 | Linux (Ubuntu 20.04.5 LTS) | x86_64 | 4.2.3 (2023-03-15) -- "Shortstop Beagle" | 4502 |
| palomino4 | Windows Server 2022 Datacenter | x64 | 4.2.3 (2023-03-15 ucrt) -- "Shortstop Beagle" | 4282 |
| lconway | macOS 12.5.1 Monterey | x86_64 | 4.2.3 (2023-03-15) -- "Shortstop Beagle" | 4310 |
| Click on any hostname to see more info about the system (e.g. compilers) (*) as reported by 'uname -p', except on Windows and Mac OS X | ||||
|
To the developers/maintainers of the mbkmeans package: - Please allow up to 24 hours (and sometimes 48 hours) for your latest push to git@git.bioconductor.org:packages/mbkmeans.git to reflect on this report. See How and When does the builder pull? When will my changes propagate? for more information. - Make sure to use the following settings in order to reproduce any error or warning you see on this page. |
| Package 1112/2183 | Hostname | OS / Arch | INSTALL | BUILD | CHECK | BUILD BIN | ||||||||
| mbkmeans 1.14.0 (landing page) Davide Risso
| nebbiolo2 | Linux (Ubuntu 20.04.5 LTS) / x86_64 | OK | OK | OK | |||||||||
| palomino4 | Windows Server 2022 Datacenter / x64 | OK | OK | OK | OK | |||||||||
| lconway | macOS 12.5.1 Monterey / x86_64 | OK | OK | OK | OK | |||||||||
| Package: mbkmeans |
| Version: 1.14.0 |
| Command: /home/biocbuild/bbs-3.16-bioc/R/bin/R CMD check --install=check:mbkmeans.install-out.txt --library=/home/biocbuild/bbs-3.16-bioc/R/site-library --timings mbkmeans_1.14.0.tar.gz |
| StartedAt: 2023-04-10 21:44:05 -0400 (Mon, 10 Apr 2023) |
| EndedAt: 2023-04-10 21:49:41 -0400 (Mon, 10 Apr 2023) |
| EllapsedTime: 336.0 seconds |
| RetCode: 0 |
| Status: OK |
| CheckDir: mbkmeans.Rcheck |
| Warnings: 0 |
##############################################################################
##############################################################################
###
### Running command:
###
### /home/biocbuild/bbs-3.16-bioc/R/bin/R CMD check --install=check:mbkmeans.install-out.txt --library=/home/biocbuild/bbs-3.16-bioc/R/site-library --timings mbkmeans_1.14.0.tar.gz
###
##############################################################################
##############################################################################
* using log directory ‘/home/biocbuild/bbs-3.16-bioc/meat/mbkmeans.Rcheck’
* using R version 4.2.3 (2023-03-15)
* using platform: x86_64-pc-linux-gnu (64-bit)
* using session charset: UTF-8
* checking for file ‘mbkmeans/DESCRIPTION’ ... OK
* checking extension type ... Package
* this is package ‘mbkmeans’ version ‘1.14.0’
* package encoding: UTF-8
* checking package namespace information ... OK
* checking package dependencies ... OK
* checking if this is a source package ... OK
* checking if there is a namespace ... OK
* checking for hidden files and directories ... OK
* checking for portable file names ... OK
* checking for sufficient/correct file permissions ... OK
* checking whether package ‘mbkmeans’ can be installed ... OK
* checking installed package size ... NOTE
installed size is 6.5Mb
sub-directories of 1Mb or more:
libs 6.4Mb
* checking package directory ... OK
* checking ‘build’ directory ... OK
* checking DESCRIPTION meta-information ... OK
* checking top-level files ... OK
* checking for left-over files ... OK
* checking index information ... OK
* checking package subdirectories ... OK
* checking R files for non-ASCII characters ... OK
* checking R files for syntax errors ... OK
* checking whether the package can be loaded ... OK
* checking whether the package can be loaded with stated dependencies ... OK
* checking whether the package can be unloaded cleanly ... OK
* checking whether the namespace can be loaded with stated dependencies ... OK
* checking whether the namespace can be unloaded cleanly ... OK
* checking loading without being on the library search path ... OK
* checking dependencies in R code ... NOTE
Namespace in Imports field not imported from: ‘S4Vectors’
All declared Imports should be used.
* checking S3 generic/method consistency ... OK
* checking replacement functions ... OK
* checking foreign function calls ... OK
* checking R code for possible problems ... OK
* checking Rd files ... OK
* checking Rd metadata ... OK
* checking Rd cross-references ... OK
* checking for missing documentation entries ... OK
* checking for code/documentation mismatches ... OK
* checking Rd \usage sections ... OK
* checking Rd contents ... OK
* checking for unstated dependencies in examples ... OK
* checking line endings in C/C++/Fortran sources/headers ... OK
* checking compiled code ... NOTE
Note: information on .o files is not available
* checking files in ‘vignettes’ ... OK
* checking examples ... OK
* checking for unstated dependencies in ‘tests’ ... OK
* checking tests ...
Running ‘testthat.R’
OK
* checking for unstated dependencies in vignettes ... OK
* checking package vignettes in ‘inst/doc’ ... OK
* checking running R code from vignettes ...
‘Vignette.Rmd’ using ‘UTF-8’... OK
NONE
* checking re-building of vignette outputs ... OK
* checking PDF version of manual ... OK
* DONE
Status: 3 NOTEs
See
‘/home/biocbuild/bbs-3.16-bioc/meat/mbkmeans.Rcheck/00check.log’
for details.
mbkmeans.Rcheck/00install.out
##############################################################################
##############################################################################
###
### Running command:
###
### /home/biocbuild/bbs-3.16-bioc/R/bin/R CMD INSTALL mbkmeans
###
##############################################################################
##############################################################################
* installing to library ‘/home/biocbuild/bbs-3.16-bioc/R/site-library’
* installing *source* package ‘mbkmeans’ ...
** using staged installation
** libs
g++ -std=gnu++11 -I"/home/biocbuild/bbs-3.16-bioc/R/include" -DNDEBUG -I'/home/biocbuild/bbs-3.16-bioc/R/site-library/Rcpp/include' -I'/home/biocbuild/bbs-3.16-bioc/R/site-library/RcppArmadillo/include' -I'/home/biocbuild/bbs-3.16-bioc/R/site-library/Rhdf5lib/include' -I'/home/biocbuild/bbs-3.16-bioc/R/site-library/beachmat/include' -I'/home/biocbuild/bbs-3.16-bioc/R/site-library/ClusterR/include' -I/usr/local/include -fpic -g -O2 -Wall -c RcppExports.cpp -o RcppExports.o
g++ -std=gnu++11 -I"/home/biocbuild/bbs-3.16-bioc/R/include" -DNDEBUG -I'/home/biocbuild/bbs-3.16-bioc/R/site-library/Rcpp/include' -I'/home/biocbuild/bbs-3.16-bioc/R/site-library/RcppArmadillo/include' -I'/home/biocbuild/bbs-3.16-bioc/R/site-library/Rhdf5lib/include' -I'/home/biocbuild/bbs-3.16-bioc/R/site-library/beachmat/include' -I'/home/biocbuild/bbs-3.16-bioc/R/site-library/ClusterR/include' -I/usr/local/include -fpic -g -O2 -Wall -c mini_batch.cpp -o mini_batch.o
In file included from /home/biocbuild/bbs-3.16-bioc/R/site-library/RcppArmadillo/include/armadillo:26,
from /home/biocbuild/bbs-3.16-bioc/R/site-library/RcppArmadillo/include/RcppArmadillo/interface/RcppArmadilloForward.h:57,
from /home/biocbuild/bbs-3.16-bioc/R/site-library/RcppArmadillo/include/RcppArmadillo.h:29,
from mini_batch.cpp:2:
/home/biocbuild/bbs-3.16-bioc/R/site-library/RcppArmadillo/include/armadillo_bits/config.hpp:338:86: note: #pragma message: INFO: support for ARMA_DONT_PRINT_ERRORS option has been removed
338 | #pragma message ("INFO: support for ARMA_DONT_PRINT_ERRORS option has been removed")
| ^
/home/biocbuild/bbs-3.16-bioc/R/site-library/RcppArmadillo/include/armadillo_bits/config.hpp:343:75: note: #pragma message: INFO: suggest to use ARMA_WARN_LEVEL option instead
343 | #pragma message ("INFO: suggest to use ARMA_WARN_LEVEL option instead")
| ^
/home/biocbuild/bbs-3.16-bioc/R/site-library/RcppArmadillo/include/armadillo_bits/config.hpp:346:61: note: #pragma message: INFO: see the documentation for details
346 | #pragma message ("INFO: see the documentation for details")
| ^
In file included from mini_batch.cpp:3:
/home/biocbuild/bbs-3.16-bioc/R/site-library/ClusterR/include/ClusterRHeader.h: In member function ‘arma::mat clustR::ClustHeader::KMEANS_arma(arma::mat&, int, int, bool, std::string, Rcpp::Nullable<Rcpp::Matrix<14> >, int)’:
/home/biocbuild/bbs-3.16-bioc/R/site-library/ClusterR/include/ClusterRHeader.h:926:14: warning: variable ‘status’ set but not used [-Wunused-but-set-variable]
926 | bool status;
| ^~~~~~
/home/biocbuild/bbs-3.16-bioc/R/site-library/ClusterR/include/ClusterRHeader.h: In member function ‘Rcpp::List clustR::ClustHeader::GMM_arma(arma::mat&, int, std::string, std::string, int, int, bool, double, int)’:
/home/biocbuild/bbs-3.16-bioc/R/site-library/ClusterR/include/ClusterRHeader.h:1601:14: warning: variable ‘status’ set but not used [-Wunused-but-set-variable]
1601 | bool status;
| ^~~~~~
g++ -std=gnu++11 -shared -L/home/biocbuild/bbs-3.16-bioc/R/lib -L/usr/local/lib -o mbkmeans.so RcppExports.o mini_batch.o -L/home/biocbuild/bbs-3.16-bioc/R/lib -lR
installing to /home/biocbuild/bbs-3.16-bioc/R/site-library/00LOCK-mbkmeans/00new/mbkmeans/libs
** R
** inst
** byte-compile and prepare package for lazy loading
** help
*** installing help indices
** building package indices
** installing vignettes
** testing if installed package can be loaded from temporary location
** checking absolute paths in shared objects and dynamic libraries
** testing if installed package can be loaded from final location
** testing if installed package keeps a record of temporary installation path
* DONE (mbkmeans)
mbkmeans.Rcheck/tests/testthat.Rout
R version 4.2.3 (2023-03-15) -- "Shortstop Beagle"
Copyright (C) 2023 The R Foundation for Statistical Computing
Platform: x86_64-pc-linux-gnu (64-bit)
R is free software and comes with ABSOLUTELY NO WARRANTY.
You are welcome to redistribute it under certain conditions.
Type 'license()' or 'licence()' for distribution details.
R is a collaborative project with many contributors.
Type 'contributors()' for more information and
'citation()' on how to cite R or R packages in publications.
Type 'demo()' for some demos, 'help()' for on-line help, or
'help.start()' for an HTML browser interface to help.
Type 'q()' to quit R.
> library(testthat)
> library(mbkmeans)
>
> test_check("mbkmeans")
[ FAIL 0 | WARN 2 | SKIP 0 | PASS 29 ]
[ FAIL 0 | WARN 2 | SKIP 0 | PASS 29 ]
>
> proc.time()
user system elapsed
120.491 18.671 139.151
mbkmeans.Rcheck/mbkmeans-Ex.timings
| name | user | system | elapsed | |
| blocksize | 0.001 | 0.000 | 0.000 | |
| compute_wcss | 0.001 | 0.000 | 0.000 | |
| mbkmeans | 0.606 | 0.016 | 0.622 | |
| mini_batch | 0.000 | 0.000 | 0.001 | |
| predict_mini_batch | 0.004 | 0.000 | 0.004 | |
| predict_mini_batch_r | 0.018 | 0.000 | 0.019 | |