| Back to Multiple platform build/check report for BioC 3.16: simplified long | 
This page was generated on 2023-04-12 11:04:21 -0400 (Wed, 12 Apr 2023).
| Hostname: | lconway | 
| OS: | macOS 12.5.1 Monterey | 
| Arch: | x86_64 | 
| Platform: | x86_64-apple-darwin21.6.0 | 
| R version: | 4.2.3 (2023-03-15) -- "Shortstop Beagle" | 
| R environment variables: | Renviron.bioc | 
| R variable (VAR) | Value ('R CMD config <VAR>' output) | 
| CC | clang -mmacosx-version-min=10.13 | 
| CFLAGS | -Wall -g -O2 | 
| CPICFLAGS | -fPIC | 
| Please refer to 'R CMD config -h' for the meaning of these variables | |
Compiler version ('clang -mmacosx-version-min=10.13 --version' output):
Apple clang version 13.1.6 (clang-1316.0.21.2.5) Target: x86_64-apple-darwin21.6.0 Thread model: posix InstalledDir: /Library/Developer/CommandLineTools/usr/bin
| R variable (VAR) | Value ('R CMD config <VAR>' output) | 
| CXX | clang++ -mmacosx-version-min=10.13 -std=gnu++14 | 
| CXXFLAGS | -Wall -g -O2 | 
| CXXPICFLAGS | -fPIC | 
| Please refer to 'R CMD config -h' for the meaning of these variables | |
Compiler version ('clang++ -mmacosx-version-min=10.13 -std=gnu++14 --version' output):
Apple clang version 13.1.6 (clang-1316.0.21.2.5) Target: x86_64-apple-darwin21.6.0 Thread model: posix InstalledDir: /Library/Developer/CommandLineTools/usr/bin
| R variable (VAR) | Value ('R CMD config <VAR>' output) | 
| CXX11 | clang++ -mmacosx-version-min=10.13 | 
| CXX11FLAGS | -Wall -g -O2 | 
| CXX11PICFLAGS | -fPIC | 
| CXX11STD | -std=gnu++11 | 
| Please refer to 'R CMD config -h' for the meaning of these variables | |
Compiler version ('clang++ -mmacosx-version-min=10.13 --version' output):
Apple clang version 13.1.6 (clang-1316.0.21.2.5) Target: x86_64-apple-darwin21.6.0 Thread model: posix InstalledDir: /Library/Developer/CommandLineTools/usr/bin
| R variable (VAR) | Value ('R CMD config <VAR>' output) | 
| CXX14 | clang++ -mmacosx-version-min=10.13 | 
| CXX14FLAGS | -Wall -g -O2 | 
| CXX14PICFLAGS | -fPIC | 
| CXX14STD | -std=gnu++14 | 
| Please refer to 'R CMD config -h' for the meaning of these variables | |
Compiler version ('clang++ -mmacosx-version-min=10.13 --version' output):
Apple clang version 13.1.6 (clang-1316.0.21.2.5) Target: x86_64-apple-darwin21.6.0 Thread model: posix InstalledDir: /Library/Developer/CommandLineTools/usr/bin
| R variable (VAR) | Value ('R CMD config <VAR>' output) | 
| CXX17 | clang++ -mmacosx-version-min=10.13 | 
| CXX17FLAGS | -Wall -g -O2 | 
| CXX17PICFLAGS | -fPIC | 
| CXX17STD | -std=gnu++17 | 
| Please refer to 'R CMD config -h' for the meaning of these variables | |
Compiler version ('clang++ -mmacosx-version-min=10.13 --version' output):
Apple clang version 13.1.6 (clang-1316.0.21.2.5) Target: x86_64-apple-darwin21.6.0 Thread model: posix InstalledDir: /Library/Developer/CommandLineTools/usr/bin
More information might be added in the future...