| Back to Multiple platform build/check report for BioC 3.16 | 
 | 
This page was generated on 2022-07-07 11:12:13 -0400 (Thu, 07 Jul 2022).
| Hostname | OS | Arch (*) | R version | Installed pkgs | 
|---|---|---|---|---|
| nebbiolo2 | Linux (Ubuntu 20.04.4 LTS) | x86_64 | 4.2.0 Patched (2022-06-02 r82447) -- "Vigorous Calisthenics" | 4343 | 
| palomino4 | Windows Server 2022 Datacenter | x64 | 4.2.0 Patched (2022-06-02 r82447 ucrt) -- "Vigorous Calisthenics" | 4148 | 
| lconway | macOS 12.2.1 Monterey | x86_64 | 4.2.0 Patched (2022-05-29 r82424) -- "Vigorous Calisthenics" | 4160 | 
| kjohnson | macOS 12.4 Monterey | arm64 | 4.2.0 Patched (2022-06-09 r82473) -- "Vigorous Calisthenics" | 3115 | 
| Click on any hostname to see more info about the system (e.g. compilers) (*) as reported by 'uname -p', except on Windows and Mac OS X | ||||
| To the developers/maintainers of the XVector package: - Please allow up to 24 hours (and sometimes 48 hours) for your latest push to git@git.bioconductor.org:packages/XVector.git to reflect on this report. See How and When does the builder pull? When will my changes propagate? for more information. - Make sure to use the following settings in order to reproduce any error or warning you see on this page. | 
| Package 2117/2124 | Hostname | OS / Arch | INSTALL | BUILD | CHECK | BUILD BIN | ||||||||
| XVector 0.37.0  (landing page) Hervé Pagès 
 | nebbiolo2 | Linux (Ubuntu 20.04.4 LTS) / x86_64 | OK | OK | WARNINGS |  | ||||||||
| palomino4 | Windows Server 2022 Datacenter / x64 | OK | OK | WARNINGS | OK |  | ||||||||
| lconway | macOS 12.2.1 Monterey / x86_64 | OK | OK | WARNINGS | OK |  | ||||||||
| kjohnson | macOS 12.4 Monterey / arm64 | OK | OK | NA | ERROR | |||||||||
| Package: XVector | 
| Version: 0.37.0 | 
| Command: rm -rf XVector.buildbin-libdir && mkdir XVector.buildbin-libdir && /Users/biocbuild/BBS/utils/build-universal.sh XVector_0.37.0.tar.gz /Library/Frameworks/R.framework/Resources/bin/R XVector.buildbin-libdir | 
| StartedAt: 2022-07-07 09:26:00 -0400 (Thu, 07 Jul 2022) | 
| EndedAt: 2022-07-07 09:26:21 -0400 (Thu, 07 Jul 2022) | 
| EllapsedTime: 20.4 seconds | 
| RetCode: 1 | 
| Status: ERROR | 
| PackageFile: None | 
| PackageFileSize: NA | 
##############################################################################
##############################################################################
###
### Running command:
###
###   rm -rf XVector.buildbin-libdir && mkdir XVector.buildbin-libdir && /Users/biocbuild/BBS/utils/build-universal.sh XVector_0.37.0.tar.gz /Library/Frameworks/R.framework/Resources/bin/R XVector.buildbin-libdir
###
##############################################################################
##############################################################################
>>>>>>> 
>>>>>>> INSTALLATION WITH 'R CMD INSTALL --preclean --no-multiarch --library=XVector.buildbin-libdir XVector_0.37.0.tar.gz'
>>>>>>> 
* installing *source* package ‘XVector’ ...
** using staged installation
** libs
clang -arch arm64 -I"/Library/Frameworks/R.framework/Resources/include" -DNDEBUG  -I'/Library/Frameworks/R.framework/Versions/4.2-arm64/Resources/library/S4Vectors/include' -I'/Library/Frameworks/R.framework/Versions/4.2-arm64/Resources/library/IRanges/include' -I/opt/R/arm64/include   -fPIC  -falign-functions=64 -Wall -g -O2  -c IRanges_stubs.c -o IRanges_stubs.o
clang -arch arm64 -I"/Library/Frameworks/R.framework/Resources/include" -DNDEBUG  -I'/Library/Frameworks/R.framework/Versions/4.2-arm64/Resources/library/S4Vectors/include' -I'/Library/Frameworks/R.framework/Versions/4.2-arm64/Resources/library/IRanges/include' -I/opt/R/arm64/include   -fPIC  -falign-functions=64 -Wall -g -O2  -c Ocopy_byteblocks.c -o Ocopy_byteblocks.o
clang -arch arm64 -I"/Library/Frameworks/R.framework/Resources/include" -DNDEBUG  -I'/Library/Frameworks/R.framework/Versions/4.2-arm64/Resources/library/S4Vectors/include' -I'/Library/Frameworks/R.framework/Versions/4.2-arm64/Resources/library/IRanges/include' -I/opt/R/arm64/include   -fPIC  -falign-functions=64 -Wall -g -O2  -c RDS_random_access.c -o RDS_random_access.o
RDS_random_access.c:793:11: warning: variable 'x_type' set but not used [-Wunused-but-set-variable]
        SEXPTYPE x_type;
                 ^
RDS_random_access.c:796:18: warning: unused variable 'ans' [-Wunused-variable]
        SEXP subscript, ans;
                        ^
2 warnings generated.
clang -arch arm64 -I"/Library/Frameworks/R.framework/Resources/include" -DNDEBUG  -I'/Library/Frameworks/R.framework/Versions/4.2-arm64/Resources/library/S4Vectors/include' -I'/Library/Frameworks/R.framework/Versions/4.2-arm64/Resources/library/IRanges/include' -I/opt/R/arm64/include   -fPIC  -falign-functions=64 -Wall -g -O2  -c R_init_XVector.c -o R_init_XVector.o
clang -arch arm64 -I"/Library/Frameworks/R.framework/Resources/include" -DNDEBUG  -I'/Library/Frameworks/R.framework/Versions/4.2-arm64/Resources/library/S4Vectors/include' -I'/Library/Frameworks/R.framework/Versions/4.2-arm64/Resources/library/IRanges/include' -I/opt/R/arm64/include   -fPIC  -falign-functions=64 -Wall -g -O2  -c S4Vectors_stubs.c -o S4Vectors_stubs.o
clang -arch arm64 -I"/Library/Frameworks/R.framework/Resources/include" -DNDEBUG  -I'/Library/Frameworks/R.framework/Versions/4.2-arm64/Resources/library/S4Vectors/include' -I'/Library/Frameworks/R.framework/Versions/4.2-arm64/Resources/library/IRanges/include' -I/opt/R/arm64/include   -fPIC  -falign-functions=64 -Wall -g -O2  -c SharedDouble_class.c -o SharedDouble_class.o
clang -arch arm64 -I"/Library/Frameworks/R.framework/Resources/include" -DNDEBUG  -I'/Library/Frameworks/R.framework/Versions/4.2-arm64/Resources/library/S4Vectors/include' -I'/Library/Frameworks/R.framework/Versions/4.2-arm64/Resources/library/IRanges/include' -I/opt/R/arm64/include   -fPIC  -falign-functions=64 -Wall -g -O2  -c SharedInteger_class.c -o SharedInteger_class.o
clang -arch arm64 -I"/Library/Frameworks/R.framework/Resources/include" -DNDEBUG  -I'/Library/Frameworks/R.framework/Versions/4.2-arm64/Resources/library/S4Vectors/include' -I'/Library/Frameworks/R.framework/Versions/4.2-arm64/Resources/library/IRanges/include' -I/opt/R/arm64/include   -fPIC  -falign-functions=64 -Wall -g -O2  -c SharedRaw_class.c -o SharedRaw_class.o
SharedRaw_class.c:396:13: warning: variable 'src_tag' set but not used [-Wunused-but-set-variable]
        SEXP dest, src_tag;
                   ^
1 warning generated.
clang -arch arm64 -I"/Library/Frameworks/R.framework/Resources/include" -DNDEBUG  -I'/Library/Frameworks/R.framework/Versions/4.2-arm64/Resources/library/S4Vectors/include' -I'/Library/Frameworks/R.framework/Versions/4.2-arm64/Resources/library/IRanges/include' -I/opt/R/arm64/include   -fPIC  -falign-functions=64 -Wall -g -O2  -c SharedVector_class.c -o SharedVector_class.o
clang -arch arm64 -I"/Library/Frameworks/R.framework/Resources/include" -DNDEBUG  -I'/Library/Frameworks/R.framework/Versions/4.2-arm64/Resources/library/S4Vectors/include' -I'/Library/Frameworks/R.framework/Versions/4.2-arm64/Resources/library/IRanges/include' -I/opt/R/arm64/include   -fPIC  -falign-functions=64 -Wall -g -O2  -c XDouble_class.c -o XDouble_class.o
clang -arch arm64 -I"/Library/Frameworks/R.framework/Resources/include" -DNDEBUG  -I'/Library/Frameworks/R.framework/Versions/4.2-arm64/Resources/library/S4Vectors/include' -I'/Library/Frameworks/R.framework/Versions/4.2-arm64/Resources/library/IRanges/include' -I/opt/R/arm64/include   -fPIC  -falign-functions=64 -Wall -g -O2  -c XInteger_class.c -o XInteger_class.o
clang -arch arm64 -I"/Library/Frameworks/R.framework/Resources/include" -DNDEBUG  -I'/Library/Frameworks/R.framework/Versions/4.2-arm64/Resources/library/S4Vectors/include' -I'/Library/Frameworks/R.framework/Versions/4.2-arm64/Resources/library/IRanges/include' -I/opt/R/arm64/include   -fPIC  -falign-functions=64 -Wall -g -O2  -c XRawList_comparison.c -o XRawList_comparison.o
clang -arch arm64 -I"/Library/Frameworks/R.framework/Resources/include" -DNDEBUG  -I'/Library/Frameworks/R.framework/Versions/4.2-arm64/Resources/library/S4Vectors/include' -I'/Library/Frameworks/R.framework/Versions/4.2-arm64/Resources/library/IRanges/include' -I/opt/R/arm64/include   -fPIC  -falign-functions=64 -Wall -g -O2  -c XRaw_class.c -o XRaw_class.o
clang -arch arm64 -I"/Library/Frameworks/R.framework/Resources/include" -DNDEBUG  -I'/Library/Frameworks/R.framework/Versions/4.2-arm64/Resources/library/S4Vectors/include' -I'/Library/Frameworks/R.framework/Versions/4.2-arm64/Resources/library/IRanges/include' -I/opt/R/arm64/include   -fPIC  -falign-functions=64 -Wall -g -O2  -c XVectorList_class.c -o XVectorList_class.o
clang -arch arm64 -I"/Library/Frameworks/R.framework/Resources/include" -DNDEBUG  -I'/Library/Frameworks/R.framework/Versions/4.2-arm64/Resources/library/S4Vectors/include' -I'/Library/Frameworks/R.framework/Versions/4.2-arm64/Resources/library/IRanges/include' -I/opt/R/arm64/include   -fPIC  -falign-functions=64 -Wall -g -O2  -c XVector_class.c -o XVector_class.o
clang -arch arm64 -I"/Library/Frameworks/R.framework/Resources/include" -DNDEBUG  -I'/Library/Frameworks/R.framework/Versions/4.2-arm64/Resources/library/S4Vectors/include' -I'/Library/Frameworks/R.framework/Versions/4.2-arm64/Resources/library/IRanges/include' -I/opt/R/arm64/include   -fPIC  -falign-functions=64 -Wall -g -O2  -c io_utils.c -o io_utils.o
clang -arch arm64 -I"/Library/Frameworks/R.framework/Resources/include" -DNDEBUG  -I'/Library/Frameworks/R.framework/Versions/4.2-arm64/Resources/library/S4Vectors/include' -I'/Library/Frameworks/R.framework/Versions/4.2-arm64/Resources/library/IRanges/include' -I/opt/R/arm64/include   -fPIC  -falign-functions=64 -Wall -g -O2  -c slice_methods.c -o slice_methods.o
clang -arch arm64 -I"/Library/Frameworks/R.framework/Resources/include" -DNDEBUG  -I'/Library/Frameworks/R.framework/Versions/4.2-arm64/Resources/library/S4Vectors/include' -I'/Library/Frameworks/R.framework/Versions/4.2-arm64/Resources/library/IRanges/include' -I/opt/R/arm64/include   -fPIC  -falign-functions=64 -Wall -g -O2  -c vector_copy.c -o vector_copy.o
clang -arch arm64 -I"/Library/Frameworks/R.framework/Resources/include" -DNDEBUG  -I'/Library/Frameworks/R.framework/Versions/4.2-arm64/Resources/library/S4Vectors/include' -I'/Library/Frameworks/R.framework/Versions/4.2-arm64/Resources/library/IRanges/include' -I/opt/R/arm64/include   -fPIC  -falign-functions=64 -Wall -g -O2  -c view_summarization_methods.c -o view_summarization_methods.o
clang -arch arm64 -dynamiclib -Wl,-headerpad_max_install_names -undefined dynamic_lookup -single_module -multiply_defined suppress -L/Library/Frameworks/R.framework/Resources/lib -L/opt/R/arm64/lib -o XVector.so IRanges_stubs.o Ocopy_byteblocks.o RDS_random_access.o R_init_XVector.o S4Vectors_stubs.o SharedDouble_class.o SharedInteger_class.o SharedRaw_class.o SharedVector_class.o XDouble_class.o XInteger_class.o XRawList_comparison.o XRaw_class.o XVectorList_class.o XVector_class.o io_utils.o slice_methods.o vector_copy.o view_summarization_methods.o -lz -F/Library/Frameworks/R.framework/.. -framework R -Wl,-framework -Wl,CoreFoundation
installing to /Users/biocbuild/bbs-3.16-bioc/meat/XVector.buildbin-libdir/00LOCK-XVector/00new/XVector/libs
** R
** inst
** byte-compile and prepare package for lazy loading
** help
*** installing help indices
** building package indices
** testing if installed package can be loaded from temporary location
** checking absolute paths in shared objects and dynamic libraries
** testing if installed package can be loaded from final location
** testing if installed package keeps a record of temporary installation path
* DONE (XVector)
>>>>>>> 
>>>>>>> FIXING LINKS FOR XVector.buildbin-libdir/XVector/libs/XVector.so
>>>>>>> 
ERROR: R installation problem: File /Library/Frameworks/R.framework/Versions/4.2/Resources/lib/libgcc_s.1.dylib not found!