| Back to Multiple platform build/check report for BioC 3.16 |
This page was generated on 2022-07-11 11:07:06 -0400 (Mon, 11 Jul 2022).
| Hostname: | kjohnson |
| OS: | macOS 12.4 Monterey |
| Arch: | arm64 |
| Platform: | arm64-apple-darwin21.5.0 |
| R version: | 4.2.1 (2022-06-23) -- "Funny-Looking Kid" |
| R environment variables: | Renviron.bioc |
| R variable (VAR) | Value ('R CMD config <VAR>' output) |
| CC | clang -arch arm64 |
| CFLAGS | -falign-functions=64 -Wall -g -O2 |
| CPICFLAGS | -fPIC |
| Please refer to 'R CMD config -h' for the meaning of these variables | |
Compiler version ('clang -arch arm64 --version' output):
Apple clang version 13.1.6 (clang-1316.0.21.2.5) Target: arm64-apple-darwin21.5.0 Thread model: posix InstalledDir: /Library/Developer/CommandLineTools/usr/bin
| R variable (VAR) | Value ('R CMD config <VAR>' output) |
| CXX | clang++ -arch arm64 -std=gnu++14 |
| CXXFLAGS | -falign-functions=64 -Wall -g -O2 |
| CXXPICFLAGS | -fPIC |
| Please refer to 'R CMD config -h' for the meaning of these variables | |
Compiler version ('clang++ -arch arm64 -std=gnu++14 --version' output):
Apple clang version 13.1.6 (clang-1316.0.21.2.5) Target: arm64-apple-darwin21.5.0 Thread model: posix InstalledDir: /Library/Developer/CommandLineTools/usr/bin
| R variable (VAR) | Value ('R CMD config <VAR>' output) |
| CXX11 | clang++ -arch arm64 |
| CXX11FLAGS | -falign-functions=64 -Wall -g -O2 |
| CXX11PICFLAGS | -fPIC |
| CXX11STD | -std=gnu++11 |
| Please refer to 'R CMD config -h' for the meaning of these variables | |
Compiler version ('clang++ -arch arm64 --version' output):
Apple clang version 13.1.6 (clang-1316.0.21.2.5) Target: arm64-apple-darwin21.5.0 Thread model: posix InstalledDir: /Library/Developer/CommandLineTools/usr/bin
| R variable (VAR) | Value ('R CMD config <VAR>' output) |
| CXX14 | clang++ -arch arm64 |
| CXX14FLAGS | -falign-functions=64 -Wall -g -O2 |
| CXX14PICFLAGS | -fPIC |
| CXX14STD | -std=gnu++14 |
| Please refer to 'R CMD config -h' for the meaning of these variables | |
Compiler version ('clang++ -arch arm64 --version' output):
Apple clang version 13.1.6 (clang-1316.0.21.2.5) Target: arm64-apple-darwin21.5.0 Thread model: posix InstalledDir: /Library/Developer/CommandLineTools/usr/bin
| R variable (VAR) | Value ('R CMD config <VAR>' output) |
| CXX17 | clang++ -arch arm64 |
| CXX17FLAGS | -falign-functions=64 -Wall -g -O2 |
| CXX17PICFLAGS | -fPIC |
| CXX17STD | -std=gnu++17 |
| Please refer to 'R CMD config -h' for the meaning of these variables | |
Compiler version ('clang++ -arch arm64 --version' output):
Apple clang version 13.1.6 (clang-1316.0.21.2.5) Target: arm64-apple-darwin21.5.0 Thread model: posix InstalledDir: /Library/Developer/CommandLineTools/usr/bin
More information might be added in the future...