| Back to Multiple platform build/check report for BioC 3.16 | 
 | 
This page was generated on 2022-07-07 11:12:07 -0400 (Thu, 07 Jul 2022).
| Hostname | OS | Arch (*) | R version | Installed pkgs | 
|---|---|---|---|---|
| nebbiolo2 | Linux (Ubuntu 20.04.4 LTS) | x86_64 | 4.2.0 Patched (2022-06-02 r82447) -- "Vigorous Calisthenics" | 4343 | 
| palomino4 | Windows Server 2022 Datacenter | x64 | 4.2.0 Patched (2022-06-02 r82447 ucrt) -- "Vigorous Calisthenics" | 4148 | 
| lconway | macOS 12.2.1 Monterey | x86_64 | 4.2.0 Patched (2022-05-29 r82424) -- "Vigorous Calisthenics" | 4160 | 
| kjohnson | macOS 12.4 Monterey | arm64 | 4.2.0 Patched (2022-06-09 r82473) -- "Vigorous Calisthenics" | 3115 | 
| Click on any hostname to see more info about the system (e.g. compilers) (*) as reported by 'uname -p', except on Windows and Mac OS X | ||||
| To the developers/maintainers of the TFARM package: - Please allow up to 24 hours (and sometimes 48 hours) for your latest push to git@git.bioconductor.org:packages/TFARM.git to reflect on this report. See How and When does the builder pull? When will my changes propagate? for more information. - Make sure to use the following settings in order to reproduce any error or warning you see on this page. | 
| Package 1983/2124 | Hostname | OS / Arch | INSTALL | BUILD | CHECK | BUILD BIN | ||||||||
| TFARM 1.19.0  (landing page) Liuba Nausicaa Martino 
 | nebbiolo2 | Linux (Ubuntu 20.04.4 LTS) / x86_64 | OK | OK | OK |  | ||||||||
| palomino4 | Windows Server 2022 Datacenter / x64 | OK | OK | OK | OK |  | ||||||||
| lconway | macOS 12.2.1 Monterey / x86_64 | OK | OK | OK | OK |  | ||||||||
| kjohnson | macOS 12.4 Monterey / arm64 | OK | OK | NA | OK | |||||||||
| Package: TFARM | 
| Version: 1.19.0 | 
| Command: /Library/Frameworks/R.framework/Resources/bin/R CMD build --keep-empty-dirs --no-resave-data TFARM | 
| StartedAt: 2022-07-07 06:30:15 -0400 (Thu, 07 Jul 2022) | 
| EndedAt: 2022-07-07 06:32:21 -0400 (Thu, 07 Jul 2022) | 
| EllapsedTime: 126.0 seconds | 
| RetCode: 0 | 
| Status: OK | 
| PackageFile: TFARM_1.19.0.tar.gz | 
| PackageFileSize: 470.1 KiB | 
##############################################################################
##############################################################################
###
### Running command:
###
###   /Library/Frameworks/R.framework/Resources/bin/R CMD build --keep-empty-dirs --no-resave-data TFARM
###
##############################################################################
##############################################################################
* checking for file ‘TFARM/DESCRIPTION’ ... OK
* preparing ‘TFARM’:
* checking DESCRIPTION meta-information ... OK
* installing the package to build vignettes
* creating vignettes ... OK
Warning: ‘inst/doc’ files
    ‘TFARM.Rnw’, ‘TFARM.pdf’, ‘TFARM.R’
  ignored as vignettes have been rebuilt.
  Run R CMD build with --no-build-vignettes to prevent rebuilding.
* checking for LF line-endings in source and make files and shell scripts
* checking for empty or unneeded directories
  NB: this package now depends on R (>= 3.5.0)
  WARNING: Added dependency on R >= 3.5.0 because serialized objects in
  serialize/load version 3 cannot be read in older versions of R.
  File(s) containing such objects:
    ‘TFARM/data/MCF7_chr1.rda’
* building ‘TFARM_1.19.0.tar.gz’