| Back to Multiple platform build/check report for BioC 3.16 | 
 | 
This page was generated on 2022-07-11 11:06:39 -0400 (Mon, 11 Jul 2022).
| Hostname | OS | Arch (*) | R version | Installed pkgs | 
|---|---|---|---|---|
| nebbiolo2 | Linux (Ubuntu 20.04.4 LTS) | x86_64 | 4.2.1 (2022-06-23) -- "Funny-Looking Kid" | 4148 | 
| lconway | macOS 12.2.1 Monterey | x86_64 | 4.2.0 Patched (2022-05-29 r82424) -- "Vigorous Calisthenics" | 4168 | 
| kjohnson | macOS 12.4 Monterey | arm64 | 4.2.1 (2022-06-23) -- "Funny-Looking Kid" | 3545 | 
| Click on any hostname to see more info about the system (e.g. compilers) (*) as reported by 'uname -p', except on Windows and Mac OS X | ||||
| To the developers/maintainers of the BDMMAcorrect package: - Please allow up to 24 hours (and sometimes 48 hours) for your latest push to git@git.bioconductor.org:packages/BDMMAcorrect.git to reflect on this report. See How and When does the builder pull? When will my changes propagate? for more information. - Make sure to use the following settings in order to reproduce any error or warning you see on this page. | 
| Package 130/2130 | Hostname | OS / Arch | INSTALL | BUILD | CHECK | BUILD BIN | ||||||||
| BDMMAcorrect 1.15.0  (landing page) ZHENWEI DAI 
 | nebbiolo2 | Linux (Ubuntu 20.04.4 LTS) / x86_64 | OK | OK | OK |  | ||||||||
| lconway | macOS 12.2.1 Monterey / x86_64 | OK | OK | OK | OK |  | ||||||||
| kjohnson | macOS 12.4 Monterey / arm64 | OK | OK | NA | NA | |||||||||
| Package: BDMMAcorrect | 
| Version: 1.15.0 | 
| Command: /Library/Frameworks/R.framework/Resources/bin/R CMD build --keep-empty-dirs --no-resave-data BDMMAcorrect | 
| StartedAt: 2022-07-10 21:18:25 -0400 (Sun, 10 Jul 2022) | 
| EndedAt: 2022-07-10 21:31:17 -0400 (Sun, 10 Jul 2022) | 
| EllapsedTime: 772.8 seconds | 
| RetCode: 0 | 
| Status: OK | 
| PackageFile: BDMMAcorrect_1.15.0.tar.gz | 
| PackageFileSize: 385.9 KiB | 
############################################################################## ############################################################################## ### ### Running command: ### ### /Library/Frameworks/R.framework/Resources/bin/R CMD build --keep-empty-dirs --no-resave-data BDMMAcorrect ### ############################################################################## ############################################################################## * checking for file ‘BDMMAcorrect/DESCRIPTION’ ... OK * preparing ‘BDMMAcorrect’: * checking DESCRIPTION meta-information ... OK * cleaning src * installing the package to build vignettes * creating vignettes ... OK * cleaning src * checking for LF line-endings in source and make files and shell scripts * checking for empty or unneeded directories * building ‘BDMMAcorrect_1.15.0.tar.gz’