| Back to Build/check report for BioC 3.15 experimental data |
|
This page was generated on 2022-02-17 08:36:54 -0500 (Thu, 17 Feb 2022).
| Hostname | OS | Arch (*) | R version | Installed pkgs |
|---|---|---|---|---|
| nebbiolo2 | Linux (Ubuntu 20.04.4 LTS) | x86_64 | R Under development (unstable) (2022-01-05 r81451) -- "Unsuffered Consequences" | 1362 |
| Click on any hostname to see more info about the system (e.g. compilers) (*) as reported by 'uname -p', except on Windows and Mac OS X | ||||
|
To the developers/maintainers of the TCGAWorkflowData package: Make sure to use the following settings in order to reproduce any error or warning you see on this page. |
| Package 380/406 | Hostname | OS / Arch | INSTALL | BUILD | CHECK | ||||||||
| TCGAWorkflowData 1.19.1 (landing page) Tiago Chedraoui Silva
| nebbiolo2 | Linux (Ubuntu 20.04.4 LTS) / x86_64 | OK | OK | WARNINGS | ||||||||
| Package: TCGAWorkflowData |
| Version: 1.19.1 |
| Command: /home/biocbuild/bbs-3.15-data-experiment/R/bin/R CMD build --keep-empty-dirs --no-resave-data TCGAWorkflowData |
| StartedAt: 2022-02-17 06:22:30 -0500 (Thu, 17 Feb 2022) |
| EndedAt: 2022-02-17 06:25:22 -0500 (Thu, 17 Feb 2022) |
| EllapsedTime: 172.2 seconds |
| RetCode: 0 |
| Status: OK |
| PackageFile: TCGAWorkflowData_1.19.1.tar.gz |
| PackageFileSize: 77.56 MiB |
##############################################################################
##############################################################################
###
### Running command:
###
### /home/biocbuild/bbs-3.15-data-experiment/R/bin/R CMD build --keep-empty-dirs --no-resave-data TCGAWorkflowData
###
##############################################################################
##############################################################################
* checking for file ‘TCGAWorkflowData/DESCRIPTION’ ... OK
* preparing ‘TCGAWorkflowData’:
* checking DESCRIPTION meta-information ... OK
* installing the package to build vignettes
* creating vignettes ... OK
* checking for LF line-endings in source and make files and shell scripts
* checking for empty or unneeded directories
* looking to see if a ‘data/datalist’ file should be added
NB: this package now depends on R (>= 3.5.0)
WARNING: Added dependency on R >= 3.5.0 because serialized objects in
serialize/load version 3 cannot be read in older versions of R.
File(s) containing such objects:
‘TCGAWorkflowData/data/CNV.hg19.bypos.111213.rda’
‘TCGAWorkflowData/data/GBMIllumina_HiSeq.rda’
‘TCGAWorkflowData/data/LGGIllumina_HiSeq.rda’
‘TCGAWorkflowData/data/elmerExample.rda’
‘TCGAWorkflowData/data/genes_GR.rda’
‘TCGAWorkflowData/data/histoneMarks.rda’
‘TCGAWorkflowData/data/met20SamplesGBMLGGchr9.rda’
* building ‘TCGAWorkflowData_1.19.1.tar.gz’