| Back to Build/check report for BioC 3.15 experimental data |
This page was generated on 2022-02-17 08:36:54 -0500 (Thu, 17 Feb 2022).
LibPath Version Built
abind /home/biocbuild/bbs-3.15-data-experiment/R/library 1.4-5 4.2.0
aCGH /home/biocbuild/bbs-3.15-data-experiment/R/library 1.73.0 4.2.0
adductData /home/biocbuild/bbs-3.15-data-experiment/R/library 1.11.0 4.2.0
ade4 /home/biocbuild/bbs-3.15-data-experiment/R/library 1.7-18 4.2.0
affxparser /home/biocbuild/bbs-3.15-data-experiment/R/library 1.67.0 4.2.0
affy /home/biocbuild/bbs-3.15-data-experiment/R/library 1.73.0 4.2.0
affycomp /home/biocbuild/bbs-3.15-data-experiment/R/library 1.71.0 4.2.0
affycompData /home/biocbuild/bbs-3.15-data-experiment/R/library 1.33.0 4.2.0
affydata /home/biocbuild/bbs-3.15-data-experiment/R/library 1.43.0 4.2.0
Affyhgu133A2Expr /home/biocbuild/bbs-3.15-data-experiment/R/library 1.31.0 4.2.0
Affyhgu133aExpr /home/biocbuild/bbs-3.15-data-experiment/R/library 1.33.0 4.2.0
Affyhgu133Plus2Expr /home/biocbuild/bbs-3.15-data-experiment/R/library 1.29.0 4.2.0
affyio /home/biocbuild/bbs-3.15-data-experiment/R/library 1.65.0 4.2.0
AffymetrixDataTestFiles /home/biocbuild/bbs-3.15-data-experiment/R/library 0.33.0 4.2.0
Affymoe4302Expr /home/biocbuild/bbs-3.15-data-experiment/R/library 1.33.0 4.2.0
AIMS /home/biocbuild/bbs-3.15-data-experiment/R/library 1.27.0 4.2.0
airway /home/biocbuild/bbs-3.15-data-experiment/R/library 1.15.1 4.2.0
ALL /home/biocbuild/bbs-3.15-data-experiment/R/library 1.37.0 4.2.0
ALLMLL /home/biocbuild/bbs-3.15-data-experiment/R/library 1.35.0 4.2.0
alpineData /home/biocbuild/bbs-3.15-data-experiment/R/library 1.21.0 4.2.0
amap /home/biocbuild/bbs-3.15-data-experiment/R/library 0.8-18 4.2.0
AmpAffyExample /home/biocbuild/bbs-3.15-data-experiment/R/library 1.35.0 4.2.0
AneuFinderData /home/biocbuild/bbs-3.15-data-experiment/R/library 1.23.0 4.2.0
ANF /home/biocbuild/bbs-3.15-data-experiment/R/library 1.17.0 4.2.0
animation /home/biocbuild/bbs-3.15-data-experiment/R/library 2.7 4.2.0
annotate /home/biocbuild/bbs-3.15-data-experiment/R/library 1.73.0 4.2.0
AnnotationDbi /home/biocbuild/bbs-3.15-data-experiment/R/library 1.57.1 4.2.0
AnnotationFilter /home/biocbuild/bbs-3.15-data-experiment/R/library 1.19.0 4.2.0
AnnotationForge /home/biocbuild/bbs-3.15-data-experiment/R/library 1.37.0 4.2.0
AnnotationHub /home/biocbuild/bbs-3.15-data-experiment/R/library 3.3.8 4.2.0
AnnotationHubData /home/biocbuild/bbs-3.15-data-experiment/R/library 1.25.5 4.2.0
antiProfilesData /home/biocbuild/bbs-3.15-data-experiment/R/library 1.31.0 4.2.0
aod /home/biocbuild/bbs-3.15-data-experiment/R/library 1.3.1 4.2.0
apcluster /home/biocbuild/bbs-3.15-data-experiment/R/library 1.4.9 4.2.0
ape /home/biocbuild/bbs-3.15-data-experiment/R/library 5.6-1 4.2.0
apeglm /home/biocbuild/bbs-3.15-data-experiment/R/library 1.17.0 4.2.0
aplot /home/biocbuild/bbs-3.15-data-experiment/R/library 0.1.2 4.2.0
aracne.networks /home/biocbuild/bbs-3.15-data-experiment/R/library 1.21.0 4.2.0
arm /home/biocbuild/bbs-3.15-data-experiment/R/library 1.12-2 4.2.0
ArrayExpress /home/biocbuild/bbs-3.15-data-experiment/R/library 1.55.0 4.2.0
ARRmData /home/biocbuild/bbs-3.15-data-experiment/R/library 1.31.0 4.2.0
ash /home/biocbuild/bbs-3.15-data-experiment/R/library 1.0-15 4.2.0
AshkenazimSonChr21 /home/biocbuild/bbs-3.15-data-experiment/R/library 1.25.0 4.2.0
ASICSdata /home/biocbuild/bbs-3.15-data-experiment/R/library 1.15.0 4.2.0
askpass /home/biocbuild/bbs-3.15-data-experiment/R/library 1.1 4.2.0
assertthat /home/biocbuild/bbs-3.15-data-experiment/R/library 0.2.1 4.2.0
AssessORF /home/biocbuild/bbs-3.15-data-experiment/R/library 1.13.0 4.2.0
AssessORFData /home/biocbuild/bbs-3.15-data-experiment/R/library 1.13.0 4.2.0
ath1121501cdf /home/biocbuild/bbs-3.15-data-experiment/R/library 2.18.0 4.2.0
attempt /home/biocbuild/bbs-3.15-data-experiment/R/library 0.3.1 4.2.0
aws.s3 /home/biocbuild/bbs-3.15-data-experiment/R/library 0.3.21 4.2.0
aws.signature /home/biocbuild/bbs-3.15-data-experiment/R/library 0.6.0 4.2.0
backports /home/biocbuild/bbs-3.15-data-experiment/R/library 1.4.1 4.2.0
bambu /home/biocbuild/bbs-3.15-data-experiment/R/library 2.1.4 4.2.0
base /home/biocbuild/bbs-3.15-data-experiment/R/library 4.2.0 4.2.0
base64 /home/biocbuild/bbs-3.15-data-experiment/R/library 2.0 4.2.0
base64enc /home/biocbuild/bbs-3.15-data-experiment/R/library 0.1-3 4.2.0
BatchJobs /home/biocbuild/bbs-3.15-data-experiment/R/library 1.8 4.2.0
bayesm /home/biocbuild/bbs-3.15-data-experiment/R/library 3.1-4 4.2.0
BBmisc /home/biocbuild/bbs-3.15-data-experiment/R/library 1.11 4.2.0
bbmle /home/biocbuild/bbs-3.15-data-experiment/R/library 1.0.24 4.2.0
bcellViper /home/biocbuild/bbs-3.15-data-experiment/R/library 1.31.0 4.2.0
bdsmatrix /home/biocbuild/bbs-3.15-data-experiment/R/library 1.3-4 4.2.0
beachmat /home/biocbuild/bbs-3.15-data-experiment/R/library 2.11.0 4.2.0
beadarray /home/biocbuild/bbs-3.15-data-experiment/R/library 2.45.0 4.2.0
beadarrayExampleData /home/biocbuild/bbs-3.15-data-experiment/R/library 1.33.0 4.2.0
BeadArrayUseCases /home/biocbuild/bbs-3.15-data-experiment/R/library 1.33.0 4.2.0
BeadDataPackR /home/biocbuild/bbs-3.15-data-experiment/R/library 1.47.0 4.2.0
BeadSorted.Saliva.EPIC /home/biocbuild/bbs-3.15-data-experiment/R/library 1.3.0 4.2.0
beanplot /home/biocbuild/bbs-3.15-data-experiment/R/library 1.2 4.2.0
beeswarm /home/biocbuild/bbs-3.15-data-experiment/R/library 0.4.0 4.2.0
benchmarkfdrData2019 /home/biocbuild/bbs-3.15-data-experiment/R/library 1.9.0 4.2.0
benchmarkme /home/biocbuild/bbs-3.15-data-experiment/R/library 1.0.7 4.2.0
benchmarkmeData /home/biocbuild/bbs-3.15-data-experiment/R/library 1.0.4 4.2.0
beta7 /home/biocbuild/bbs-3.15-data-experiment/R/library 1.33.0 4.2.0
betareg /home/biocbuild/bbs-3.15-data-experiment/R/library 3.1-4 4.2.0
BH /home/biocbuild/bbs-3.15-data-experiment/R/library 1.78.0-0 4.2.0
biglm /home/biocbuild/bbs-3.15-data-experiment/R/library 0.9-2.1 4.2.0
bigmemory /home/biocbuild/bbs-3.15-data-experiment/R/library 4.5.36 4.2.0
bigmemory.sri /home/biocbuild/bbs-3.15-data-experiment/R/library 0.1.3 4.2.0
bigrquery /home/biocbuild/bbs-3.15-data-experiment/R/library 1.4.0 4.2.0
Biobase /home/biocbuild/bbs-3.15-data-experiment/R/library 2.55.0 4.2.0
BiocCheck /home/biocbuild/bbs-3.15-data-experiment/R/library 1.31.34 4.2.0
BiocFileCache /home/biocbuild/bbs-3.15-data-experiment/R/library 2.3.4 4.2.0
BiocGenerics /home/biocbuild/bbs-3.15-data-experiment/R/library 0.41.2 4.2.0
BiocIO /home/biocbuild/bbs-3.15-data-experiment/R/library 1.5.0 4.2.0
BiocManager /home/biocbuild/bbs-3.15-data-experiment/R/library 1.30.16 4.2.0
BiocNeighbors /home/biocbuild/bbs-3.15-data-experiment/R/library 1.13.0 4.2.0
BiocParallel /home/biocbuild/bbs-3.15-data-experiment/R/library 1.29.12 4.2.0
BiocSingular /home/biocbuild/bbs-3.15-data-experiment/R/library 1.11.0 4.2.0
BiocStyle /home/biocbuild/bbs-3.15-data-experiment/R/library 2.23.1 4.2.0
BiocVersion /home/biocbuild/bbs-3.15-data-experiment/R/library 3.15.0 4.2.0
biocViews /home/biocbuild/bbs-3.15-data-experiment/R/library 1.63.2 4.2.0
BioImageDbs /home/biocbuild/bbs-3.15-data-experiment/R/library 1.3.1 4.2.0
biomaRt /home/biocbuild/bbs-3.15-data-experiment/R/library 2.51.3 4.2.0
biomformat /home/biocbuild/bbs-3.15-data-experiment/R/library 1.23.0 4.2.0
Biostrings /home/biocbuild/bbs-3.15-data-experiment/R/library 2.63.1 4.2.0
biotmleData /home/biocbuild/bbs-3.15-data-experiment/R/library 1.19.1 4.2.0
biovizBase /home/biocbuild/bbs-3.15-data-experiment/R/library 1.43.1 4.2.0
biscuiteerData /home/biocbuild/bbs-3.15-data-experiment/R/library 1.9.0 4.2.0
BiSeq /home/biocbuild/bbs-3.15-data-experiment/R/library 1.35.1 4.2.0
bit /home/biocbuild/bbs-3.15-data-experiment/R/library 4.0.4 4.2.0
bit64 /home/biocbuild/bbs-3.15-data-experiment/R/library 4.0.5 4.2.0
bitops /home/biocbuild/bbs-3.15-data-experiment/R/library 1.0-7 4.2.0
bladderbatch /home/biocbuild/bbs-3.15-data-experiment/R/library 1.33.0 4.2.0
blima /home/biocbuild/bbs-3.15-data-experiment/R/library 1.29.0 4.2.0
blimaTestingData /home/biocbuild/bbs-3.15-data-experiment/R/library 1.15.0 4.2.0
blme /home/biocbuild/bbs-3.15-data-experiment/R/library 1.0-5 4.2.0
blob /home/biocbuild/bbs-3.15-data-experiment/R/library 1.2.2 4.2.0
BloodCancerMultiOmics2017 /home/biocbuild/bbs-3.15-data-experiment/R/library 1.15.1 4.2.0
bluster /home/biocbuild/bbs-3.15-data-experiment/R/library 1.5.0 4.2.0
BMA /home/biocbuild/bbs-3.15-data-experiment/R/library 3.18.15 4.2.0
bodymapRat /home/biocbuild/bbs-3.15-data-experiment/R/library 1.11.0 4.2.0
bookdown /home/biocbuild/bbs-3.15-data-experiment/R/library 0.24 4.2.0
boot /home/biocbuild/bbs-3.15-data-experiment/R/library 1.3-28 4.2.0
bootstrap /home/biocbuild/bbs-3.15-data-experiment/R/library 2019.6 4.2.0
BRAIN /home/biocbuild/bbs-3.15-data-experiment/R/library 1.41.0 4.2.0
breakpointRdata /home/biocbuild/bbs-3.15-data-experiment/R/library 1.13.0 4.2.0
breastCancerMAINZ /home/biocbuild/bbs-3.15-data-experiment/R/library 1.33.0 4.2.0
breastCancerNKI /home/biocbuild/bbs-3.15-data-experiment/R/library 1.33.0 4.2.0
breastCancerTRANSBIG /home/biocbuild/bbs-3.15-data-experiment/R/library 1.33.0 4.2.0
breastCancerUNT /home/biocbuild/bbs-3.15-data-experiment/R/library 1.33.0 4.2.0
breastCancerUPP /home/biocbuild/bbs-3.15-data-experiment/R/library 1.33.0 4.2.0
breastCancerVDX /home/biocbuild/bbs-3.15-data-experiment/R/library 1.33.0 4.2.0
brew /home/biocbuild/bbs-3.15-data-experiment/R/library 1.0-7 4.2.0
brgedata /home/biocbuild/bbs-3.15-data-experiment/R/library 1.17.0 4.2.0
brglm /home/biocbuild/bbs-3.15-data-experiment/R/library 0.7.2 4.2.0
brio /home/biocbuild/bbs-3.15-data-experiment/R/library 1.1.3 4.2.0
bronchialIL13 /home/biocbuild/bbs-3.15-data-experiment/R/library 1.33.0 4.2.0
broom /home/biocbuild/bbs-3.15-data-experiment/R/library 0.7.12 4.2.0
BSgenome /home/biocbuild/bbs-3.15-data-experiment/R/library 1.63.4 4.2.0
BSgenome.Hsapiens.NCBI.GRCh38 /home/biocbuild/bbs-3.15-data-experiment/R/library 1.3.1000 4.2.0
BSgenome.Hsapiens.UCSC.hg18 /home/biocbuild/bbs-3.15-data-experiment/R/library 1.3.1000 4.2.0
bslib /home/biocbuild/bbs-3.15-data-experiment/R/library 0.3.1 4.2.0
bsseq /home/biocbuild/bbs-3.15-data-experiment/R/library 1.31.1 4.2.0
bsseqData /home/biocbuild/bbs-3.15-data-experiment/R/library 0.33.1 4.2.0
bumphunter /home/biocbuild/bbs-3.15-data-experiment/R/library 1.37.1 4.2.0
BumpyMatrix /home/biocbuild/bbs-3.15-data-experiment/R/library 1.3.0 4.2.0
cachem /home/biocbuild/bbs-3.15-data-experiment/R/library 1.0.6 4.2.0
CAGEfightR /home/biocbuild/bbs-3.15-data-experiment/R/library 1.15.1 4.2.0
Cairo /home/biocbuild/bbs-3.15-data-experiment/R/library 1.5-14 4.2.0
calibrate /home/biocbuild/bbs-3.15-data-experiment/R/library 1.7.7 4.2.0
callr /home/biocbuild/bbs-3.15-data-experiment/R/library 3.7.0 4.2.0
CAMERA /home/biocbuild/bbs-3.15-data-experiment/R/library 1.51.1 4.2.0
cancerdata /home/biocbuild/bbs-3.15-data-experiment/R/library 1.33.0 4.2.0
car /home/biocbuild/bbs-3.15-data-experiment/R/library 3.0-12 4.2.0
carData /home/biocbuild/bbs-3.15-data-experiment/R/library 3.0-5 4.2.0
Cardinal /home/biocbuild/bbs-3.15-data-experiment/R/library 2.13.1 4.2.0
CardinalWorkflows /home/biocbuild/bbs-3.15-data-experiment/R/library 1.27.0 4.2.0
caret /home/biocbuild/bbs-3.15-data-experiment/R/library 6.0-90 4.2.0
Category /home/biocbuild/bbs-3.15-data-experiment/R/library 2.61.0 4.2.0
caTools /home/biocbuild/bbs-3.15-data-experiment/R/library 1.18.2 4.2.0
ccdata /home/biocbuild/bbs-3.15-data-experiment/R/library 1.21.0 4.2.0
CCl4 /home/biocbuild/bbs-3.15-data-experiment/R/library 1.33.0 4.2.0
ccTutorial /home/biocbuild/bbs-3.15-data-experiment/R/library 1.33.0 4.2.0
celarefData /home/biocbuild/bbs-3.15-data-experiment/R/library 1.13.0 4.2.0
celldex /home/biocbuild/bbs-3.15-data-experiment/R/library 1.5.0 4.2.0
cellHTS2 /home/biocbuild/bbs-3.15-data-experiment/R/library 2.59.0 4.2.0
CellMapper /home/biocbuild/bbs-3.15-data-experiment/R/library 1.21.0 4.2.0
CellMapperData /home/biocbuild/bbs-3.15-data-experiment/R/library 1.21.0 4.2.0
cellranger /home/biocbuild/bbs-3.15-data-experiment/R/library 1.1.0 4.2.0
cgdsr /home/biocbuild/bbs-3.15-data-experiment/R/library 1.3.0 4.2.0
CGHbase /home/biocbuild/bbs-3.15-data-experiment/R/library 1.55.0 4.2.0
CGHcall /home/biocbuild/bbs-3.15-data-experiment/R/library 2.57.0 4.2.0
ChAMPdata /home/biocbuild/bbs-3.15-data-experiment/R/library 2.27.1 4.2.0
checkmate /home/biocbuild/bbs-3.15-data-experiment/R/library 2.0.0 4.2.0
ChIC.data /home/biocbuild/bbs-3.15-data-experiment/R/library 1.15.0 4.2.0
Chicago /home/biocbuild/bbs-3.15-data-experiment/R/library 1.23.0 4.2.0
ChimpHumanBrainData /home/biocbuild/bbs-3.15-data-experiment/R/library 1.33.0 4.2.0
chipenrich.data /home/biocbuild/bbs-3.15-data-experiment/R/library 2.19.1 4.2.0
ChIPexoQualExample /home/biocbuild/bbs-3.15-data-experiment/R/library 1.19.0 4.2.0
ChIPseeker /home/biocbuild/bbs-3.15-data-experiment/R/library 1.31.3 4.2.0
chipseqDBData /home/biocbuild/bbs-3.15-data-experiment/R/library 1.11.0 4.2.0
ChIPXpressData /home/biocbuild/bbs-3.15-data-experiment/R/library 1.33.0 4.2.0
chromstaRData /home/biocbuild/bbs-3.15-data-experiment/R/library 1.21.0 4.2.0
chron /home/biocbuild/bbs-3.15-data-experiment/R/library 2.3-56 4.2.0
circlize /home/biocbuild/bbs-3.15-data-experiment/R/library 0.4.14 4.2.0
class /home/biocbuild/bbs-3.15-data-experiment/R/library 7.3-20 4.2.0
cleaver /home/biocbuild/bbs-3.15-data-experiment/R/library 1.33.0 4.2.0
cli /home/biocbuild/bbs-3.15-data-experiment/R/library 3.2.0 4.2.0
clipr /home/biocbuild/bbs-3.15-data-experiment/R/library 0.7.1 4.2.0
CLL /home/biocbuild/bbs-3.15-data-experiment/R/library 1.35.0 4.2.0
CLLmethylation /home/biocbuild/bbs-3.15-data-experiment/R/library 1.15.0 4.2.0
clue /home/biocbuild/bbs-3.15-data-experiment/R/library 0.3-60 4.2.0
CluMSIDdata /home/biocbuild/bbs-3.15-data-experiment/R/library 1.11.0 4.2.0
cluster /home/biocbuild/bbs-3.15-data-experiment/R/library 2.1.2 4.2.0
clusterProfiler /home/biocbuild/bbs-3.15-data-experiment/R/library 4.3.2 4.2.0
clustifyr /home/biocbuild/bbs-3.15-data-experiment/R/library 1.7.2 4.2.0
clustifyrdatahub /home/biocbuild/bbs-3.15-data-experiment/R/library 1.5.0 4.2.0
clustsig /home/biocbuild/bbs-3.15-data-experiment/R/library 1.1 4.2.0
cMap2data /home/biocbuild/bbs-3.15-data-experiment/R/library 1.31.0 4.2.0
cnvGSA /home/biocbuild/bbs-3.15-data-experiment/R/library 1.39.0 4.2.0
cnvGSAdata /home/biocbuild/bbs-3.15-data-experiment/R/library 1.31.0 4.2.0
coda /home/biocbuild/bbs-3.15-data-experiment/R/library 0.19-4 4.2.0
codelink /home/biocbuild/bbs-3.15-data-experiment/R/library 1.63.0 4.2.0
codetools /home/biocbuild/bbs-3.15-data-experiment/R/library 0.2-18 4.2.0
COHCAPanno /home/biocbuild/bbs-3.15-data-experiment/R/library 1.31.0 4.2.0
colonCA /home/biocbuild/bbs-3.15-data-experiment/R/library 1.37.0 4.2.0
colorRamps /home/biocbuild/bbs-3.15-data-experiment/R/library 2.3 4.2.0
colorspace /home/biocbuild/bbs-3.15-data-experiment/R/library 2.0-2 4.2.0
colourpicker /home/biocbuild/bbs-3.15-data-experiment/R/library 1.1.1 4.2.0
commonmark /home/biocbuild/bbs-3.15-data-experiment/R/library 1.7 4.2.0
compiler /home/biocbuild/bbs-3.15-data-experiment/R/library 4.2.0 4.2.0
ComplexHeatmap /home/biocbuild/bbs-3.15-data-experiment/R/library 2.11.0 4.2.0
compositions /home/biocbuild/bbs-3.15-data-experiment/R/library 2.0-4 4.2.0
CONFESSdata /home/biocbuild/bbs-3.15-data-experiment/R/library 1.23.0 4.2.0
config /home/biocbuild/bbs-3.15-data-experiment/R/library 0.3.1 4.2.0
ConnectivityMap /home/biocbuild/bbs-3.15-data-experiment/R/library 1.31.0 4.2.0
conquer /home/biocbuild/bbs-3.15-data-experiment/R/library 1.2.2 4.2.0
ConsensusClusterPlus /home/biocbuild/bbs-3.15-data-experiment/R/library 1.59.0 4.2.0
conumee /home/biocbuild/bbs-3.15-data-experiment/R/library 1.29.1 4.2.0
convert /home/biocbuild/bbs-3.15-data-experiment/R/library 1.71.0 4.2.0
COPDSexualDimorphism.data /home/biocbuild/bbs-3.15-data-experiment/R/library 1.31.0 4.2.0
CopyhelpeR /home/biocbuild/bbs-3.15-data-experiment/R/library 1.27.1 4.2.0
CopyNeutralIMA /home/biocbuild/bbs-3.15-data-experiment/R/library 1.13.0 4.2.0
corpcor /home/biocbuild/bbs-3.15-data-experiment/R/library 1.6.10 4.2.0
corrplot /home/biocbuild/bbs-3.15-data-experiment/R/library 0.92 4.2.0
COSMIC.67 /home/biocbuild/bbs-3.15-data-experiment/R/library 1.31.1 4.2.0
covr /home/biocbuild/bbs-3.15-data-experiment/R/library 3.5.1 4.2.0
cowplot /home/biocbuild/bbs-3.15-data-experiment/R/library 1.1.1 4.2.0
cp4p /home/biocbuild/bbs-3.15-data-experiment/R/library 0.3.6 4.2.0
cpp11 /home/biocbuild/bbs-3.15-data-experiment/R/library 0.4.2 4.2.0
crayon /home/biocbuild/bbs-3.15-data-experiment/R/library 1.5.0 4.2.0
CRCL18 /home/biocbuild/bbs-3.15-data-experiment/R/library 1.15.0 4.2.0
credentials /home/biocbuild/bbs-3.15-data-experiment/R/library 1.3.2 4.2.0
crisprScoreData /home/biocbuild/bbs-3.15-data-experiment/R/library 0.99.10 4.2.0
crosstalk /home/biocbuild/bbs-3.15-data-experiment/R/library 1.2.0 4.2.0
curatedAdipoArray /home/biocbuild/bbs-3.15-data-experiment/R/library 1.7.0 4.2.0
curatedAdipoChIP /home/biocbuild/bbs-3.15-data-experiment/R/library 1.11.0 4.2.0
curatedAdipoRNA /home/biocbuild/bbs-3.15-data-experiment/R/library 1.11.1 4.2.0
curatedBladderData /home/biocbuild/bbs-3.15-data-experiment/R/library 1.31.0 4.2.0
curatedBreastData /home/biocbuild/bbs-3.15-data-experiment/R/library 2.23.0 4.2.0
curatedCRCData /home/biocbuild/bbs-3.15-data-experiment/R/library 2.27.0 4.2.0
curatedMetagenomicData /home/biocbuild/bbs-3.15-data-experiment/R/library 3.3.3 4.2.0
curatedOvarianData /home/biocbuild/bbs-3.15-data-experiment/R/library 1.33.0 4.2.0
curatedTBData /home/biocbuild/bbs-3.15-data-experiment/R/library 1.1.0 4.2.0
curatedTCGAData /home/biocbuild/bbs-3.15-data-experiment/R/library 1.17.0 4.2.0
curl /home/biocbuild/bbs-3.15-data-experiment/R/library 4.3.2 4.2.0
cytolib /home/biocbuild/bbs-3.15-data-experiment/R/library 2.7.4 4.2.0
cytomapper /home/biocbuild/bbs-3.15-data-experiment/R/library 1.7.1 4.2.0
CytoML /home/biocbuild/bbs-3.15-data-experiment/R/library 2.7.0 4.2.0
DAPAR /home/biocbuild/bbs-3.15-data-experiment/R/library 1.27.0 4.2.0
DAPARdata /home/biocbuild/bbs-3.15-data-experiment/R/library 1.25.0 4.2.0
data.table /home/biocbuild/bbs-3.15-data-experiment/R/library 1.14.2 4.2.0
datasets /home/biocbuild/bbs-3.15-data-experiment/R/library 4.2.0 4.2.0
davidTiling /home/biocbuild/bbs-3.15-data-experiment/R/library 1.35.0 4.2.0
DBI /home/biocbuild/bbs-3.15-data-experiment/R/library 1.1.2 4.2.0
dbplyr /home/biocbuild/bbs-3.15-data-experiment/R/library 2.1.1 4.2.0
dbscan /home/biocbuild/bbs-3.15-data-experiment/R/library 1.1-10 4.2.0
DECIPHER /home/biocbuild/bbs-3.15-data-experiment/R/library 2.23.0 4.2.0
decontam /home/biocbuild/bbs-3.15-data-experiment/R/library 1.15.0 4.2.0
Delaporte /home/biocbuild/bbs-3.15-data-experiment/R/library 8.0.2 4.2.0
DelayedArray /home/biocbuild/bbs-3.15-data-experiment/R/library 0.21.2 4.2.0
DelayedMatrixStats /home/biocbuild/bbs-3.15-data-experiment/R/library 1.17.0 4.2.0
deldir /home/biocbuild/bbs-3.15-data-experiment/R/library 1.0-6 4.2.0
dendextend /home/biocbuild/bbs-3.15-data-experiment/R/library 1.15.2 4.2.0
dendsort /home/biocbuild/bbs-3.15-data-experiment/R/library 0.3.4 4.2.0
DEoptimR /home/biocbuild/bbs-3.15-data-experiment/R/library 1.0-10 4.2.0
DEP /home/biocbuild/bbs-3.15-data-experiment/R/library 1.17.1 4.2.0
depmap /home/biocbuild/bbs-3.15-data-experiment/R/library 1.9.1 4.2.0
derfinderData /home/biocbuild/bbs-3.15-data-experiment/R/library 2.13.1 4.2.0
desc /home/biocbuild/bbs-3.15-data-experiment/R/library 1.4.0 4.2.0
DESeq2 /home/biocbuild/bbs-3.15-data-experiment/R/library 1.35.0 4.2.0
deSolve /home/biocbuild/bbs-3.15-data-experiment/R/library 1.30 4.2.0
DeSousa2013 /home/biocbuild/bbs-3.15-data-experiment/R/library 1.31.0 4.2.0
devtools /home/biocbuild/bbs-3.15-data-experiment/R/library 2.4.3 4.2.0
DExMAdata /home/biocbuild/bbs-3.15-data-experiment/R/library 1.3.0 4.2.0
DEXSeq /home/biocbuild/bbs-3.15-data-experiment/R/library 1.41.0 4.2.0
dichromat /home/biocbuild/bbs-3.15-data-experiment/R/library 2.0-0 4.2.0
diffloopdata /home/biocbuild/bbs-3.15-data-experiment/R/library 1.23.0 4.2.0
diffobj /home/biocbuild/bbs-3.15-data-experiment/R/library 0.3.5 4.2.0
digest /home/biocbuild/bbs-3.15-data-experiment/R/library 0.6.29 4.2.0
diggitdata /home/biocbuild/bbs-3.15-data-experiment/R/library 1.27.0 4.2.0
diptest /home/biocbuild/bbs-3.15-data-experiment/R/library 0.76-0 4.2.0
DirichletMultinomial /home/biocbuild/bbs-3.15-data-experiment/R/library 1.37.0 4.2.0
distr /home/biocbuild/bbs-3.15-data-experiment/R/library 2.8.0 4.2.0
DLBCL /home/biocbuild/bbs-3.15-data-experiment/R/library 1.35.0 4.2.0
DmelSGI /home/biocbuild/bbs-3.15-data-experiment/R/library 1.27.0 4.2.0
DMRcatedata /home/biocbuild/bbs-3.15-data-experiment/R/library 2.13.0 4.2.0
DNAcopy /home/biocbuild/bbs-3.15-data-experiment/R/library 1.69.0 4.2.0
DO.db /home/biocbuild/bbs-3.15-data-experiment/R/library 2.9 4.2.0
dockerfiler /home/biocbuild/bbs-3.15-data-experiment/R/library 0.1.4 4.2.0
DonaPLLP2013 /home/biocbuild/bbs-3.15-data-experiment/R/library 1.33.0 4.2.0
doParallel /home/biocbuild/bbs-3.15-data-experiment/R/library 1.0.17 4.2.0
doRNG /home/biocbuild/bbs-3.15-data-experiment/R/library 1.8.2 4.2.0
dorothea /home/biocbuild/bbs-3.15-data-experiment/R/library 1.7.0 4.2.0
DOSE /home/biocbuild/bbs-3.15-data-experiment/R/library 3.21.2 4.2.0
doSNOW /home/biocbuild/bbs-3.15-data-experiment/R/library 1.0.20 4.2.0
dotCall64 /home/biocbuild/bbs-3.15-data-experiment/R/library 1.0-1 4.2.0
downlit /home/biocbuild/bbs-3.15-data-experiment/R/library 0.4.0 4.2.0
downloader /home/biocbuild/bbs-3.15-data-experiment/R/library 0.4 4.2.0
dplyr /home/biocbuild/bbs-3.15-data-experiment/R/library 1.0.8 4.2.0
dqrng /home/biocbuild/bbs-3.15-data-experiment/R/library 0.3.0 4.2.0
DREAM4 /home/biocbuild/bbs-3.15-data-experiment/R/library 1.31.0 4.2.0
dressCheck /home/biocbuild/bbs-3.15-data-experiment/R/library 0.33.0 4.2.0
DropletTestFiles /home/biocbuild/bbs-3.15-data-experiment/R/library 1.5.0 4.2.0
DropletUtils /home/biocbuild/bbs-3.15-data-experiment/R/library 1.15.2 4.2.0
DrugVsDiseasedata /home/biocbuild/bbs-3.15-data-experiment/R/library 1.31.0 4.2.0
DT /home/biocbuild/bbs-3.15-data-experiment/R/library 0.20 4.2.0
dtplyr /home/biocbuild/bbs-3.15-data-experiment/R/library 1.2.1 4.2.0
dtt /home/biocbuild/bbs-3.15-data-experiment/R/library 0.1-2 4.2.0
DuoClustering2018 /home/biocbuild/bbs-3.15-data-experiment/R/library 1.13.0 4.2.0
DvDdata /home/biocbuild/bbs-3.15-data-experiment/R/library 1.31.0 4.2.0
dyebias /home/biocbuild/bbs-3.15-data-experiment/R/library 1.55.0 4.2.0
dyebiasexamples /home/biocbuild/bbs-3.15-data-experiment/R/library 1.35.0 4.2.0
DynDoc /home/biocbuild/bbs-3.15-data-experiment/R/library 1.73.0 4.2.0
e1071 /home/biocbuild/bbs-3.15-data-experiment/R/library 1.7-9 4.2.0
easierData /home/biocbuild/bbs-3.15-data-experiment/R/library 1.1.0 4.2.0
EatonEtAlChIPseq /home/biocbuild/bbs-3.15-data-experiment/R/library 0.33.0 4.2.0
EBImage /home/biocbuild/bbs-3.15-data-experiment/R/library 4.37.0 4.2.0
ecolicdf /home/biocbuild/bbs-3.15-data-experiment/R/library 2.18.0 4.2.0
ecoliLeucine /home/biocbuild/bbs-3.15-data-experiment/R/library 1.35.0 4.2.0
edgeR /home/biocbuild/bbs-3.15-data-experiment/R/library 3.37.0 4.2.0
EGSEA /home/biocbuild/bbs-3.15-data-experiment/R/library 1.23.0 4.2.0
EGSEAdata /home/biocbuild/bbs-3.15-data-experiment/R/library 1.23.0 4.2.0
einsum /home/biocbuild/bbs-3.15-data-experiment/R/library 0.1.0 4.2.0
elasticnet /home/biocbuild/bbs-3.15-data-experiment/R/library 1.3 4.2.0
ellipse /home/biocbuild/bbs-3.15-data-experiment/R/library 0.4.2 4.2.0
ellipsis /home/biocbuild/bbs-3.15-data-experiment/R/library 0.3.2 4.2.0
ELMER.data /home/biocbuild/bbs-3.15-data-experiment/R/library 2.19.1 4.2.0
emdbook /home/biocbuild/bbs-3.15-data-experiment/R/library 1.3.12 4.2.0
emtdata /home/biocbuild/bbs-3.15-data-experiment/R/library 1.3.0 4.2.0
english /home/biocbuild/bbs-3.15-data-experiment/R/library 1.2-6 4.2.0
enrichplot /home/biocbuild/bbs-3.15-data-experiment/R/library 1.15.2 4.2.0
ensembldb /home/biocbuild/bbs-3.15-data-experiment/R/library 2.19.8 4.2.0
entropy /home/biocbuild/bbs-3.15-data-experiment/R/library 1.3.1 4.2.0
enviPat /home/biocbuild/bbs-3.15-data-experiment/R/library 2.4 4.2.0
EpiDISH /home/biocbuild/bbs-3.15-data-experiment/R/library 2.11.1 4.2.0
estrogen /home/biocbuild/bbs-3.15-data-experiment/R/library 1.41.0 4.2.0
etec16s /home/biocbuild/bbs-3.15-data-experiment/R/library 1.23.0 4.2.0
evaluate /home/biocbuild/bbs-3.15-data-experiment/R/library 0.14 4.2.0
evd /home/biocbuild/bbs-3.15-data-experiment/R/library 2.3-3 4.2.0
ewceData /home/biocbuild/bbs-3.15-data-experiment/R/library 1.3.0 4.2.0
exactRankTests /home/biocbuild/bbs-3.15-data-experiment/R/library 0.8-34 4.2.0
ExperimentHub /home/biocbuild/bbs-3.15-data-experiment/R/library 2.3.5 4.2.0
ExperimentHubData /home/biocbuild/bbs-3.15-data-experiment/R/library 1.21.2 4.2.0
extrafont /home/biocbuild/bbs-3.15-data-experiment/R/library 0.17 4.2.0
extrafontdb /home/biocbuild/bbs-3.15-data-experiment/R/library 1.0 4.2.0
faahKO /home/biocbuild/bbs-3.15-data-experiment/R/library 1.35.0 4.2.0
fabia /home/biocbuild/bbs-3.15-data-experiment/R/library 2.41.0 4.2.0
fabiaData /home/biocbuild/bbs-3.15-data-experiment/R/library 1.33.0 4.2.0
factoextra /home/biocbuild/bbs-3.15-data-experiment/R/library 1.0.7 4.2.0
FactoMineR /home/biocbuild/bbs-3.15-data-experiment/R/library 2.4 4.2.0
fansi /home/biocbuild/bbs-3.15-data-experiment/R/library 1.0.2 4.2.0
FANTOM3and4CAGE /home/biocbuild/bbs-3.15-data-experiment/R/library 1.31.0 4.2.0
farver /home/biocbuild/bbs-3.15-data-experiment/R/library 2.1.0 4.2.0
fastmap /home/biocbuild/bbs-3.15-data-experiment/R/library 1.1.0 4.2.0
fastmatch /home/biocbuild/bbs-3.15-data-experiment/R/library 1.1-3 4.2.0
fastqcr /home/biocbuild/bbs-3.15-data-experiment/R/library 0.1.2 4.2.0
fda /home/biocbuild/bbs-3.15-data-experiment/R/library 5.5.1 4.2.0
FDb.InfiniumMethylation.hg19 /home/biocbuild/bbs-3.15-data-experiment/R/library 2.2.0 4.2.0
fdrtool /home/biocbuild/bbs-3.15-data-experiment/R/library 1.2.17 4.2.0
fds /home/biocbuild/bbs-3.15-data-experiment/R/library 1.8 4.2.0
ff /home/biocbuild/bbs-3.15-data-experiment/R/library 4.0.5 4.2.0
ffpeExampleData /home/biocbuild/bbs-3.15-data-experiment/R/library 1.33.0 4.2.0
fftwtools /home/biocbuild/bbs-3.15-data-experiment/R/library 0.9-11 4.2.0
fgsea /home/biocbuild/bbs-3.15-data-experiment/R/library 1.21.0 4.2.0
fibroEset /home/biocbuild/bbs-3.15-data-experiment/R/library 1.37.0 4.2.0
FieldEffectCrc /home/biocbuild/bbs-3.15-data-experiment/R/library 1.5.0 4.2.0
fields /home/biocbuild/bbs-3.15-data-experiment/R/library 13.3 4.2.0
filehash /home/biocbuild/bbs-3.15-data-experiment/R/library 2.4-2 4.2.0
filelock /home/biocbuild/bbs-3.15-data-experiment/R/library 1.0.2 4.2.0
filesstrings /home/biocbuild/bbs-3.15-data-experiment/R/library 3.2.2 4.2.0
fingerprint /home/biocbuild/bbs-3.15-data-experiment/R/library 3.5.7 4.2.0
FIs /home/biocbuild/bbs-3.15-data-experiment/R/library 1.23.0 4.2.0
fission /home/biocbuild/bbs-3.15-data-experiment/R/library 1.15.0 4.2.0
fitdistrplus /home/biocbuild/bbs-3.15-data-experiment/R/library 1.1-6 4.2.0
flashClust /home/biocbuild/bbs-3.15-data-experiment/R/library 1.01-2 4.2.0
Fletcher2013a /home/biocbuild/bbs-3.15-data-experiment/R/library 1.31.0 4.2.0
Fletcher2013b /home/biocbuild/bbs-3.15-data-experiment/R/library 1.31.0 4.2.0
flexmix /home/biocbuild/bbs-3.15-data-experiment/R/library 2.3-17 4.2.0
flowClust /home/biocbuild/bbs-3.15-data-experiment/R/library 3.33.0 4.2.0
flowCore /home/biocbuild/bbs-3.15-data-experiment/R/library 2.7.0 4.2.0
flowPloidyData /home/biocbuild/bbs-3.15-data-experiment/R/library 1.21.0 4.2.0
FlowSOM /home/biocbuild/bbs-3.15-data-experiment/R/library 2.3.0 4.2.0
FlowSorted.Blood.450k /home/biocbuild/bbs-3.15-data-experiment/R/library 1.33.1 4.2.0
FlowSorted.Blood.EPIC /home/biocbuild/bbs-3.15-data-experiment/R/library 1.99.5 4.2.0
FlowSorted.CordBlood.450k /home/biocbuild/bbs-3.15-data-experiment/R/library 1.23.1 4.2.0
FlowSorted.CordBloodCombined.450k /home/biocbuild/bbs-3.15-data-experiment/R/library 1.11.5 4.2.0
FlowSorted.CordBloodNorway.450k /home/biocbuild/bbs-3.15-data-experiment/R/library 1.21.1 4.2.0
FlowSorted.DLPFC.450k /home/biocbuild/bbs-3.15-data-experiment/R/library 1.31.1 4.2.0
flowStats /home/biocbuild/bbs-3.15-data-experiment/R/library 4.7.0 4.2.0
flowUtils /home/biocbuild/bbs-3.15-data-experiment/R/library 1.59.0 4.2.0
flowViz /home/biocbuild/bbs-3.15-data-experiment/R/library 1.59.0 4.2.0
flowWorkspace /home/biocbuild/bbs-3.15-data-experiment/R/library 4.7.0 4.2.0
flowWorkspaceData /home/biocbuild/bbs-3.15-data-experiment/R/library 3.7.0 4.2.0
FNN /home/biocbuild/bbs-3.15-data-experiment/R/library 1.1.3 4.2.0
fontawesome /home/biocbuild/bbs-3.15-data-experiment/R/library 0.2.2 4.2.0
forcats /home/biocbuild/bbs-3.15-data-experiment/R/library 0.5.1 4.2.0
foreach /home/biocbuild/bbs-3.15-data-experiment/R/library 1.5.2 4.2.0
foreign /home/biocbuild/bbs-3.15-data-experiment/R/library 0.8-82 4.2.0
forestplot /home/biocbuild/bbs-3.15-data-experiment/R/library 2.0.1 4.2.0
formatR /home/biocbuild/bbs-3.15-data-experiment/R/library 1.11 4.2.0
Formula /home/biocbuild/bbs-3.15-data-experiment/R/library 1.2-4 4.2.0
formula.tools /home/biocbuild/bbs-3.15-data-experiment/R/library 1.7.1 4.2.0
fpc /home/biocbuild/bbs-3.15-data-experiment/R/library 2.2-9 4.2.0
frma /home/biocbuild/bbs-3.15-data-experiment/R/library 1.47.0 4.2.0
frmaExampleData /home/biocbuild/bbs-3.15-data-experiment/R/library 1.31.0 4.2.0
frmaTools /home/biocbuild/bbs-3.15-data-experiment/R/library 1.47.0 4.2.0
fs /home/biocbuild/bbs-3.15-data-experiment/R/library 1.5.2 4.2.0
furrowSeg /home/biocbuild/bbs-3.15-data-experiment/R/library 1.23.0 4.2.0
futile.logger /home/biocbuild/bbs-3.15-data-experiment/R/library 1.4.3 4.2.0
futile.options /home/biocbuild/bbs-3.15-data-experiment/R/library 1.0.1 4.2.0
future /home/biocbuild/bbs-3.15-data-experiment/R/library 1.23.0 4.2.0
future.apply /home/biocbuild/bbs-3.15-data-experiment/R/library 1.8.1 4.2.0
gage /home/biocbuild/bbs-3.15-data-experiment/R/library 2.45.0 4.2.0
gageData /home/biocbuild/bbs-3.15-data-experiment/R/library 2.33.0 4.2.0
gargle /home/biocbuild/bbs-3.15-data-experiment/R/library 1.2.0 4.2.0
gaschYHS /home/biocbuild/bbs-3.15-data-experiment/R/library 1.33.0 4.2.0
gatingMLData /home/biocbuild/bbs-3.15-data-experiment/R/library 2.35.0 4.2.0
gbm /home/biocbuild/bbs-3.15-data-experiment/R/library 2.1.8 4.2.0
gcspikelite /home/biocbuild/bbs-3.15-data-experiment/R/library 1.33.0 4.2.0
gdata /home/biocbuild/bbs-3.15-data-experiment/R/library 2.18.0 4.2.0
gdsfmt /home/biocbuild/bbs-3.15-data-experiment/R/library 1.31.1 4.2.0
gdtools /home/biocbuild/bbs-3.15-data-experiment/R/library 0.2.4 4.2.0
geeM /home/biocbuild/bbs-3.15-data-experiment/R/library 0.10.1 4.2.0
geepack /home/biocbuild/bbs-3.15-data-experiment/R/library 1.3.3 4.2.0
geneExpressionFromGEO /home/biocbuild/bbs-3.15-data-experiment/R/library 0.9 4.2.0
genefilter /home/biocbuild/bbs-3.15-data-experiment/R/library 1.77.0 4.2.0
genefu /home/biocbuild/bbs-3.15-data-experiment/R/library 2.27.0 4.2.0
geneLenDataBase /home/biocbuild/bbs-3.15-data-experiment/R/library 1.31.0 4.2.0
geneplotter /home/biocbuild/bbs-3.15-data-experiment/R/library 1.73.0 4.2.0
generics /home/biocbuild/bbs-3.15-data-experiment/R/library 0.1.2 4.2.0
genomationData /home/biocbuild/bbs-3.15-data-experiment/R/library 1.27.0 4.2.0
GenomeInfoDb /home/biocbuild/bbs-3.15-data-experiment/R/library 1.31.4 4.2.0
GenomeInfoDbData /home/biocbuild/bbs-3.15-data-experiment/R/library 1.2.7 4.2.0
genomeIntervals /home/biocbuild/bbs-3.15-data-experiment/R/library 1.51.0 4.2.0
GenomicAlignments /home/biocbuild/bbs-3.15-data-experiment/R/library 1.31.2 4.2.0
GenomicDataCommons /home/biocbuild/bbs-3.15-data-experiment/R/library 1.19.6 4.2.0
GenomicDistributionsData /home/biocbuild/bbs-3.15-data-experiment/R/library 1.3.0 4.2.0
GenomicFeatures /home/biocbuild/bbs-3.15-data-experiment/R/library 1.47.7 4.2.0
GenomicFiles /home/biocbuild/bbs-3.15-data-experiment/R/library 1.31.0 4.2.0
GenomicInteractions /home/biocbuild/bbs-3.15-data-experiment/R/library 1.29.2 4.2.0
GenomicRanges /home/biocbuild/bbs-3.15-data-experiment/R/library 1.47.6 4.2.0
GEOmetadb /home/biocbuild/bbs-3.15-data-experiment/R/library 1.57.0 4.2.0
GEOquery /home/biocbuild/bbs-3.15-data-experiment/R/library 2.63.3 4.2.0
gert /home/biocbuild/bbs-3.15-data-experiment/R/library 1.5.0 4.2.0
getopt /home/biocbuild/bbs-3.15-data-experiment/R/library 1.20.3 4.2.0
GetoptLong /home/biocbuild/bbs-3.15-data-experiment/R/library 1.0.5 4.2.0
GeuvadisTranscriptExpr /home/biocbuild/bbs-3.15-data-experiment/R/library 1.23.1 4.2.0
GGally /home/biocbuild/bbs-3.15-data-experiment/R/library 2.1.2 4.2.0
ggbeeswarm /home/biocbuild/bbs-3.15-data-experiment/R/library 0.6.0 4.2.0
ggbio /home/biocbuild/bbs-3.15-data-experiment/R/library 1.43.0 4.2.0
ggcyto /home/biocbuild/bbs-3.15-data-experiment/R/library 1.23.0 4.2.0
ggdendro /home/biocbuild/bbs-3.15-data-experiment/R/library 0.1.23 4.2.0
ggforce /home/biocbuild/bbs-3.15-data-experiment/R/library 0.3.3 4.2.0
ggformula /home/biocbuild/bbs-3.15-data-experiment/R/library 0.10.1 4.2.0
ggfun /home/biocbuild/bbs-3.15-data-experiment/R/library 0.0.5 4.2.0
ggnewscale /home/biocbuild/bbs-3.15-data-experiment/R/library 0.4.6 4.2.0
ggplot2 /home/biocbuild/bbs-3.15-data-experiment/R/library 3.3.5 4.2.0
ggplotify /home/biocbuild/bbs-3.15-data-experiment/R/library 0.1.0 4.2.0
ggpointdensity /home/biocbuild/bbs-3.15-data-experiment/R/library 0.1.0 4.2.0
ggpubr /home/biocbuild/bbs-3.15-data-experiment/R/library 0.4.0 4.2.0
ggraph /home/biocbuild/bbs-3.15-data-experiment/R/library 2.0.5 4.2.0
ggrepel /home/biocbuild/bbs-3.15-data-experiment/R/library 0.9.1 4.2.0
ggridges /home/biocbuild/bbs-3.15-data-experiment/R/library 0.5.3 4.2.0
ggsci /home/biocbuild/bbs-3.15-data-experiment/R/library 2.9 4.2.0
ggsignif /home/biocbuild/bbs-3.15-data-experiment/R/library 0.6.3 4.2.0
ggstance /home/biocbuild/bbs-3.15-data-experiment/R/library 0.3.5 4.2.0
ggtern /home/biocbuild/bbs-3.15-data-experiment/R/library 3.3.5 4.2.0
ggtext /home/biocbuild/bbs-3.15-data-experiment/R/library 0.1.1 4.2.0
ggthemes /home/biocbuild/bbs-3.15-data-experiment/R/library 4.2.4 4.2.0
ggtree /home/biocbuild/bbs-3.15-data-experiment/R/library 3.3.1 4.2.0
ggvis /home/biocbuild/bbs-3.15-data-experiment/R/library 0.4.7 4.2.0
ggwordcloud /home/biocbuild/bbs-3.15-data-experiment/R/library 0.5.0 4.2.0
gh /home/biocbuild/bbs-3.15-data-experiment/R/library 1.3.0 4.2.0
GIGSEA /home/biocbuild/bbs-3.15-data-experiment/R/library 1.13.0 4.2.0
GIGSEAdata /home/biocbuild/bbs-3.15-data-experiment/R/library 1.13.0 4.2.0
gitcreds /home/biocbuild/bbs-3.15-data-experiment/R/library 0.1.1 4.2.0
glmmTMB /home/biocbuild/bbs-3.15-data-experiment/R/library 1.1.2.3 4.2.0
glmnet /home/biocbuild/bbs-3.15-data-experiment/R/library 4.1-3 4.2.0
GlobalOptions /home/biocbuild/bbs-3.15-data-experiment/R/library 0.1.2 4.2.0
globals /home/biocbuild/bbs-3.15-data-experiment/R/library 0.14.0 4.2.0
globaltest /home/biocbuild/bbs-3.15-data-experiment/R/library 5.49.1 4.2.0
glue /home/biocbuild/bbs-3.15-data-experiment/R/library 1.6.1 4.2.0
gmapR /home/biocbuild/bbs-3.15-data-experiment/R/library 1.37.0 4.2.0
gmm /home/biocbuild/bbs-3.15-data-experiment/R/library 1.6-6 4.2.0
GO.db /home/biocbuild/bbs-3.15-data-experiment/R/library 3.14.0 4.2.0
goftest /home/biocbuild/bbs-3.15-data-experiment/R/library 1.2-3 4.2.0
golem /home/biocbuild/bbs-3.15-data-experiment/R/library 0.3.1 4.2.0
golubEsets /home/biocbuild/bbs-3.15-data-experiment/R/library 1.37.0 4.2.0
googledrive /home/biocbuild/bbs-3.15-data-experiment/R/library 2.0.0 4.2.0
googlesheets4 /home/biocbuild/bbs-3.15-data-experiment/R/library 1.0.0 4.2.0
GOSemSim /home/biocbuild/bbs-3.15-data-experiment/R/library 2.21.1 4.2.0
gower /home/biocbuild/bbs-3.15-data-experiment/R/library 1.0.0 4.2.0
gpaExample /home/biocbuild/bbs-3.15-data-experiment/R/library 1.7.0 4.2.0
gplots /home/biocbuild/bbs-3.15-data-experiment/R/library 3.1.1 4.2.0
graph /home/biocbuild/bbs-3.15-data-experiment/R/library 1.73.0 4.2.0
graphics /home/biocbuild/bbs-3.15-data-experiment/R/library 4.2.0 4.2.0
graphlayouts /home/biocbuild/bbs-3.15-data-experiment/R/library 0.8.0 4.2.0
grDevices /home/biocbuild/bbs-3.15-data-experiment/R/library 4.2.0 4.2.0
grid /home/biocbuild/bbs-3.15-data-experiment/R/library 4.2.0 4.2.0
gridBase /home/biocbuild/bbs-3.15-data-experiment/R/library 0.4-7 4.2.0
gridExtra /home/biocbuild/bbs-3.15-data-experiment/R/library 2.3 4.2.0
gridGraphics /home/biocbuild/bbs-3.15-data-experiment/R/library 0.5-1 4.2.0
gridtext /home/biocbuild/bbs-3.15-data-experiment/R/library 0.1.4 4.2.0
grndata /home/biocbuild/bbs-3.15-data-experiment/R/library 1.27.0 4.2.0
GSA /home/biocbuild/bbs-3.15-data-experiment/R/library 1.03.1 4.2.0
GSBenchMark /home/biocbuild/bbs-3.15-data-experiment/R/library 1.15.0 4.2.0
GSE103322 /home/biocbuild/bbs-3.15-data-experiment/R/library 1.1.0 4.2.0
GSE13015 /home/biocbuild/bbs-3.15-data-experiment/R/library 1.3.0 4.2.0
GSE159526 /home/biocbuild/bbs-3.15-data-experiment/R/library 1.1.0 4.2.0
GSE62944 /home/biocbuild/bbs-3.15-data-experiment/R/library 1.23.0 4.2.0
GSEABase /home/biocbuild/bbs-3.15-data-experiment/R/library 1.57.0 4.2.0
GSVA /home/biocbuild/bbs-3.15-data-experiment/R/library 1.43.1 4.2.0
GSVAdata /home/biocbuild/bbs-3.15-data-experiment/R/library 1.31.0 4.2.0
gtable /home/biocbuild/bbs-3.15-data-experiment/R/library 0.3.0 4.2.0
gtools /home/biocbuild/bbs-3.15-data-experiment/R/library 3.9.2 4.2.0
Gviz /home/biocbuild/bbs-3.15-data-experiment/R/library 1.39.5 4.2.0
GWASdata /home/biocbuild/bbs-3.15-data-experiment/R/library 1.33.0 4.2.0
GWASExactHW /home/biocbuild/bbs-3.15-data-experiment/R/library 1.01 4.2.0
GWASTools /home/biocbuild/bbs-3.15-data-experiment/R/library 1.41.0 4.2.0
h5vc /home/biocbuild/bbs-3.15-data-experiment/R/library 2.29.0 4.2.0
h5vcData /home/biocbuild/bbs-3.15-data-experiment/R/library 2.15.0 4.2.0
hapmap100khind /home/biocbuild/bbs-3.15-data-experiment/R/library 1.37.0 4.2.0
hapmap100kxba /home/biocbuild/bbs-3.15-data-experiment/R/library 1.37.0 4.2.0
hapmap500knsp /home/biocbuild/bbs-3.15-data-experiment/R/library 1.37.0 4.2.0
hapmap500ksty /home/biocbuild/bbs-3.15-data-experiment/R/library 1.37.0 4.2.0
hapmapsnp5 /home/biocbuild/bbs-3.15-data-experiment/R/library 1.37.0 4.2.0
hapmapsnp6 /home/biocbuild/bbs-3.15-data-experiment/R/library 1.37.0 4.2.0
harbChIP /home/biocbuild/bbs-3.15-data-experiment/R/library 1.33.0 4.2.0
HarmanData /home/biocbuild/bbs-3.15-data-experiment/R/library 1.23.1 4.2.0
HarmonizedTCGAData /home/biocbuild/bbs-3.15-data-experiment/R/library 1.17.0 4.2.0
haven /home/biocbuild/bbs-3.15-data-experiment/R/library 2.4.3 4.2.0
HCAData /home/biocbuild/bbs-3.15-data-experiment/R/library 1.11.0 4.2.0
HD2013SGI /home/biocbuild/bbs-3.15-data-experiment/R/library 1.35.0 4.2.0
HDCytoData /home/biocbuild/bbs-3.15-data-experiment/R/library 1.15.0 4.2.0
HDF5Array /home/biocbuild/bbs-3.15-data-experiment/R/library 1.23.2 4.2.0
hdrcde /home/biocbuild/bbs-3.15-data-experiment/R/library 3.4 4.2.0
healthyControlsPresenceChecker /home/biocbuild/bbs-3.15-data-experiment/R/library 0.99.18 4.2.0
healthyFlowData /home/biocbuild/bbs-3.15-data-experiment/R/library 1.33.0 4.2.0
Heatplus /home/biocbuild/bbs-3.15-data-experiment/R/library 3.3.0 4.2.0
HEEBOdata /home/biocbuild/bbs-3.15-data-experiment/R/library 1.33.0 4.2.0
HelloRangesData /home/biocbuild/bbs-3.15-data-experiment/R/library 1.21.0 4.2.0
here /home/biocbuild/bbs-3.15-data-experiment/R/library 1.0.1 4.2.0
hexbin /home/biocbuild/bbs-3.15-data-experiment/R/library 1.28.2 4.2.0
HGNChelper /home/biocbuild/bbs-3.15-data-experiment/R/library 0.8.1 4.2.0
hgu133a.db /home/biocbuild/bbs-3.15-data-experiment/R/library 3.13.0 4.2.0
hgu133abarcodevecs /home/biocbuild/bbs-3.15-data-experiment/R/library 1.33.0 4.2.0
hgu133acdf /home/biocbuild/bbs-3.15-data-experiment/R/library 2.18.0 4.2.0
hgu133atagcdf /home/biocbuild/bbs-3.15-data-experiment/R/library 2.18.0 4.2.0
hgu133plus2.db /home/biocbuild/bbs-3.15-data-experiment/R/library 3.13.0 4.2.0
hgu133plus2barcodevecs /home/biocbuild/bbs-3.15-data-experiment/R/library 1.33.0 4.2.0
hgu133plus2cdf /home/biocbuild/bbs-3.15-data-experiment/R/library 2.18.0 4.2.0
hgu133plus2CellScore /home/biocbuild/bbs-3.15-data-experiment/R/library 1.15.0 4.2.0
hgu133plus2frmavecs /home/biocbuild/bbs-3.15-data-experiment/R/library 1.5.0 4.2.0
hgu2beta7 /home/biocbuild/bbs-3.15-data-experiment/R/library 1.35.0 4.2.0
hgu95a.db /home/biocbuild/bbs-3.15-data-experiment/R/library 3.13.0 4.2.0
hgu95av2 /home/biocbuild/bbs-3.15-data-experiment/R/library 2.2.0 4.2.0
hgu95av2.db /home/biocbuild/bbs-3.15-data-experiment/R/library 3.13.0 4.2.0
hgu95av2cdf /home/biocbuild/bbs-3.15-data-experiment/R/library 2.18.0 4.2.0
HiCDataHumanIMR90 /home/biocbuild/bbs-3.15-data-experiment/R/library 1.15.1 4.2.0
HiCDataLymphoblast /home/biocbuild/bbs-3.15-data-experiment/R/library 1.31.0 4.2.0
highcharter /home/biocbuild/bbs-3.15-data-experiment/R/library 0.9.4 4.2.0
HighlyReplicatedRNASeq /home/biocbuild/bbs-3.15-data-experiment/R/library 1.7.0 4.2.0
highr /home/biocbuild/bbs-3.15-data-experiment/R/library 0.9 4.2.0
Hiiragi2013 /home/biocbuild/bbs-3.15-data-experiment/R/library 1.31.0 4.2.0
HiTC /home/biocbuild/bbs-3.15-data-experiment/R/library 1.39.0 4.2.0
HIVcDNAvantWout03 /home/biocbuild/bbs-3.15-data-experiment/R/library 1.35.0 4.2.0
Hmisc /home/biocbuild/bbs-3.15-data-experiment/R/library 4.6-0 4.2.0
HMP16SData /home/biocbuild/bbs-3.15-data-experiment/R/library 1.15.0 4.2.0
HMP2Data /home/biocbuild/bbs-3.15-data-experiment/R/library 1.9.0 4.2.0
hms /home/biocbuild/bbs-3.15-data-experiment/R/library 1.1.1 4.2.0
Homo.sapiens /home/biocbuild/bbs-3.15-data-experiment/R/library 1.3.1 4.2.0
hpar /home/biocbuild/bbs-3.15-data-experiment/R/library 1.37.1 4.2.0
hrbrthemes /home/biocbuild/bbs-3.15-data-experiment/R/library 0.8.0 4.2.0
HSMMSingleCell /home/biocbuild/bbs-3.15-data-experiment/R/library 1.15.0 4.2.0
htmlTable /home/biocbuild/bbs-3.15-data-experiment/R/library 2.4.0 4.2.0
htmltools /home/biocbuild/bbs-3.15-data-experiment/R/library 0.5.2 4.2.0
HTMLUtils /home/biocbuild/bbs-3.15-data-experiment/R/library 0.1.7 4.2.0
htmlwidgets /home/biocbuild/bbs-3.15-data-experiment/R/library 1.5.4 4.2.0
httpuv /home/biocbuild/bbs-3.15-data-experiment/R/library 1.6.5 4.2.0
httr /home/biocbuild/bbs-3.15-data-experiment/R/library 1.4.2 4.2.0
HumanAffyData /home/biocbuild/bbs-3.15-data-experiment/R/library 1.21.0 4.2.0
humanStemCell /home/biocbuild/bbs-3.15-data-experiment/R/library 0.35.0 4.2.0
hunspell /home/biocbuild/bbs-3.15-data-experiment/R/library 3.0.1 4.2.0
hwriter /home/biocbuild/bbs-3.15-data-experiment/R/library 1.3.2 4.2.0
iC10 /home/biocbuild/bbs-3.15-data-experiment/R/library 1.5 4.2.0
iC10TrainingData /home/biocbuild/bbs-3.15-data-experiment/R/library 1.3.1 4.2.0
ica /home/biocbuild/bbs-3.15-data-experiment/R/library 1.0-2 4.2.0
ICS /home/biocbuild/bbs-3.15-data-experiment/R/library 1.3-1 4.2.0
ICSNP /home/biocbuild/bbs-3.15-data-experiment/R/library 1.1-1 4.2.0
IDPmisc /home/biocbuild/bbs-3.15-data-experiment/R/library 1.1.20 4.2.0
ids /home/biocbuild/bbs-3.15-data-experiment/R/library 1.0.1 4.2.0
igraph /home/biocbuild/bbs-3.15-data-experiment/R/library 1.2.11 4.2.0
IHW /home/biocbuild/bbs-3.15-data-experiment/R/library 1.23.0 4.2.0
IHWpaper /home/biocbuild/bbs-3.15-data-experiment/R/library 1.23.0 4.2.0
Illumina450ProbeVariants.db /home/biocbuild/bbs-3.15-data-experiment/R/library 1.31.0 4.2.0
IlluminaDataTestFiles /home/biocbuild/bbs-3.15-data-experiment/R/library 1.33.0 4.2.0
IlluminaHumanMethylation450kanno.ilmn12.hg19 /home/biocbuild/bbs-3.15-data-experiment/R/library 0.6.1 4.2.0
IlluminaHumanMethylation450kmanifest /home/biocbuild/bbs-3.15-data-experiment/R/library 0.4.0 4.2.0
IlluminaHumanMethylationEPICanno.ilm10b2.hg19 /home/biocbuild/bbs-3.15-data-experiment/R/library 0.6.0 4.2.0
IlluminaHumanMethylationEPICanno.ilm10b4.hg19 /home/biocbuild/bbs-3.15-data-experiment/R/library 0.6.0 4.2.0
IlluminaHumanMethylationEPICmanifest /home/biocbuild/bbs-3.15-data-experiment/R/library 0.3.0 4.2.0
illuminaHumanv1.db /home/biocbuild/bbs-3.15-data-experiment/R/library 1.26.0 4.2.0
illuminaHumanv2.db /home/biocbuild/bbs-3.15-data-experiment/R/library 1.26.0 4.2.0
illuminaHumanv3.db /home/biocbuild/bbs-3.15-data-experiment/R/library 1.26.0 4.2.0
illuminaHumanv4.db /home/biocbuild/bbs-3.15-data-experiment/R/library 1.26.0 4.2.0
illuminaio /home/biocbuild/bbs-3.15-data-experiment/R/library 0.37.0 4.2.0
imcdatasets /home/biocbuild/bbs-3.15-data-experiment/R/library 1.3.0 4.2.0
imp4p /home/biocbuild/bbs-3.15-data-experiment/R/library 1.2 4.2.0
impute /home/biocbuild/bbs-3.15-data-experiment/R/library 1.69.0 4.2.0
imputeLCMD /home/biocbuild/bbs-3.15-data-experiment/R/library 2.0 4.2.0
infotheo /home/biocbuild/bbs-3.15-data-experiment/R/library 1.2.0 4.2.0
ini /home/biocbuild/bbs-3.15-data-experiment/R/library 0.3.1 4.2.0
inline /home/biocbuild/bbs-3.15-data-experiment/R/library 0.3.19 4.2.0
InteractionSet /home/biocbuild/bbs-3.15-data-experiment/R/library 1.23.1 4.2.0
interactiveDisplayBase /home/biocbuild/bbs-3.15-data-experiment/R/library 1.33.0 4.2.0
intervals /home/biocbuild/bbs-3.15-data-experiment/R/library 0.15.2 4.2.0
ipflasso /home/biocbuild/bbs-3.15-data-experiment/R/library 1.1 4.2.0
ipred /home/biocbuild/bbs-3.15-data-experiment/R/library 0.9-12 4.2.0
IRanges /home/biocbuild/bbs-3.15-data-experiment/R/library 2.29.1 4.2.0
irlba /home/biocbuild/bbs-3.15-data-experiment/R/library 2.3.5 4.2.0
iSEE /home/biocbuild/bbs-3.15-data-experiment/R/library 2.7.0 4.2.0
Iso /home/biocbuild/bbs-3.15-data-experiment/R/library 0.0-18.1 4.2.0
isoband /home/biocbuild/bbs-3.15-data-experiment/R/library 0.2.5 4.2.0
isobar /home/biocbuild/bbs-3.15-data-experiment/R/library 1.41.0 4.2.0
ISOcodes /home/biocbuild/bbs-3.15-data-experiment/R/library 2022.01.10 4.2.0
ITALICSData /home/biocbuild/bbs-3.15-data-experiment/R/library 2.33.0 4.2.0
iterators /home/biocbuild/bbs-3.15-data-experiment/R/library 1.0.14 4.2.0
itertools /home/biocbuild/bbs-3.15-data-experiment/R/library 0.1-3 4.2.0
Iyer517 /home/biocbuild/bbs-3.15-data-experiment/R/library 1.37.0 4.2.0
JASPAR2014 /home/biocbuild/bbs-3.15-data-experiment/R/library 1.31.0 4.2.0
JASPAR2016 /home/biocbuild/bbs-3.15-data-experiment/R/library 1.23.0 4.2.0
jpeg /home/biocbuild/bbs-3.15-data-experiment/R/library 0.1-9 4.2.0
jquerylib /home/biocbuild/bbs-3.15-data-experiment/R/library 0.1.4 4.2.0
jsonlite /home/biocbuild/bbs-3.15-data-experiment/R/library 1.7.3 4.2.0
kableExtra /home/biocbuild/bbs-3.15-data-experiment/R/library 1.3.4 4.2.0
KEGGandMetacoreDzPathwaysGEO /home/biocbuild/bbs-3.15-data-experiment/R/library 1.15.0 4.2.0
KEGGdzPathwaysGEO /home/biocbuild/bbs-3.15-data-experiment/R/library 1.33.0 4.2.0
KEGGgraph /home/biocbuild/bbs-3.15-data-experiment/R/library 1.55.0 4.2.0
KEGGREST /home/biocbuild/bbs-3.15-data-experiment/R/library 1.35.0 4.2.0
kernlab /home/biocbuild/bbs-3.15-data-experiment/R/library 0.9-29 4.2.0
KernSmooth /home/biocbuild/bbs-3.15-data-experiment/R/library 2.23-20 4.2.0
kidpack /home/biocbuild/bbs-3.15-data-experiment/R/library 1.37.0 4.2.0
kinship2 /home/biocbuild/bbs-3.15-data-experiment/R/library 1.8.5 4.2.0
km.ci /home/biocbuild/bbs-3.15-data-experiment/R/library 0.5-2 4.2.0
KMsurv /home/biocbuild/bbs-3.15-data-experiment/R/library 0.1-5 4.2.0
knitr /home/biocbuild/bbs-3.15-data-experiment/R/library 1.37 4.2.0
KOdata /home/biocbuild/bbs-3.15-data-experiment/R/library 1.21.0 4.2.0
koRpus /home/biocbuild/bbs-3.15-data-experiment/R/library 0.13-8 4.2.0
koRpus.lang.en /home/biocbuild/bbs-3.15-data-experiment/R/library 0.1-4 4.2.0
ks /home/biocbuild/bbs-3.15-data-experiment/R/library 1.13.3 4.2.0
labeling /home/biocbuild/bbs-3.15-data-experiment/R/library 0.4.2 4.2.0
labelled /home/biocbuild/bbs-3.15-data-experiment/R/library 2.9.0 4.2.0
lambda.r /home/biocbuild/bbs-3.15-data-experiment/R/library 1.2.4 4.2.0
LaplacesDemon /home/biocbuild/bbs-3.15-data-experiment/R/library 16.1.6 4.2.0
lars /home/biocbuild/bbs-3.15-data-experiment/R/library 1.2 4.2.0
later /home/biocbuild/bbs-3.15-data-experiment/R/library 1.3.0 4.2.0
latex2exp /home/biocbuild/bbs-3.15-data-experiment/R/library 0.9.3 4.2.0
lattice /home/biocbuild/bbs-3.15-data-experiment/R/library 0.20-45 4.2.0
latticeExtra /home/biocbuild/bbs-3.15-data-experiment/R/library 0.6-29 4.2.0
lava /home/biocbuild/bbs-3.15-data-experiment/R/library 1.6.10 4.2.0
lazyeval /home/biocbuild/bbs-3.15-data-experiment/R/library 0.2.2 4.2.0
leaps /home/biocbuild/bbs-3.15-data-experiment/R/library 3.1 4.2.0
leeBamViews /home/biocbuild/bbs-3.15-data-experiment/R/library 1.31.1 4.2.0
leiden /home/biocbuild/bbs-3.15-data-experiment/R/library 0.3.9 4.2.0
leukemiasEset /home/biocbuild/bbs-3.15-data-experiment/R/library 1.31.0 4.2.0
lexicon /home/biocbuild/bbs-3.15-data-experiment/R/library 1.2.1 4.2.0
LiebermanAidenHiC2009 /home/biocbuild/bbs-3.15-data-experiment/R/library 0.33.0 4.2.0
lifecycle /home/biocbuild/bbs-3.15-data-experiment/R/library 1.0.1 4.2.0
limma /home/biocbuild/bbs-3.15-data-experiment/R/library 3.51.4 4.2.0
listenv /home/biocbuild/bbs-3.15-data-experiment/R/library 0.8.0 4.2.0
lme4 /home/biocbuild/bbs-3.15-data-experiment/R/library 1.1-28 4.2.0
lmerTest /home/biocbuild/bbs-3.15-data-experiment/R/library 3.1-3 4.2.0
lmtest /home/biocbuild/bbs-3.15-data-experiment/R/library 0.9-39 4.2.0
LOBSTAHS /home/biocbuild/bbs-3.15-data-experiment/R/library 1.21.0 4.2.0
lobstr /home/biocbuild/bbs-3.15-data-experiment/R/library 1.1.1 4.2.0
locfdr /home/biocbuild/bbs-3.15-data-experiment/R/library 1.1-8 4.2.0
locfit /home/biocbuild/bbs-3.15-data-experiment/R/library 1.5-9.4 4.2.0
log4r /home/biocbuild/bbs-3.15-data-experiment/R/library 0.4.2 4.2.0
logger /home/biocbuild/bbs-3.15-data-experiment/R/library 0.2.2 4.2.0
logging /home/biocbuild/bbs-3.15-data-experiment/R/library 0.10-108 4.2.0
logistf /home/biocbuild/bbs-3.15-data-experiment/R/library 1.24.1 4.2.0
lokern /home/biocbuild/bbs-3.15-data-experiment/R/library 1.1-9 4.2.0
lpSolve /home/biocbuild/bbs-3.15-data-experiment/R/library 5.6.15 4.2.0
lpsymphony /home/biocbuild/bbs-3.15-data-experiment/R/library 1.23.0 4.2.0
LRcell /home/biocbuild/bbs-3.15-data-experiment/R/library 1.3.0 4.2.0
LRcellTypeMarkers /home/biocbuild/bbs-3.15-data-experiment/R/library 1.3.0 4.2.0
LSD /home/biocbuild/bbs-3.15-data-experiment/R/library 4.1-0 4.2.0
lsr /home/biocbuild/bbs-3.15-data-experiment/R/library 0.5.2 4.2.0
lubridate /home/biocbuild/bbs-3.15-data-experiment/R/library 1.8.0 4.2.0
lumi /home/biocbuild/bbs-3.15-data-experiment/R/library 2.47.0 4.2.0
lumiBarnes /home/biocbuild/bbs-3.15-data-experiment/R/library 1.35.0 4.2.0
LungCancerACvsSCCGEO /home/biocbuild/bbs-3.15-data-experiment/R/library 1.31.0 4.2.0
LungCancerLines /home/biocbuild/bbs-3.15-data-experiment/R/library 0.33.0 4.2.0
lungExpression /home/biocbuild/bbs-3.15-data-experiment/R/library 0.33.2 4.2.0
lydata /home/biocbuild/bbs-3.15-data-experiment/R/library 1.21.0 4.2.0
M3DExampleData /home/biocbuild/bbs-3.15-data-experiment/R/library 1.21.0 4.2.0
macrophage /home/biocbuild/bbs-3.15-data-experiment/R/library 1.11.0 4.2.0
MACSdata /home/biocbuild/bbs-3.15-data-experiment/R/library 1.3.0 4.2.0
magick /home/biocbuild/bbs-3.15-data-experiment/R/library 2.7.3 4.2.0
magrittr /home/biocbuild/bbs-3.15-data-experiment/R/library 2.0.2 4.2.0
MALDIquant /home/biocbuild/bbs-3.15-data-experiment/R/library 1.21 4.2.0
MALDIquantForeign /home/biocbuild/bbs-3.15-data-experiment/R/library 0.13 4.2.0
mammaPrintData /home/biocbuild/bbs-3.15-data-experiment/R/library 1.31.0 4.2.0
mAPKLData /home/biocbuild/bbs-3.15-data-experiment/R/library 1.27.0 4.2.0
maps /home/biocbuild/bbs-3.15-data-experiment/R/library 3.4.0 4.2.0
maptools /home/biocbuild/bbs-3.15-data-experiment/R/library 1.1-2 4.2.0
maqcExpression4plex /home/biocbuild/bbs-3.15-data-experiment/R/library 1.39.0 4.2.0
MAQCsubset /home/biocbuild/bbs-3.15-data-experiment/R/library 1.33.0 4.2.0
MAQCsubsetILM /home/biocbuild/bbs-3.15-data-experiment/R/library 1.33.0 4.2.0
markdown /home/biocbuild/bbs-3.15-data-experiment/R/library 1.1 4.2.0
marray /home/biocbuild/bbs-3.15-data-experiment/R/library 1.73.0 4.2.0
MASS /home/biocbuild/bbs-3.15-data-experiment/R/library 7.3-55 4.2.0
MassSpecWavelet /home/biocbuild/bbs-3.15-data-experiment/R/library 1.61.0 4.2.0
mathjaxr /home/biocbuild/bbs-3.15-data-experiment/R/library 1.4-0 4.2.0
Matrix /home/biocbuild/bbs-3.15-data-experiment/R/library 1.4-0 4.2.0
MatrixGenerics /home/biocbuild/bbs-3.15-data-experiment/R/library 1.7.0 4.2.0
MatrixModels /home/biocbuild/bbs-3.15-data-experiment/R/library 0.5-0 4.2.0
matrixStats /home/biocbuild/bbs-3.15-data-experiment/R/library 0.61.0 4.2.0
matter /home/biocbuild/bbs-3.15-data-experiment/R/library 1.21.0 4.2.0
maxstat /home/biocbuild/bbs-3.15-data-experiment/R/library 0.7-25 4.2.0
mclust /home/biocbuild/bbs-3.15-data-experiment/R/library 5.4.9 4.2.0
mCSEAdata /home/biocbuild/bbs-3.15-data-experiment/R/library 1.15.1 4.2.0
mcsurvdata /home/biocbuild/bbs-3.15-data-experiment/R/library 1.13.0 4.2.0
mda /home/biocbuild/bbs-3.15-data-experiment/R/library 0.5-2 4.2.0
MEDIPSData /home/biocbuild/bbs-3.15-data-experiment/R/library 1.31.1 4.2.0
MEEBOdata /home/biocbuild/bbs-3.15-data-experiment/R/library 1.33.0 4.2.0
memoise /home/biocbuild/bbs-3.15-data-experiment/R/library 2.0.1 4.2.0
MESS /home/biocbuild/bbs-3.15-data-experiment/R/library 0.5.7 4.2.0
metafor /home/biocbuild/bbs-3.15-data-experiment/R/library 3.0-2 4.2.0
metagenomeSeq /home/biocbuild/bbs-3.15-data-experiment/R/library 1.37.0 4.2.0
MetaGxBreast /home/biocbuild/bbs-3.15-data-experiment/R/library 1.15.0 4.2.0
MetaGxOvarian /home/biocbuild/bbs-3.15-data-experiment/R/library 1.15.0 4.2.0
MetaGxPancreas /home/biocbuild/bbs-3.15-data-experiment/R/library 1.15.0 4.2.0
metaMSdata /home/biocbuild/bbs-3.15-data-experiment/R/library 1.31.0 4.2.0
metap /home/biocbuild/bbs-3.15-data-experiment/R/library 1.8 4.2.0
metapod /home/biocbuild/bbs-3.15-data-experiment/R/library 1.3.0 4.2.0
methods /home/biocbuild/bbs-3.15-data-experiment/R/library 4.2.0 4.2.0
MethylAid /home/biocbuild/bbs-3.15-data-experiment/R/library 1.29.0 4.2.0
MethylAidData /home/biocbuild/bbs-3.15-data-experiment/R/library 1.27.0 4.2.0
methylclockData /home/biocbuild/bbs-3.15-data-experiment/R/library 1.3.0 4.2.0
MethylSeqData /home/biocbuild/bbs-3.15-data-experiment/R/library 1.5.0 4.2.0
methylumi /home/biocbuild/bbs-3.15-data-experiment/R/library 2.41.1 4.2.0
Mfuzz /home/biocbuild/bbs-3.15-data-experiment/R/library 2.55.0 4.2.0
mgcv /home/biocbuild/bbs-3.15-data-experiment/R/library 1.8-38 4.2.0
mgsub /home/biocbuild/bbs-3.15-data-experiment/R/library 1.7.3 4.2.0
mia /home/biocbuild/bbs-3.15-data-experiment/R/library 1.3.18 4.2.0
mice /home/biocbuild/bbs-3.15-data-experiment/R/library 3.14.0 4.2.0
microbiomeDataSets /home/biocbuild/bbs-3.15-data-experiment/R/library 1.3.0 4.2.0
microRNAome /home/biocbuild/bbs-3.15-data-experiment/R/library 1.17.1 4.2.0
MIGSAdata /home/biocbuild/bbs-3.15-data-experiment/R/library 1.19.0 4.2.0
mime /home/biocbuild/bbs-3.15-data-experiment/R/library 0.12 4.2.0
minet /home/biocbuild/bbs-3.15-data-experiment/R/library 3.53.0 4.2.0
minfi /home/biocbuild/bbs-3.15-data-experiment/R/library 1.41.1 4.2.0
minfiData /home/biocbuild/bbs-3.15-data-experiment/R/library 0.41.0 4.2.0
minfiDataEPIC /home/biocbuild/bbs-3.15-data-experiment/R/library 1.21.1 4.2.0
minionSummaryData /home/biocbuild/bbs-3.15-data-experiment/R/library 1.25.0 4.2.0
miniUI /home/biocbuild/bbs-3.15-data-experiment/R/library 0.1.1.1 4.2.0
minpack.lm /home/biocbuild/bbs-3.15-data-experiment/R/library 1.2-1 4.2.0
minqa /home/biocbuild/bbs-3.15-data-experiment/R/library 1.2.4 4.2.0
miRcompData /home/biocbuild/bbs-3.15-data-experiment/R/library 1.25.0 4.2.0
miRNATarget /home/biocbuild/bbs-3.15-data-experiment/R/library 1.33.0 4.2.0
misc3d /home/biocbuild/bbs-3.15-data-experiment/R/library 0.9-1 4.2.0
missForest /home/biocbuild/bbs-3.15-data-experiment/R/library 1.4 4.2.0
missMDA /home/biocbuild/bbs-3.15-data-experiment/R/library 1.18 4.2.0
mitools /home/biocbuild/bbs-3.15-data-experiment/R/library 2.4 4.2.0
mixtools /home/biocbuild/bbs-3.15-data-experiment/R/library 1.2.0 4.2.0
mlbench /home/biocbuild/bbs-3.15-data-experiment/R/library 2.1-3 4.2.0
MLInterfaces /home/biocbuild/bbs-3.15-data-experiment/R/library 1.75.0 4.2.0
MMAPPR2data /home/biocbuild/bbs-3.15-data-experiment/R/library 1.9.0 4.2.0
MMDiff2 /home/biocbuild/bbs-3.15-data-experiment/R/library 1.23.1 4.2.0
MMDiffBamSubset /home/biocbuild/bbs-3.15-data-experiment/R/library 1.31.0 4.2.0
mnormt /home/biocbuild/bbs-3.15-data-experiment/R/library 2.0.2 4.2.0
ModelMetrics /home/biocbuild/bbs-3.15-data-experiment/R/library 1.2.2.2 4.2.0
modelr /home/biocbuild/bbs-3.15-data-experiment/R/library 0.1.8 4.2.0
modeltools /home/biocbuild/bbs-3.15-data-experiment/R/library 0.2-23 4.2.0
MOFAdata /home/biocbuild/bbs-3.15-data-experiment/R/library 1.11.0 4.2.0
mosaicCore /home/biocbuild/bbs-3.15-data-experiment/R/library 0.9.0 4.2.0
mosaicsExample /home/biocbuild/bbs-3.15-data-experiment/R/library 1.33.0 4.2.0
mouse4302.db /home/biocbuild/bbs-3.15-data-experiment/R/library 3.13.0 4.2.0
mouse4302barcodevecs /home/biocbuild/bbs-3.15-data-experiment/R/library 1.33.0 4.2.0
mouse4302cdf /home/biocbuild/bbs-3.15-data-experiment/R/library 2.18.0 4.2.0
MouseGastrulationData /home/biocbuild/bbs-3.15-data-experiment/R/library 1.9.0 4.2.0
MouseThymusAgeing /home/biocbuild/bbs-3.15-data-experiment/R/library 1.3.0 4.2.0
MsCoreUtils /home/biocbuild/bbs-3.15-data-experiment/R/library 1.7.1 4.2.0
msd16s /home/biocbuild/bbs-3.15-data-experiment/R/library 1.15.0 4.2.0
msdata /home/biocbuild/bbs-3.15-data-experiment/R/library 0.35.2 4.2.0
MsFeatures /home/biocbuild/bbs-3.15-data-experiment/R/library 1.3.0 4.2.0
msigdb /home/biocbuild/bbs-3.15-data-experiment/R/library 1.3.1 4.2.0
MSMB /home/biocbuild/bbs-3.15-data-experiment/R/library 1.13.0 4.2.0
msmsEDA /home/biocbuild/bbs-3.15-data-experiment/R/library 1.33.0 4.2.0
msmsTests /home/biocbuild/bbs-3.15-data-experiment/R/library 1.33.0 4.2.0
MSnbase /home/biocbuild/bbs-3.15-data-experiment/R/library 2.21.5 4.2.0
MSnID /home/biocbuild/bbs-3.15-data-experiment/R/library 1.29.0 4.2.0
msPurityData /home/biocbuild/bbs-3.15-data-experiment/R/library 1.23.0 4.2.0
msqc1 /home/biocbuild/bbs-3.15-data-experiment/R/library 1.23.0 4.2.0
MSstats /home/biocbuild/bbs-3.15-data-experiment/R/library 4.3.0 4.2.0
MSstatsBioData /home/biocbuild/bbs-3.15-data-experiment/R/library 1.17.1 4.2.0
MSstatsConvert /home/biocbuild/bbs-3.15-data-experiment/R/library 1.5.1 4.2.0
mtbls2 /home/biocbuild/bbs-3.15-data-experiment/R/library 1.25.0 4.2.0
MUGAExampleData /home/biocbuild/bbs-3.15-data-experiment/R/library 1.15.0 4.2.0
multcomp /home/biocbuild/bbs-3.15-data-experiment/R/library 1.4-18 4.2.0
MultiAssayExperiment /home/biocbuild/bbs-3.15-data-experiment/R/library 1.21.5 4.2.0
multicool /home/biocbuild/bbs-3.15-data-experiment/R/library 0.1-12 4.2.0
MultiDataSet /home/biocbuild/bbs-3.15-data-experiment/R/library 1.23.0 4.2.0
multtest /home/biocbuild/bbs-3.15-data-experiment/R/library 2.51.0 4.2.0
munsell /home/biocbuild/bbs-3.15-data-experiment/R/library 0.5.0 4.2.0
muscat /home/biocbuild/bbs-3.15-data-experiment/R/library 1.9.2 4.2.0
muscData /home/biocbuild/bbs-3.15-data-experiment/R/library 1.9.0 4.2.0
mutoss /home/biocbuild/bbs-3.15-data-experiment/R/library 0.1-12 4.2.0
mvoutData /home/biocbuild/bbs-3.15-data-experiment/R/library 1.31.0 4.2.0
mvtnorm /home/biocbuild/bbs-3.15-data-experiment/R/library 1.1-3 4.2.0
mzID /home/biocbuild/bbs-3.15-data-experiment/R/library 1.33.0 4.2.0
mzR /home/biocbuild/bbs-3.15-data-experiment/R/library 2.29.3 4.2.0
nabor /home/biocbuild/bbs-3.15-data-experiment/R/library 0.5.0 4.2.0
NanoporeRNASeq /home/biocbuild/bbs-3.15-data-experiment/R/library 1.5.1 4.2.0
nanotubes /home/biocbuild/bbs-3.15-data-experiment/R/library 1.11.0 4.2.0
nat /home/biocbuild/bbs-3.15-data-experiment/R/library 1.8.18 4.2.0
nat.utils /home/biocbuild/bbs-3.15-data-experiment/R/library 0.5.1 4.2.0
ncdf4 /home/biocbuild/bbs-3.15-data-experiment/R/library 1.19 4.2.0
ncdfFlow /home/biocbuild/bbs-3.15-data-experiment/R/library 2.41.0 4.2.0
NCIgraphData /home/biocbuild/bbs-3.15-data-experiment/R/library 1.31.0 4.2.0
NestLink /home/biocbuild/bbs-3.15-data-experiment/R/library 1.11.0 4.2.0
Neve2006 /home/biocbuild/bbs-3.15-data-experiment/R/library 0.33.0 4.2.0
NGScopyData /home/biocbuild/bbs-3.15-data-experiment/R/library 1.15.0 4.2.0
nleqslv /home/biocbuild/bbs-3.15-data-experiment/R/library 3.3.2 4.2.0
nlme /home/biocbuild/bbs-3.15-data-experiment/R/library 3.1-155 4.2.0
nloptr /home/biocbuild/bbs-3.15-data-experiment/R/library 2.0.0 4.2.0
NLP /home/biocbuild/bbs-3.15-data-experiment/R/library 0.2-1 4.2.0
nnet /home/biocbuild/bbs-3.15-data-experiment/R/library 7.3-17 4.2.0
nnls /home/biocbuild/bbs-3.15-data-experiment/R/library 1.4 4.2.0
nor1mix /home/biocbuild/bbs-3.15-data-experiment/R/library 1.3-0 4.2.0
norm /home/biocbuild/bbs-3.15-data-experiment/R/library 1.0-9.5 4.2.0
nullrangesData /home/biocbuild/bbs-3.15-data-experiment/R/library 1.1.0 4.2.0
numDeriv /home/biocbuild/bbs-3.15-data-experiment/R/library 2016.8-1.1 4.2.0
NxtIRFdata /home/biocbuild/bbs-3.15-data-experiment/R/library 1.1.0 4.2.0
ObMiTi /home/biocbuild/bbs-3.15-data-experiment/R/library 1.3.0 4.2.0
oct4 /home/biocbuild/bbs-3.15-data-experiment/R/library 1.11.0 4.2.0
oligo /home/biocbuild/bbs-3.15-data-experiment/R/library 1.59.0 4.2.0
oligoClasses /home/biocbuild/bbs-3.15-data-experiment/R/library 1.57.0 4.2.0
OMICsPCAdata /home/biocbuild/bbs-3.15-data-experiment/R/library 1.13.0 4.2.0
OnassisJavaLibs /home/biocbuild/bbs-3.15-data-experiment/R/library 1.17.0 4.2.0
openCyto /home/biocbuild/bbs-3.15-data-experiment/R/library 2.7.0 4.2.0
openssl /home/biocbuild/bbs-3.15-data-experiment/R/library 1.4.6 4.2.0
openxlsx /home/biocbuild/bbs-3.15-data-experiment/R/library 4.2.5 4.2.0
operator.tools /home/biocbuild/bbs-3.15-data-experiment/R/library 1.6.3 4.2.0
optimalFlowData /home/biocbuild/bbs-3.15-data-experiment/R/library 1.7.0 4.2.0
optparse /home/biocbuild/bbs-3.15-data-experiment/R/library 1.7.1 4.2.0
org.Dm.eg.db /home/biocbuild/bbs-3.15-data-experiment/R/library 3.14.0 4.2.0
org.Dr.eg.db /home/biocbuild/bbs-3.15-data-experiment/R/library 3.14.0 4.2.0
org.Hs.eg.db /home/biocbuild/bbs-3.15-data-experiment/R/library 3.14.0 4.2.0
org.Mm.eg.db /home/biocbuild/bbs-3.15-data-experiment/R/library 3.14.0 4.2.0
org.Rn.eg.db /home/biocbuild/bbs-3.15-data-experiment/R/library 3.14.0 4.2.0
org.Sc.sgd.db /home/biocbuild/bbs-3.15-data-experiment/R/library 3.14.0 4.2.0
OrganismDbi /home/biocbuild/bbs-3.15-data-experiment/R/library 1.37.1 4.2.0
OrgMassSpecR /home/biocbuild/bbs-3.15-data-experiment/R/library 0.5-3 4.2.0
PADOG /home/biocbuild/bbs-3.15-data-experiment/R/library 1.37.0 4.2.0
pamr /home/biocbuild/bbs-3.15-data-experiment/R/library 1.56.1 4.2.0
pander /home/biocbuild/bbs-3.15-data-experiment/R/library 0.6.4 4.2.0
parallel /home/biocbuild/bbs-3.15-data-experiment/R/library 4.2.0 4.2.0
parallelly /home/biocbuild/bbs-3.15-data-experiment/R/library 1.30.0 4.2.0
parathyroidSE /home/biocbuild/bbs-3.15-data-experiment/R/library 1.33.1 4.2.0
pasilla /home/biocbuild/bbs-3.15-data-experiment/R/library 1.23.1 4.2.0
pasillaBamSubset /home/biocbuild/bbs-3.15-data-experiment/R/library 0.33.0 4.2.0
PasillaTranscriptExpr /home/biocbuild/bbs-3.15-data-experiment/R/library 1.23.0 4.2.0
patchwork /home/biocbuild/bbs-3.15-data-experiment/R/library 1.1.1 4.2.0
PathNetData /home/biocbuild/bbs-3.15-data-experiment/R/library 1.31.0 4.2.0
pathview /home/biocbuild/bbs-3.15-data-experiment/R/library 1.35.0 4.2.0
pbapply /home/biocbuild/bbs-3.15-data-experiment/R/library 1.5-0 4.2.0
pbkrtest /home/biocbuild/bbs-3.15-data-experiment/R/library 0.5.1 4.2.0
pcaMethods /home/biocbuild/bbs-3.15-data-experiment/R/library 1.87.0 4.2.0
pcaPP /home/biocbuild/bbs-3.15-data-experiment/R/library 1.9-74 4.2.0
PCHiCdata /home/biocbuild/bbs-3.15-data-experiment/R/library 1.23.1 4.2.0
pcxn /home/biocbuild/bbs-3.15-data-experiment/R/library 2.17.0 4.2.0
pcxnData /home/biocbuild/bbs-3.15-data-experiment/R/library 2.17.0 4.2.0
pd.atdschip.tiling /home/biocbuild/bbs-3.15-data-experiment/R/library 0.33.1 4.2.0
pdInfoBuilder /home/biocbuild/bbs-3.15-data-experiment/R/library 1.59.0 4.2.0
pepDat /home/biocbuild/bbs-3.15-data-experiment/R/library 1.15.1 4.2.0
PepsNMRData /home/biocbuild/bbs-3.15-data-experiment/R/library 1.13.0 4.2.0
permute /home/biocbuild/bbs-3.15-data-experiment/R/library 0.9-7 4.2.0
pheatmap /home/biocbuild/bbs-3.15-data-experiment/R/library 1.0.12 4.2.0
PhyloProfileData /home/biocbuild/bbs-3.15-data-experiment/R/library 1.9.0 4.2.0
phyloseq /home/biocbuild/bbs-3.15-data-experiment/R/library 1.39.1 4.2.0
piano /home/biocbuild/bbs-3.15-data-experiment/R/library 2.11.0 4.2.0
pillar /home/biocbuild/bbs-3.15-data-experiment/R/library 1.7.0 4.2.0
pixmap /home/biocbuild/bbs-3.15-data-experiment/R/library 0.4-12 4.2.0
pkgbuild /home/biocbuild/bbs-3.15-data-experiment/R/library 1.3.1 4.2.0
pkgconfig /home/biocbuild/bbs-3.15-data-experiment/R/library 2.0.3 4.2.0
pkgdown /home/biocbuild/bbs-3.15-data-experiment/R/library 2.0.2 4.2.0
pkgload /home/biocbuild/bbs-3.15-data-experiment/R/library 1.2.4 4.2.0
plasFIA /home/biocbuild/bbs-3.15-data-experiment/R/library 1.23.0 4.2.0
plogr /home/biocbuild/bbs-3.15-data-experiment/R/library 0.2.0 4.2.0
plot3D /home/biocbuild/bbs-3.15-data-experiment/R/library 1.4 4.2.0
plotgardenerData /home/biocbuild/bbs-3.15-data-experiment/R/library 1.1.0 4.2.0
plotly /home/biocbuild/bbs-3.15-data-experiment/R/library 4.10.0 4.2.0
plotrix /home/biocbuild/bbs-3.15-data-experiment/R/library 3.8-2 4.2.0
pls /home/biocbuild/bbs-3.15-data-experiment/R/library 2.8-0 4.2.0
plyr /home/biocbuild/bbs-3.15-data-experiment/R/library 1.8.6 4.2.0
png /home/biocbuild/bbs-3.15-data-experiment/R/library 0.1-7 4.2.0
Polychrome /home/biocbuild/bbs-3.15-data-experiment/R/library 1.3.1 4.2.0
polyclip /home/biocbuild/bbs-3.15-data-experiment/R/library 1.10-0 4.2.0
polynom /home/biocbuild/bbs-3.15-data-experiment/R/library 1.4-0 4.2.0
PolynomF /home/biocbuild/bbs-3.15-data-experiment/R/library 2.0-3 4.2.0
ppiData /home/biocbuild/bbs-3.15-data-experiment/R/library 0.33.1 4.2.0
ppiStats /home/biocbuild/bbs-3.15-data-experiment/R/library 1.61.1 4.2.0
prabclus /home/biocbuild/bbs-3.15-data-experiment/R/library 2.3-2 4.2.0
pracma /home/biocbuild/bbs-3.15-data-experiment/R/library 2.3.6 4.2.0
praise /home/biocbuild/bbs-3.15-data-experiment/R/library 1.0.0 4.2.0
prebsdata /home/biocbuild/bbs-3.15-data-experiment/R/library 1.31.0 4.2.0
preciseTAD /home/biocbuild/bbs-3.15-data-experiment/R/library 1.5.0 4.2.0
preciseTADhub /home/biocbuild/bbs-3.15-data-experiment/R/library 1.3.0 4.2.0
PREDA /home/biocbuild/bbs-3.15-data-experiment/R/library 1.41.0 4.2.0
PREDAsampledata /home/biocbuild/bbs-3.15-data-experiment/R/library 0.35.0 4.2.0
preprocessCore /home/biocbuild/bbs-3.15-data-experiment/R/library 1.57.0 4.2.0
prettydoc /home/biocbuild/bbs-3.15-data-experiment/R/library 0.4.1 4.2.0
prettyunits /home/biocbuild/bbs-3.15-data-experiment/R/library 1.1.1 4.2.0
pROC /home/biocbuild/bbs-3.15-data-experiment/R/library 1.18.0 4.2.0
processx /home/biocbuild/bbs-3.15-data-experiment/R/library 3.5.2 4.2.0
ProData /home/biocbuild/bbs-3.15-data-experiment/R/library 1.33.0 4.2.0
prodlim /home/biocbuild/bbs-3.15-data-experiment/R/library 2019.11.13 4.2.0
proFIA /home/biocbuild/bbs-3.15-data-experiment/R/library 1.21.0 4.2.0
profileModel /home/biocbuild/bbs-3.15-data-experiment/R/library 0.6.1 4.2.0
progress /home/biocbuild/bbs-3.15-data-experiment/R/library 1.2.2 4.2.0
progressr /home/biocbuild/bbs-3.15-data-experiment/R/library 0.10.0 4.2.0
pRoloc /home/biocbuild/bbs-3.15-data-experiment/R/library 1.35.0 4.2.0
pRolocdata /home/biocbuild/bbs-3.15-data-experiment/R/library 1.33.1 4.2.0
promises /home/biocbuild/bbs-3.15-data-experiment/R/library 1.2.0.1 4.2.0
prostateCancerCamcap /home/biocbuild/bbs-3.15-data-experiment/R/library 1.23.0 4.2.0
prostateCancerGrasso /home/biocbuild/bbs-3.15-data-experiment/R/library 1.23.0 4.2.0
prostateCancerStockholm /home/biocbuild/bbs-3.15-data-experiment/R/library 1.23.0 4.2.0
prostateCancerTaylor /home/biocbuild/bbs-3.15-data-experiment/R/library 1.23.0 4.2.0
prostateCancerVarambally /home/biocbuild/bbs-3.15-data-experiment/R/library 1.23.0 4.2.0
ProtGenerics /home/biocbuild/bbs-3.15-data-experiment/R/library 1.27.2 4.2.0
proto /home/biocbuild/bbs-3.15-data-experiment/R/library 1.0.0 4.2.0
protViz /home/biocbuild/bbs-3.15-data-experiment/R/library 0.7.0 4.2.0
proxy /home/biocbuild/bbs-3.15-data-experiment/R/library 0.4-26 4.2.0
PRROC /home/biocbuild/bbs-3.15-data-experiment/R/library 1.3.1 4.2.0
pryr /home/biocbuild/bbs-3.15-data-experiment/R/library 0.1.5 4.2.0
ps /home/biocbuild/bbs-3.15-data-experiment/R/library 1.6.0 4.2.0
ptairData /home/biocbuild/bbs-3.15-data-experiment/R/library 1.3.0 4.2.0
PtH2O2lipids /home/biocbuild/bbs-3.15-data-experiment/R/library 1.21.0 4.2.0
puma /home/biocbuild/bbs-3.15-data-experiment/R/library 3.37.0 4.2.0
pumadata /home/biocbuild/bbs-3.15-data-experiment/R/library 2.31.0 4.2.0
purrr /home/biocbuild/bbs-3.15-data-experiment/R/library 0.3.4 4.2.0
PWMEnrich /home/biocbuild/bbs-3.15-data-experiment/R/library 4.31.0 4.2.0
PWMEnrich.Dmelanogaster.background /home/biocbuild/bbs-3.15-data-experiment/R/library 4.29.0 4.2.0
PWMEnrich.Hsapiens.background /home/biocbuild/bbs-3.15-data-experiment/R/library 4.29.0 4.2.0
PWMEnrich.Mmusculus.background /home/biocbuild/bbs-3.15-data-experiment/R/library 4.29.0 4.2.0
pwr /home/biocbuild/bbs-3.15-data-experiment/R/library 1.3-0 4.2.0
pwrEWAS.data /home/biocbuild/bbs-3.15-data-experiment/R/library 1.9.0 4.2.0
qdapRegex /home/biocbuild/bbs-3.15-data-experiment/R/library 0.7.2 4.2.0
QDNAseq /home/biocbuild/bbs-3.15-data-experiment/R/library 1.31.0 4.2.0
QDNAseq.hg19 /home/biocbuild/bbs-3.15-data-experiment/R/library 1.25.0 4.2.0
QDNAseq.mm10 /home/biocbuild/bbs-3.15-data-experiment/R/library 1.25.0 4.2.0
QFeatures /home/biocbuild/bbs-3.15-data-experiment/R/library 1.5.2 4.2.0
qPLEXanalyzer /home/biocbuild/bbs-3.15-data-experiment/R/library 1.13.0 4.2.0
qPLEXdata /home/biocbuild/bbs-3.15-data-experiment/R/library 1.13.0 4.2.0
qqconf /home/biocbuild/bbs-3.15-data-experiment/R/library 1.1.1 4.2.0
qqman /home/biocbuild/bbs-3.15-data-experiment/R/library 0.1.8 4.2.0
quadprog /home/biocbuild/bbs-3.15-data-experiment/R/library 1.5-8 4.2.0
quanteda /home/biocbuild/bbs-3.15-data-experiment/R/library 3.2.0 4.2.0
quantmod /home/biocbuild/bbs-3.15-data-experiment/R/library 0.4.18 4.2.0
quantreg /home/biocbuild/bbs-3.15-data-experiment/R/library 5.88 4.2.0
quantsmooth /home/biocbuild/bbs-3.15-data-experiment/R/library 1.61.0 4.2.0
QUBICdata /home/biocbuild/bbs-3.15-data-experiment/R/library 1.23.0 4.2.0
qvalue /home/biocbuild/bbs-3.15-data-experiment/R/library 2.27.0 4.2.0
R.cache /home/biocbuild/bbs-3.15-data-experiment/R/library 0.15.0 4.2.0
R.methodsS3 /home/biocbuild/bbs-3.15-data-experiment/R/library 1.8.1 4.2.0
R.oo /home/biocbuild/bbs-3.15-data-experiment/R/library 1.24.0 4.2.0
R.utils /home/biocbuild/bbs-3.15-data-experiment/R/library 2.11.0 4.2.0
R2HTML /home/biocbuild/bbs-3.15-data-experiment/R/library 2.3.2 4.2.0
R6 /home/biocbuild/bbs-3.15-data-experiment/R/library 2.5.1 4.2.0
ragg /home/biocbuild/bbs-3.15-data-experiment/R/library 1.2.1 4.2.0
RaggedExperiment /home/biocbuild/bbs-3.15-data-experiment/R/library 1.19.0 4.2.0
rainbow /home/biocbuild/bbs-3.15-data-experiment/R/library 3.6 4.2.0
randomForest /home/biocbuild/bbs-3.15-data-experiment/R/library 4.7-1 4.2.0
RANN /home/biocbuild/bbs-3.15-data-experiment/R/library 2.6.1 4.2.0
rapidjsonr /home/biocbuild/bbs-3.15-data-experiment/R/library 1.2.0 4.2.0
rappdirs /home/biocbuild/bbs-3.15-data-experiment/R/library 0.3.3 4.2.0
raster /home/biocbuild/bbs-3.15-data-experiment/R/library 3.5-15 4.2.0
RBGL /home/biocbuild/bbs-3.15-data-experiment/R/library 1.71.0 4.2.0
rbibutils /home/biocbuild/bbs-3.15-data-experiment/R/library 2.2.7 4.2.0
rcdk /home/biocbuild/bbs-3.15-data-experiment/R/library 3.6.0 4.2.0
rcdklibs /home/biocbuild/bbs-3.15-data-experiment/R/library 2.3 4.2.0
rcellminer /home/biocbuild/bbs-3.15-data-experiment/R/library 2.17.0 4.2.0
rcellminerData /home/biocbuild/bbs-3.15-data-experiment/R/library 2.17.0 4.2.0
rCGH /home/biocbuild/bbs-3.15-data-experiment/R/library 1.25.0 4.2.0
RcisTarget.hg19.motifDBs.cisbpOnly.500bp /home/biocbuild/bbs-3.15-data-experiment/R/library 1.15.0 4.2.0
rcmdcheck /home/biocbuild/bbs-3.15-data-experiment/R/library 1.4.0 4.2.0
RColorBrewer /home/biocbuild/bbs-3.15-data-experiment/R/library 1.1-2 4.2.0
Rcpp /home/biocbuild/bbs-3.15-data-experiment/R/library 1.0.8 4.2.0
RcppAnnoy /home/biocbuild/bbs-3.15-data-experiment/R/library 0.0.19 4.2.0
RcppArmadillo /home/biocbuild/bbs-3.15-data-experiment/R/library 0.10.8.1.0 4.2.0
RcppEigen /home/biocbuild/bbs-3.15-data-experiment/R/library 0.3.3.9.1 4.2.0
RcppHNSW /home/biocbuild/bbs-3.15-data-experiment/R/library 0.3.0 4.2.0
RcppML /home/biocbuild/bbs-3.15-data-experiment/R/library 0.3.7 4.2.0
RcppNumerical /home/biocbuild/bbs-3.15-data-experiment/R/library 0.4-0 4.2.0
RcppParallel /home/biocbuild/bbs-3.15-data-experiment/R/library 5.1.5 4.2.0
RcppProgress /home/biocbuild/bbs-3.15-data-experiment/R/library 0.4.2 4.2.0
RcppTOML /home/biocbuild/bbs-3.15-data-experiment/R/library 0.1.7 4.2.0
RCurl /home/biocbuild/bbs-3.15-data-experiment/R/library 1.98-1.6 4.2.0
Rdisop /home/biocbuild/bbs-3.15-data-experiment/R/library 1.55.0 4.2.0
Rdpack /home/biocbuild/bbs-3.15-data-experiment/R/library 2.1.3 4.2.0
ReactomeGSA /home/biocbuild/bbs-3.15-data-experiment/R/library 1.9.1 4.2.0
ReactomeGSA.data /home/biocbuild/bbs-3.15-data-experiment/R/library 1.9.0 4.2.0
readBrukerFlexData /home/biocbuild/bbs-3.15-data-experiment/R/library 1.8.5 4.2.0
readMzXmlData /home/biocbuild/bbs-3.15-data-experiment/R/library 2.8.1 4.2.0
readr /home/biocbuild/bbs-3.15-data-experiment/R/library 2.1.2 4.2.0
readxl /home/biocbuild/bbs-3.15-data-experiment/R/library 1.3.1 4.2.0
recipes /home/biocbuild/bbs-3.15-data-experiment/R/library 0.1.17 4.2.0
RedeR /home/biocbuild/bbs-3.15-data-experiment/R/library 1.43.0 4.2.0
RefManageR /home/biocbuild/bbs-3.15-data-experiment/R/library 1.3.0 4.2.0
RegParallel /home/biocbuild/bbs-3.15-data-experiment/R/library 1.13.0 4.2.0
relations /home/biocbuild/bbs-3.15-data-experiment/R/library 0.6-11 4.2.0
rematch /home/biocbuild/bbs-3.15-data-experiment/R/library 1.0.1 4.2.0
rematch2 /home/biocbuild/bbs-3.15-data-experiment/R/library 2.1.2 4.2.0
remotes /home/biocbuild/bbs-3.15-data-experiment/R/library 2.4.2 4.2.0
reprex /home/biocbuild/bbs-3.15-data-experiment/R/library 2.0.1 4.2.0
reshape /home/biocbuild/bbs-3.15-data-experiment/R/library 0.8.8 4.2.0
reshape2 /home/biocbuild/bbs-3.15-data-experiment/R/library 1.4.4 4.2.0
restfulr /home/biocbuild/bbs-3.15-data-experiment/R/library 0.0.13 4.2.0
restfulSE /home/biocbuild/bbs-3.15-data-experiment/R/library 1.17.0 4.2.0
restfulSEData /home/biocbuild/bbs-3.15-data-experiment/R/library 1.17.1 4.2.0
reticulate /home/biocbuild/bbs-3.15-data-experiment/R/library 1.24 4.2.0
rex /home/biocbuild/bbs-3.15-data-experiment/R/library 1.2.1 4.2.0
rexposome /home/biocbuild/bbs-3.15-data-experiment/R/library 1.17.1 4.2.0
RforProteomics /home/biocbuild/bbs-3.15-data-experiment/R/library 1.33.0 4.2.0
rgl /home/biocbuild/bbs-3.15-data-experiment/R/library 0.108.3 4.2.0
RGMQLlib /home/biocbuild/bbs-3.15-data-experiment/R/library 1.15.0 4.2.0
Rgraphviz /home/biocbuild/bbs-3.15-data-experiment/R/library 2.39.0 4.2.0
rhdf5 /home/biocbuild/bbs-3.15-data-experiment/R/library 2.39.5 4.2.0
rhdf5client /home/biocbuild/bbs-3.15-data-experiment/R/library 1.17.0 4.2.0
rhdf5filters /home/biocbuild/bbs-3.15-data-experiment/R/library 1.7.0 4.2.0
Rhdf5lib /home/biocbuild/bbs-3.15-data-experiment/R/library 1.17.3 4.2.0
rheumaticConditionWOLLBOLD /home/biocbuild/bbs-3.15-data-experiment/R/library 1.33.0 4.2.0
RhpcBLASctl /home/biocbuild/bbs-3.15-data-experiment/R/library 0.21-247.1 4.2.0
Rhtslib /home/biocbuild/bbs-3.15-data-experiment/R/library 1.27.1 4.2.0
Ringo /home/biocbuild/bbs-3.15-data-experiment/R/library 1.59.0 4.2.0
rintrojs /home/biocbuild/bbs-3.15-data-experiment/R/library 0.3.0 4.2.0
Risa /home/biocbuild/bbs-3.15-data-experiment/R/library 1.37.0 4.2.0
rJava /home/biocbuild/bbs-3.15-data-experiment/R/library 1.0-6 4.2.0
rjson /home/biocbuild/bbs-3.15-data-experiment/R/library 0.2.21 4.2.0
rlang /home/biocbuild/bbs-3.15-data-experiment/R/library 1.0.1 4.2.0
RLHub /home/biocbuild/bbs-3.15-data-experiment/R/library 1.1.0 4.2.0
rlist /home/biocbuild/bbs-3.15-data-experiment/R/library 0.4.6.2 4.2.0
rmarkdown /home/biocbuild/bbs-3.15-data-experiment/R/library 2.11 4.2.0
RMassBank /home/biocbuild/bbs-3.15-data-experiment/R/library 3.5.0 4.2.0
RMassBankData /home/biocbuild/bbs-3.15-data-experiment/R/library 1.33.0 4.2.0
rmeta /home/biocbuild/bbs-3.15-data-experiment/R/library 3.0 4.2.0
RNAinteract /home/biocbuild/bbs-3.15-data-experiment/R/library 1.43.0 4.2.0
RNAinteractMAPK /home/biocbuild/bbs-3.15-data-experiment/R/library 1.33.0 4.2.0
RNAmodR.Data /home/biocbuild/bbs-3.15-data-experiment/R/library 1.9.0 4.2.0
RNAseqData.HNRNPC.bam.chr14 /home/biocbuild/bbs-3.15-data-experiment/R/library 0.33.0 4.2.0
RNASeqRData /home/biocbuild/bbs-3.15-data-experiment/R/library 1.13.0 4.2.0
RnaSeqSampleSizeData /home/biocbuild/bbs-3.15-data-experiment/R/library 1.27.0 4.2.0
RnBeads /home/biocbuild/bbs-3.15-data-experiment/R/library 2.13.3 4.2.0
RnBeads.hg19 /home/biocbuild/bbs-3.15-data-experiment/R/library 1.27.1 4.2.0
RnBeads.hg38 /home/biocbuild/bbs-3.15-data-experiment/R/library 1.27.1 4.2.0
RnBeads.mm10 /home/biocbuild/bbs-3.15-data-experiment/R/library 2.3.1 4.2.0
RnBeads.mm9 /home/biocbuild/bbs-3.15-data-experiment/R/library 1.27.1 4.2.0
RnBeads.rn5 /home/biocbuild/bbs-3.15-data-experiment/R/library 1.27.1 4.2.0
rngtools /home/biocbuild/bbs-3.15-data-experiment/R/library 1.5.2 4.2.0
robustbase /home/biocbuild/bbs-3.15-data-experiment/R/library 0.93-9 4.2.0
ROCR /home/biocbuild/bbs-3.15-data-experiment/R/library 1.0-11 4.2.0
rols /home/biocbuild/bbs-3.15-data-experiment/R/library 2.23.1 4.2.0
ropls /home/biocbuild/bbs-3.15-data-experiment/R/library 1.27.4 4.2.0
roxygen2 /home/biocbuild/bbs-3.15-data-experiment/R/library 7.1.2 4.2.0
rpart /home/biocbuild/bbs-3.15-data-experiment/R/library 4.1.16 4.2.0
rprojroot /home/biocbuild/bbs-3.15-data-experiment/R/library 2.0.2 4.2.0
RProtoBufLib /home/biocbuild/bbs-3.15-data-experiment/R/library 2.7.0 4.2.0
rpx /home/biocbuild/bbs-3.15-data-experiment/R/library 2.3.2 4.2.0
RRBSdata /home/biocbuild/bbs-3.15-data-experiment/R/library 1.15.1 4.2.0
rrcov /home/biocbuild/bbs-3.15-data-experiment/R/library 1.6-2 4.2.0
rRDP /home/biocbuild/bbs-3.15-data-experiment/R/library 1.29.0 4.2.0
rRDPData /home/biocbuild/bbs-3.15-data-experiment/R/library 1.15.0 4.2.0
Rsamtools /home/biocbuild/bbs-3.15-data-experiment/R/library 2.11.0 4.2.0
RSpectra /home/biocbuild/bbs-3.15-data-experiment/R/library 0.16-0 4.2.0
RSQLite /home/biocbuild/bbs-3.15-data-experiment/R/library 2.2.10 4.2.0
rstatix /home/biocbuild/bbs-3.15-data-experiment/R/library 0.7.0 4.2.0
rstudioapi /home/biocbuild/bbs-3.15-data-experiment/R/library 0.13 4.2.0
rsvd /home/biocbuild/bbs-3.15-data-experiment/R/library 1.0.5 4.2.0
RTCGA /home/biocbuild/bbs-3.15-data-experiment/R/library 1.25.0 4.2.0
RTCGA.clinical /home/biocbuild/bbs-3.15-data-experiment/R/library 20151101.25.0 4.2.0
RTCGA.CNV /home/biocbuild/bbs-3.15-data-experiment/R/library 1.23.0 4.2.0
RTCGA.methylation /home/biocbuild/bbs-3.15-data-experiment/R/library 1.23.0 4.2.0
RTCGA.miRNASeq /home/biocbuild/bbs-3.15-data-experiment/R/library 1.23.0 4.2.0
RTCGA.mRNA /home/biocbuild/bbs-3.15-data-experiment/R/library 1.23.0 4.2.0
RTCGA.mutations /home/biocbuild/bbs-3.15-data-experiment/R/library 20151101.25.0 4.2.0
RTCGA.PANCAN12 /home/biocbuild/bbs-3.15-data-experiment/R/library 1.23.0 4.2.0
RTCGA.rnaseq /home/biocbuild/bbs-3.15-data-experiment/R/library 20151101.25.0 4.2.0
RTCGA.RPPA /home/biocbuild/bbs-3.15-data-experiment/R/library 1.23.0 4.2.0
RTN /home/biocbuild/bbs-3.15-data-experiment/R/library 2.19.0 4.2.0
rtracklayer /home/biocbuild/bbs-3.15-data-experiment/R/library 1.55.3 4.2.0
Rtsne /home/biocbuild/bbs-3.15-data-experiment/R/library 0.15 4.2.0
Rttf2pt1 /home/biocbuild/bbs-3.15-data-experiment/R/library 1.3.10 4.2.0
RUnit /home/biocbuild/bbs-3.15-data-experiment/R/library 0.4.32 4.2.0
RUVnormalizeData /home/biocbuild/bbs-3.15-data-experiment/R/library 1.15.0 4.2.0
rversions /home/biocbuild/bbs-3.15-data-experiment/R/library 2.1.1 4.2.0
rvest /home/biocbuild/bbs-3.15-data-experiment/R/library 1.0.2 4.2.0
S4Vectors /home/biocbuild/bbs-3.15-data-experiment/R/library 0.33.10 4.2.0
safe /home/biocbuild/bbs-3.15-data-experiment/R/library 3.35.0 4.2.0
sampleClassifierData /home/biocbuild/bbs-3.15-data-experiment/R/library 1.19.1 4.2.0
sampling /home/biocbuild/bbs-3.15-data-experiment/R/library 2.9 4.2.0
sandwich /home/biocbuild/bbs-3.15-data-experiment/R/library 3.0-1 4.2.0
sass /home/biocbuild/bbs-3.15-data-experiment/R/library 0.4.0 4.2.0
SBGNview.data /home/biocbuild/bbs-3.15-data-experiment/R/library 1.9.1 4.2.0
ScaledMatrix /home/biocbuild/bbs-3.15-data-experiment/R/library 1.3.0 4.2.0
scales /home/biocbuild/bbs-3.15-data-experiment/R/library 1.1.1 4.2.0
scanMiR /home/biocbuild/bbs-3.15-data-experiment/R/library 1.1.0 4.2.0
scanMiRData /home/biocbuild/bbs-3.15-data-experiment/R/library 1.1.0 4.2.0
scATAC.Explorer /home/biocbuild/bbs-3.15-data-experiment/R/library 1.1.2 4.2.0
SCATEData /home/biocbuild/bbs-3.15-data-experiment/R/library 1.5.1 4.2.0
scater /home/biocbuild/bbs-3.15-data-experiment/R/library 1.23.2 4.2.0
scattermore /home/biocbuild/bbs-3.15-data-experiment/R/library 0.8 4.2.0
scatterpie /home/biocbuild/bbs-3.15-data-experiment/R/library 0.1.7 4.2.0
scatterplot3d /home/biocbuild/bbs-3.15-data-experiment/R/library 0.3-41 4.2.0
scds /home/biocbuild/bbs-3.15-data-experiment/R/library 1.11.1 4.2.0
scico /home/biocbuild/bbs-3.15-data-experiment/R/library 1.3.0 4.2.0
SCLCBam /home/biocbuild/bbs-3.15-data-experiment/R/library 1.27.0 4.2.0
scp /home/biocbuild/bbs-3.15-data-experiment/R/library 1.5.0 4.2.0
scpdata /home/biocbuild/bbs-3.15-data-experiment/R/library 1.3.2 4.2.0
scran /home/biocbuild/bbs-3.15-data-experiment/R/library 1.23.1 4.2.0
scrime /home/biocbuild/bbs-3.15-data-experiment/R/library 1.3.5 4.2.0
scRNAseq /home/biocbuild/bbs-3.15-data-experiment/R/library 2.9.2 4.2.0
scTHI.data /home/biocbuild/bbs-3.15-data-experiment/R/library 1.7.0 4.2.0
sctransform /home/biocbuild/bbs-3.15-data-experiment/R/library 0.3.3 4.2.0
scuttle /home/biocbuild/bbs-3.15-data-experiment/R/library 1.5.0 4.2.0
segmented /home/biocbuild/bbs-3.15-data-experiment/R/library 1.4-0 4.2.0
selectr /home/biocbuild/bbs-3.15-data-experiment/R/library 0.4-2 4.2.0
sendmailR /home/biocbuild/bbs-3.15-data-experiment/R/library 1.2-1 4.2.0
seq2pathway.data /home/biocbuild/bbs-3.15-data-experiment/R/library 1.27.0 4.2.0
seqc /home/biocbuild/bbs-3.15-data-experiment/R/library 1.29.0 4.2.0
seqCNA.annot /home/biocbuild/bbs-3.15-data-experiment/R/library 1.31.0 4.2.0
seqinr /home/biocbuild/bbs-3.15-data-experiment/R/library 4.2-8 4.2.0
seqLogo /home/biocbuild/bbs-3.15-data-experiment/R/library 1.61.1 4.2.0
serumStimulation /home/biocbuild/bbs-3.15-data-experiment/R/library 1.31.0 4.2.0
sesame /home/biocbuild/bbs-3.15-data-experiment/R/library 1.13.27 4.2.0
sesameData /home/biocbuild/bbs-3.15-data-experiment/R/library 1.13.27 4.2.0
sessioninfo /home/biocbuild/bbs-3.15-data-experiment/R/library 1.2.2 4.2.0
sets /home/biocbuild/bbs-3.15-data-experiment/R/library 1.0-21 4.2.0
Seurat /home/biocbuild/bbs-3.15-data-experiment/R/library 4.1.0 4.2.0
SeuratObject /home/biocbuild/bbs-3.15-data-experiment/R/library 4.0.4 4.2.0
seventyGeneData /home/biocbuild/bbs-3.15-data-experiment/R/library 1.31.0 4.2.0
sfsmisc /home/biocbuild/bbs-3.15-data-experiment/R/library 1.1-12 4.2.0
shadowtext /home/biocbuild/bbs-3.15-data-experiment/R/library 0.1.1 4.2.0
shape /home/biocbuild/bbs-3.15-data-experiment/R/library 1.4.6 4.2.0
shiny /home/biocbuild/bbs-3.15-data-experiment/R/library 1.7.1 4.2.0
shinyAce /home/biocbuild/bbs-3.15-data-experiment/R/library 0.4.1 4.2.0
shinyBS /home/biocbuild/bbs-3.15-data-experiment/R/library 0.61 4.2.0
shinydashboard /home/biocbuild/bbs-3.15-data-experiment/R/library 0.7.2 4.2.0
shinyjs /home/biocbuild/bbs-3.15-data-experiment/R/library 2.1.0 4.2.0
shinyMethylData /home/biocbuild/bbs-3.15-data-experiment/R/library 1.15.0 4.2.0
shinyWidgets /home/biocbuild/bbs-3.15-data-experiment/R/library 0.6.4 4.2.0
ShortRead /home/biocbuild/bbs-3.15-data-experiment/R/library 1.53.1 4.2.0
siggenes /home/biocbuild/bbs-3.15-data-experiment/R/library 1.69.0 4.2.0
signal /home/biocbuild/bbs-3.15-data-experiment/R/library 0.7-7 4.2.0
signatureSearchData /home/biocbuild/bbs-3.15-data-experiment/R/library 1.9.5 4.2.0
SimBenchData /home/biocbuild/bbs-3.15-data-experiment/R/library 1.3.0 4.2.0
simpIntLists /home/biocbuild/bbs-3.15-data-experiment/R/library 1.31.0 4.2.0
Single.mTEC.Transcriptomes /home/biocbuild/bbs-3.15-data-experiment/R/library 1.23.1 4.2.0
SingleCellExperiment /home/biocbuild/bbs-3.15-data-experiment/R/library 1.17.2 4.2.0
SingleCellMultiModal /home/biocbuild/bbs-3.15-data-experiment/R/library 1.7.0 4.2.0
SingleMoleculeFootprintingData /home/biocbuild/bbs-3.15-data-experiment/R/library 1.3.0 4.2.0
singscore /home/biocbuild/bbs-3.15-data-experiment/R/library 1.15.1 4.2.0
sitmo /home/biocbuild/bbs-3.15-data-experiment/R/library 2.0.2 4.2.0
slam /home/biocbuild/bbs-3.15-data-experiment/R/library 0.1-50 4.2.0
sm /home/biocbuild/bbs-3.15-data-experiment/R/library 2.2-5.7 4.2.0
sn /home/biocbuild/bbs-3.15-data-experiment/R/library 2.0.1 4.2.0
SNAData /home/biocbuild/bbs-3.15-data-experiment/R/library 1.41.0 4.2.0
SNAGEE /home/biocbuild/bbs-3.15-data-experiment/R/library 1.35.0 4.2.0
SNAGEEdata /home/biocbuild/bbs-3.15-data-experiment/R/library 1.31.0 4.2.0
snow /home/biocbuild/bbs-3.15-data-experiment/R/library 0.4-4 4.2.0
SnowballC /home/biocbuild/bbs-3.15-data-experiment/R/library 0.7.0 4.2.0
snowfall /home/biocbuild/bbs-3.15-data-experiment/R/library 1.84-6.1 4.2.0
SNPhoodData /home/biocbuild/bbs-3.15-data-experiment/R/library 1.25.0 4.2.0
SomatiCAData /home/biocbuild/bbs-3.15-data-experiment/R/library 1.33.0 4.2.0
SomaticCancerAlterations /home/biocbuild/bbs-3.15-data-experiment/R/library 1.31.1 4.2.0
sourcetools /home/biocbuild/bbs-3.15-data-experiment/R/library 0.1.7 4.2.0
sp /home/biocbuild/bbs-3.15-data-experiment/R/library 1.4-6 4.2.0
spam /home/biocbuild/bbs-3.15-data-experiment/R/library 2.8-0 4.2.0
sparseLDA /home/biocbuild/bbs-3.15-data-experiment/R/library 0.1-9 4.2.0
SparseM /home/biocbuild/bbs-3.15-data-experiment/R/library 1.81 4.2.0
sparseMatrixStats /home/biocbuild/bbs-3.15-data-experiment/R/library 1.7.0 4.2.0
spatial /home/biocbuild/bbs-3.15-data-experiment/R/library 7.3-15 4.2.0
spatialDmelxsim /home/biocbuild/bbs-3.15-data-experiment/R/library 1.1.0 4.2.0
SpatialExperiment /home/biocbuild/bbs-3.15-data-experiment/R/library 1.5.2 4.2.0
spatialLIBD /home/biocbuild/bbs-3.15-data-experiment/R/library 1.7.9 4.2.0
spatstat.core /home/biocbuild/bbs-3.15-data-experiment/R/library 2.4-0 4.2.0
spatstat.data /home/biocbuild/bbs-3.15-data-experiment/R/library 2.1-2 4.2.0
spatstat.geom /home/biocbuild/bbs-3.15-data-experiment/R/library 2.3-2 4.2.0
spatstat.random /home/biocbuild/bbs-3.15-data-experiment/R/library 2.1-0 4.2.0
spatstat.sparse /home/biocbuild/bbs-3.15-data-experiment/R/library 2.1-0 4.2.0
spatstat.utils /home/biocbuild/bbs-3.15-data-experiment/R/library 2.3-0 4.2.0
specL /home/biocbuild/bbs-3.15-data-experiment/R/library 1.29.0 4.2.0
SpikeIn /home/biocbuild/bbs-3.15-data-experiment/R/library 1.37.0 4.2.0
SpikeInSubset /home/biocbuild/bbs-3.15-data-experiment/R/library 1.35.0 4.2.0
splines /home/biocbuild/bbs-3.15-data-experiment/R/library 4.2.0 4.2.0
splitstackshape /home/biocbuild/bbs-3.15-data-experiment/R/library 1.4.8 4.2.0
splots /home/biocbuild/bbs-3.15-data-experiment/R/library 1.61.0 4.2.0
spqnData /home/biocbuild/bbs-3.15-data-experiment/R/library 1.7.1 4.2.0
SQUAREM /home/biocbuild/bbs-3.15-data-experiment/R/library 2021.1 4.2.0
SRAdb /home/biocbuild/bbs-3.15-data-experiment/R/library 1.57.0 4.2.0
startupmsg /home/biocbuild/bbs-3.15-data-experiment/R/library 0.9.6 4.2.0
statmod /home/biocbuild/bbs-3.15-data-experiment/R/library 1.4.36 4.2.0
stats /home/biocbuild/bbs-3.15-data-experiment/R/library 4.2.0 4.2.0
stats4 /home/biocbuild/bbs-3.15-data-experiment/R/library 4.2.0 4.2.0
stemHypoxia /home/biocbuild/bbs-3.15-data-experiment/R/library 1.31.0 4.2.0
STexampleData /home/biocbuild/bbs-3.15-data-experiment/R/library 1.3.3 4.2.0
stjudem /home/biocbuild/bbs-3.15-data-experiment/R/library 1.35.0 4.2.0
stopwords /home/biocbuild/bbs-3.15-data-experiment/R/library 2.3 4.2.0
strex /home/biocbuild/bbs-3.15-data-experiment/R/library 1.4.2 4.2.0
stringdist /home/biocbuild/bbs-3.15-data-experiment/R/library 0.9.8 4.2.0
stringi /home/biocbuild/bbs-3.15-data-experiment/R/library 1.7.6 4.2.0
stringr /home/biocbuild/bbs-3.15-data-experiment/R/library 1.4.0 4.2.0
strucchange /home/biocbuild/bbs-3.15-data-experiment/R/library 1.5-2 4.2.0
SummarizedBenchmark /home/biocbuild/bbs-3.15-data-experiment/R/library 2.13.1 4.2.0
SummarizedExperiment /home/biocbuild/bbs-3.15-data-experiment/R/library 1.25.3 4.2.0
SuppDists /home/biocbuild/bbs-3.15-data-experiment/R/library 1.1-9.7 4.2.0
survcomp /home/biocbuild/bbs-3.15-data-experiment/R/library 1.45.1 4.2.0
survey /home/biocbuild/bbs-3.15-data-experiment/R/library 4.1-1 4.2.0
survival /home/biocbuild/bbs-3.15-data-experiment/R/library 3.2-13 4.2.0
survivalROC /home/biocbuild/bbs-3.15-data-experiment/R/library 1.0.3 4.2.0
survminer /home/biocbuild/bbs-3.15-data-experiment/R/library 0.4.9 4.2.0
survMisc /home/biocbuild/bbs-3.15-data-experiment/R/library 0.5.5 4.2.0
sva /home/biocbuild/bbs-3.15-data-experiment/R/library 3.43.0 4.2.0
svglite /home/biocbuild/bbs-3.15-data-experiment/R/library 2.1.0 4.2.0
svgPanZoom /home/biocbuild/bbs-3.15-data-experiment/R/library 0.3.4 4.2.0
SVM2CRMdata /home/biocbuild/bbs-3.15-data-experiment/R/library 1.27.0 4.2.0
sylly /home/biocbuild/bbs-3.15-data-experiment/R/library 0.1-6 4.2.0
sylly.en /home/biocbuild/bbs-3.15-data-experiment/R/library 0.1-3 4.2.0
synapter /home/biocbuild/bbs-3.15-data-experiment/R/library 2.19.0 4.2.0
synapterdata /home/biocbuild/bbs-3.15-data-experiment/R/library 1.33.0 4.2.0
sys /home/biocbuild/bbs-3.15-data-experiment/R/library 3.4 4.2.0
systemfonts /home/biocbuild/bbs-3.15-data-experiment/R/library 1.0.4 4.2.0
systemPipeR /home/biocbuild/bbs-3.15-data-experiment/R/library 2.1.11 4.2.0
systemPipeRdata /home/biocbuild/bbs-3.15-data-experiment/R/library 1.23.0 4.2.0
syuzhet /home/biocbuild/bbs-3.15-data-experiment/R/library 1.0.6 4.2.0
TabulaMurisData /home/biocbuild/bbs-3.15-data-experiment/R/library 1.13.0 4.2.0
TabulaMurisSenisData /home/biocbuild/bbs-3.15-data-experiment/R/library 1.1.0 4.2.0
TargetScore /home/biocbuild/bbs-3.15-data-experiment/R/library 1.33.0 4.2.0
TargetScoreData /home/biocbuild/bbs-3.15-data-experiment/R/library 1.31.0 4.2.0
TargetSearchData /home/biocbuild/bbs-3.15-data-experiment/R/library 1.33.0 4.2.0
tartare /home/biocbuild/bbs-3.15-data-experiment/R/library 1.9.0 4.2.0
TBX20BamSubset /home/biocbuild/bbs-3.15-data-experiment/R/library 1.31.0 4.2.0
TCGAbiolinksGUI.data /home/biocbuild/bbs-3.15-data-experiment/R/library 1.15.0 4.2.0
TCGAcrcmiRNA /home/biocbuild/bbs-3.15-data-experiment/R/library 1.15.0 4.2.0
TCGAcrcmRNA /home/biocbuild/bbs-3.15-data-experiment/R/library 1.15.0 4.2.0
TCGAMethylation450k /home/biocbuild/bbs-3.15-data-experiment/R/library 1.31.0 4.2.0
TCGAutils /home/biocbuild/bbs-3.15-data-experiment/R/library 1.15.1 4.2.0
TCGAWorkflowData /home/biocbuild/bbs-3.15-data-experiment/R/library 1.19.1 4.2.0
tcltk /home/biocbuild/bbs-3.15-data-experiment/R/library 4.2.0 4.2.0
tensor /home/biocbuild/bbs-3.15-data-experiment/R/library 1.5 4.2.0
tensorA /home/biocbuild/bbs-3.15-data-experiment/R/library 0.36.2 4.2.0
TENxBrainData /home/biocbuild/bbs-3.15-data-experiment/R/library 1.15.0 4.2.0
TENxBUSData /home/biocbuild/bbs-3.15-data-experiment/R/library 1.9.0 4.2.0
TENxPBMCData /home/biocbuild/bbs-3.15-data-experiment/R/library 1.13.0 4.2.0
TENxVisiumData /home/biocbuild/bbs-3.15-data-experiment/R/library 1.3.0 4.2.0
terra /home/biocbuild/bbs-3.15-data-experiment/R/library 1.5-21 4.2.0
testthat /home/biocbuild/bbs-3.15-data-experiment/R/library 3.1.2 4.2.0
textclean /home/biocbuild/bbs-3.15-data-experiment/R/library 0.9.3 4.2.0
textshape /home/biocbuild/bbs-3.15-data-experiment/R/library 1.7.3 4.2.0
textshaping /home/biocbuild/bbs-3.15-data-experiment/R/library 0.3.6 4.2.0
textstem /home/biocbuild/bbs-3.15-data-experiment/R/library 0.1.4 4.2.0
TFisher /home/biocbuild/bbs-3.15-data-experiment/R/library 0.2.0 4.2.0
TH.data /home/biocbuild/bbs-3.15-data-experiment/R/library 1.1-0 4.2.0
threejs /home/biocbuild/bbs-3.15-data-experiment/R/library 0.3.3 4.2.0
tibble /home/biocbuild/bbs-3.15-data-experiment/R/library 3.1.6 4.2.0
tidygraph /home/biocbuild/bbs-3.15-data-experiment/R/library 1.2.0 4.2.0
tidyr /home/biocbuild/bbs-3.15-data-experiment/R/library 1.2.0 4.2.0
tidyselect /home/biocbuild/bbs-3.15-data-experiment/R/library 1.1.1 4.2.0
tidytree /home/biocbuild/bbs-3.15-data-experiment/R/library 0.3.7 4.2.0
tidyverse /home/biocbuild/bbs-3.15-data-experiment/R/library 1.3.1 4.2.0
tiff /home/biocbuild/bbs-3.15-data-experiment/R/library 0.1-11 4.2.0
tilingArray /home/biocbuild/bbs-3.15-data-experiment/R/library 1.73.0 4.2.0
timecoursedata /home/biocbuild/bbs-3.15-data-experiment/R/library 1.5.0 4.2.0
timeDate /home/biocbuild/bbs-3.15-data-experiment/R/library 3043.102 4.2.0
TimerQuant /home/biocbuild/bbs-3.15-data-experiment/R/library 1.25.0 4.2.0
tinesath1cdf /home/biocbuild/bbs-3.15-data-experiment/R/library 1.33.0 4.2.0
tinesath1probe /home/biocbuild/bbs-3.15-data-experiment/R/library 1.33.0 4.2.0
tinytex /home/biocbuild/bbs-3.15-data-experiment/R/library 0.37 4.2.0
tissueTreg /home/biocbuild/bbs-3.15-data-experiment/R/library 1.15.0 4.2.0
tkWidgets /home/biocbuild/bbs-3.15-data-experiment/R/library 1.73.0 4.2.0
tm /home/biocbuild/bbs-3.15-data-experiment/R/library 0.7-8 4.2.0
TMB /home/biocbuild/bbs-3.15-data-experiment/R/library 1.7.22 4.2.0
TMExplorer /home/biocbuild/bbs-3.15-data-experiment/R/library 1.5.0 4.2.0
tmvnsim /home/biocbuild/bbs-3.15-data-experiment/R/library 1.0-2 4.2.0
tmvtnorm /home/biocbuild/bbs-3.15-data-experiment/R/library 1.4-10 4.2.0
tofsimsData /home/biocbuild/bbs-3.15-data-experiment/R/library 1.23.0 4.2.0
tools /home/biocbuild/bbs-3.15-data-experiment/R/library 4.2.0 4.2.0
topdownr /home/biocbuild/bbs-3.15-data-experiment/R/library 1.17.1 4.2.0
topdownrdata /home/biocbuild/bbs-3.15-data-experiment/R/library 1.17.0 4.2.0
topGO /home/biocbuild/bbs-3.15-data-experiment/R/library 2.47.0 4.2.0
treeio /home/biocbuild/bbs-3.15-data-experiment/R/library 1.19.1 4.2.0
TreeSummarizedExperiment /home/biocbuild/bbs-3.15-data-experiment/R/library 2.3.0 4.2.0
truncnorm /home/biocbuild/bbs-3.15-data-experiment/R/library 1.0-8 4.2.0
TSP /home/biocbuild/bbs-3.15-data-experiment/R/library 1.1-11 4.2.0
TTR /home/biocbuild/bbs-3.15-data-experiment/R/library 0.24.3 4.2.0
tuberculosis /home/biocbuild/bbs-3.15-data-experiment/R/library 1.1.0 4.2.0
tweeDEseqCountData /home/biocbuild/bbs-3.15-data-experiment/R/library 1.33.0 4.2.0
tweenr /home/biocbuild/bbs-3.15-data-experiment/R/library 1.0.2 4.2.0
TxDb.Dmelanogaster.UCSC.dm3.ensGene /home/biocbuild/bbs-3.15-data-experiment/R/library 3.2.2 4.2.0
TxDb.Dmelanogaster.UCSC.dm6.ensGene /home/biocbuild/bbs-3.15-data-experiment/R/library 3.12.0 4.2.0
TxDb.Drerio.UCSC.danRer10.refGene /home/biocbuild/bbs-3.15-data-experiment/R/library 3.4.6 4.2.0
TxDb.Hsapiens.UCSC.hg18.knownGene /home/biocbuild/bbs-3.15-data-experiment/R/library 3.2.2 4.2.0
TxDb.Hsapiens.UCSC.hg19.knownGene /home/biocbuild/bbs-3.15-data-experiment/R/library 3.2.2 4.2.0
TxDb.Hsapiens.UCSC.hg38.knownGene /home/biocbuild/bbs-3.15-data-experiment/R/library 3.14.0 4.2.0
TxDb.Mmusculus.UCSC.mm10.knownGene /home/biocbuild/bbs-3.15-data-experiment/R/library 3.10.0 4.2.0
TxDb.Mmusculus.UCSC.mm9.knownGene /home/biocbuild/bbs-3.15-data-experiment/R/library 3.2.2 4.2.0
TxDb.Rnorvegicus.UCSC.rn4.ensGene /home/biocbuild/bbs-3.15-data-experiment/R/library 3.2.2 4.2.0
TxDb.Rnorvegicus.UCSC.rn5.refGene /home/biocbuild/bbs-3.15-data-experiment/R/library 3.12.0 4.2.0
TxDb.Rnorvegicus.UCSC.rn6.refGene /home/biocbuild/bbs-3.15-data-experiment/R/library 3.4.6 4.2.0
tximportData /home/biocbuild/bbs-3.15-data-experiment/R/library 1.23.0 4.2.0
tzdb /home/biocbuild/bbs-3.15-data-experiment/R/library 0.2.0 4.2.0
umap /home/biocbuild/bbs-3.15-data-experiment/R/library 0.2.7.0 4.2.0
UpSetR /home/biocbuild/bbs-3.15-data-experiment/R/library 1.4.0 4.2.0
usethis /home/biocbuild/bbs-3.15-data-experiment/R/library 2.1.5 4.2.0
utf8 /home/biocbuild/bbs-3.15-data-experiment/R/library 1.2.2 4.2.0
utils /home/biocbuild/bbs-3.15-data-experiment/R/library 4.2.0 4.2.0
uuid /home/biocbuild/bbs-3.15-data-experiment/R/library 1.0-3 4.2.0
uwot /home/biocbuild/bbs-3.15-data-experiment/R/library 0.1.11 4.2.0
variancePartition /home/biocbuild/bbs-3.15-data-experiment/R/library 1.25.5 4.2.0
VariantAnnotation /home/biocbuild/bbs-3.15-data-experiment/R/library 1.41.3 4.2.0
VariantTools /home/biocbuild/bbs-3.15-data-experiment/R/library 1.37.1 4.2.0
VariantToolsData /home/biocbuild/bbs-3.15-data-experiment/R/library 1.19.1 4.2.0
vcd /home/biocbuild/bbs-3.15-data-experiment/R/library 1.4-9 4.2.0
vctrs /home/biocbuild/bbs-3.15-data-experiment/R/library 0.3.8 4.2.0
vegan /home/biocbuild/bbs-3.15-data-experiment/R/library 2.5-7 4.2.0
VennDiagram /home/biocbuild/bbs-3.15-data-experiment/R/library 1.7.1 4.2.0
vioplot /home/biocbuild/bbs-3.15-data-experiment/R/library 0.3.7 4.2.0
viper /home/biocbuild/bbs-3.15-data-experiment/R/library 1.29.0 4.2.0
vipor /home/biocbuild/bbs-3.15-data-experiment/R/library 0.4.5 4.2.0
viridis /home/biocbuild/bbs-3.15-data-experiment/R/library 0.6.2 4.2.0
viridisLite /home/biocbuild/bbs-3.15-data-experiment/R/library 0.4.0 4.2.0
visNetwork /home/biocbuild/bbs-3.15-data-experiment/R/library 2.1.0 4.2.0
vissE /home/biocbuild/bbs-3.15-data-experiment/R/library 1.3.11 4.2.0
vroom /home/biocbuild/bbs-3.15-data-experiment/R/library 1.5.7 4.2.0
vsn /home/biocbuild/bbs-3.15-data-experiment/R/library 3.63.0 4.2.0
vulcandata /home/biocbuild/bbs-3.15-data-experiment/R/library 1.17.0 4.2.0
waldo /home/biocbuild/bbs-3.15-data-experiment/R/library 0.3.1 4.2.0
waveslim /home/biocbuild/bbs-3.15-data-experiment/R/library 1.8.2 4.2.0
webshot /home/biocbuild/bbs-3.15-data-experiment/R/library 0.5.2 4.2.0
WES.1KG.WUGSC /home/biocbuild/bbs-3.15-data-experiment/R/library 1.27.0 4.2.0
wesanderson /home/biocbuild/bbs-3.15-data-experiment/R/library 0.3.6 4.2.0
WGSmapp /home/biocbuild/bbs-3.15-data-experiment/R/library 1.7.1 4.2.0
wheatmap /home/biocbuild/bbs-3.15-data-experiment/R/library 0.1.0 4.2.0
whisker /home/biocbuild/bbs-3.15-data-experiment/R/library 0.4 4.2.0
widgetTools /home/biocbuild/bbs-3.15-data-experiment/R/library 1.73.0 4.2.0
withr /home/biocbuild/bbs-3.15-data-experiment/R/library 2.4.3 4.2.0
Wrench /home/biocbuild/bbs-3.15-data-experiment/R/library 1.13.0 4.2.0
xcms /home/biocbuild/bbs-3.15-data-experiment/R/library 3.17.3 4.2.0
xfun /home/biocbuild/bbs-3.15-data-experiment/R/library 0.29 4.2.0
xgboost /home/biocbuild/bbs-3.15-data-experiment/R/library 1.5.0.2 4.2.0
XhybCasneuf /home/biocbuild/bbs-3.15-data-experiment/R/library 1.33.0 4.2.0
XML /home/biocbuild/bbs-3.15-data-experiment/R/library 3.99-0.8 4.2.0
xml2 /home/biocbuild/bbs-3.15-data-experiment/R/library 1.3.3 4.2.0
xopen /home/biocbuild/bbs-3.15-data-experiment/R/library 1.0.0 4.2.0
xtable /home/biocbuild/bbs-3.15-data-experiment/R/library 1.8-4 4.2.0
xts /home/biocbuild/bbs-3.15-data-experiment/R/library 0.12.1 4.2.0
XVector /home/biocbuild/bbs-3.15-data-experiment/R/library 0.35.0 4.2.0
yaml /home/biocbuild/bbs-3.15-data-experiment/R/library 2.2.2 4.2.0
yeastCC /home/biocbuild/bbs-3.15-data-experiment/R/library 1.35.0 4.2.0
yeastExpData /home/biocbuild/bbs-3.15-data-experiment/R/library 0.41.0 4.2.0
yeastGSData /home/biocbuild/bbs-3.15-data-experiment/R/library 0.33.0 4.2.0
yeastNagalakshmi /home/biocbuild/bbs-3.15-data-experiment/R/library 1.31.0 4.2.0
yeastRNASeq /home/biocbuild/bbs-3.15-data-experiment/R/library 0.33.0 4.2.0
yulab.utils /home/biocbuild/bbs-3.15-data-experiment/R/library 0.0.4 4.2.0
zebrafishRNASeq /home/biocbuild/bbs-3.15-data-experiment/R/library 1.15.0 4.2.0
zip /home/biocbuild/bbs-3.15-data-experiment/R/library 2.2.0 4.2.0
zlibbioc /home/biocbuild/bbs-3.15-data-experiment/R/library 1.41.0 4.2.0
zoo /home/biocbuild/bbs-3.15-data-experiment/R/library 1.8-9 4.2.0