| Back to Multiple platform build/check report for BioC 3.15 |
|
This page was generated on 2022-03-18 11:07:31 -0400 (Fri, 18 Mar 2022).
| Hostname | OS | Arch (*) | R version | Installed pkgs |
|---|---|---|---|---|
| nebbiolo1 | Linux (Ubuntu 20.04.4 LTS) | x86_64 | R Under development (unstable) (2022-02-17 r81757) -- "Unsuffered Consequences" | 4334 |
| riesling1 | Windows Server 2019 Standard | x64 | R Under development (unstable) (2021-11-21 r81221) -- "Unsuffered Consequences" | 4097 |
| palomino3 | Windows Server 2022 Datacenter | x64 | R Under development (unstable) (2022-02-17 r81757 ucrt) -- "Unsuffered Consequences" | 4083 |
| merida1 | macOS 10.14.6 Mojave | x86_64 | R Under development (unstable) (2022-03-02 r81842) -- "Unsuffered Consequences" | 4134 |
| Click on any hostname to see more info about the system (e.g. compilers) (*) as reported by 'uname -p', except on Windows and Mac OS X | ||||
|
To the developers/maintainers of the flowGraph package: - Please allow up to 24 hours (and sometimes 48 hours) for your latest push to git@git.bioconductor.org:packages/flowGraph.git to reflect on this report. See How and When does the builder pull? When will my changes propagate? here for more information. - Make sure to use the following settings in order to reproduce any error or warning you see on this page. |
| Package 664/2090 | Hostname | OS / Arch | INSTALL | BUILD | CHECK | BUILD BIN | ||||||||
| flowGraph 1.3.0 (landing page) Alice Yue
| nebbiolo1 | Linux (Ubuntu 20.04.4 LTS) / x86_64 | OK | OK | OK | |||||||||
| riesling1 | Windows Server 2019 Standard / x64 | OK | OK | OK | OK | |||||||||
| palomino3 | Windows Server 2022 Datacenter / x64 | OK | OK | OK | OK | |||||||||
| merida1 | macOS 10.14.6 Mojave / x86_64 | OK | OK | OK | OK | |||||||||
| Package: flowGraph |
| Version: 1.3.0 |
| Command: D:\biocbuild\bbs-3.15-bioc\R\bin\R.exe CMD INSTALL flowGraph |
| StartedAt: 2022-03-17 15:54:01 -0400 (Thu, 17 Mar 2022) |
| EndedAt: 2022-03-17 15:55:00 -0400 (Thu, 17 Mar 2022) |
| EllapsedTime: 59.2 seconds |
| RetCode: 0 |
| Status: OK |
##############################################################################
##############################################################################
###
### Running command:
###
### D:\biocbuild\bbs-3.15-bioc\R\bin\R.exe CMD INSTALL flowGraph
###
##############################################################################
##############################################################################
* installing to library 'D:/biocbuild/bbs-3.15-bioc/R/library'
* installing *source* package 'flowGraph' ...
** using staged installation
** R
** data
** inst
** byte-compile and prepare package for lazy loading
** help
Loading required namespace: flowGraph
*** installing help indices
converting help for package 'flowGraph'
finding HTML links ... done
cell_type_layers html
extract_markers html
fg_add_feature html
fg_add_summary html
fg_clean_phen html
fg_clear_features html
fg_clear_summary html
fg_data_fca html
fg_data_pos2 html
fg_data_pos30 html
fg_extract_phenotypes html
fg_extract_raw html
fg_extract_samples html
fg_feat_cumsum html
fg_feat_edge_specenr html
fg_feat_mean_class html
fg_feat_node_prop html
fg_feat_node_specenr html
fg_feat_prop_edge html
fg_get_feature html
fg_get_feature_desc html
fg_get_feature_means html
fg_get_graph html
fg_get_markers html
fg_get_meta html
fg_get_summary html
fg_get_summary_desc html
fg_get_summary_index html
fg_get_summary_tables html
fg_gsub_ids html
fg_gsub_markers html
fg_load html
fg_merge html
fg_merge_samples html
fg_plot html
fg_plot_box html
fg_plot_pVSdiff html
fg_plot_qq html
fg_replace_meta html
fg_rm_feature html
fg_rm_summary html
fg_save html
fg_save_plots html
fg_set_layout html
fg_summary html
flowGraph-class html
flowGraph html
flowGraphSubset html
flowGraphSubset_summary_adjust html
flowGraphSubset_summary_pars html
fpurrr_map html
get_child html
get_eprop html
get_paren html
get_phen_list html
get_phen_meta html
ggdf html
loop_ind_f html
meandiff html
ms_create html
ms_psig html
plot_gr html
set_layout_graph html
summary_table html
test_c html
time_output html
tstr html
** building package indices
** installing vignettes
** testing if installed package can be loaded from temporary location
** testing if installed package can be loaded from final location
** testing if installed package keeps a record of temporary installation path
* DONE (flowGraph)
Making 'packages.html' ... done