| Back to Multiple platform build/check report for BioC 3.15 |
|
This page was generated on 2022-10-19 13:22:57 -0400 (Wed, 19 Oct 2022).
| Hostname | OS | Arch (*) | R version | Installed pkgs |
|---|---|---|---|---|
| nebbiolo1 | Linux (Ubuntu 20.04.5 LTS) | x86_64 | 4.2.1 (2022-06-23) -- "Funny-Looking Kid" | 4386 |
| palomino3 | Windows Server 2022 Datacenter | x64 | 4.2.1 (2022-06-23 ucrt) -- "Funny-Looking Kid" | 4138 |
| merida1 | macOS 10.14.6 Mojave | x86_64 | 4.2.1 (2022-06-23) -- "Funny-Looking Kid" | 4205 |
| Click on any hostname to see more info about the system (e.g. compilers) (*) as reported by 'uname -p', except on Windows and Mac OS X | ||||
|
To the developers/maintainers of the flowGraph package: - Please allow up to 24 hours (and sometimes 48 hours) for your latest push to git@git.bioconductor.org:packages/flowGraph.git to reflect on this report. See How and When does the builder pull? When will my changes propagate? for more information. - Make sure to use the following settings in order to reproduce any error or warning you see on this page. |
| Package 683/2140 | Hostname | OS / Arch | INSTALL | BUILD | CHECK | BUILD BIN | ||||||||
| flowGraph 1.4.0 (landing page) Alice Yue
| nebbiolo1 | Linux (Ubuntu 20.04.5 LTS) / x86_64 | OK | OK | OK | |||||||||
| palomino3 | Windows Server 2022 Datacenter / x64 | OK | OK | OK | OK | |||||||||
| merida1 | macOS 10.14.6 Mojave / x86_64 | OK | OK | OK | OK | |||||||||
| Package: flowGraph |
| Version: 1.4.0 |
| Command: /Library/Frameworks/R.framework/Resources/bin/R CMD check --install=check:flowGraph.install-out.txt --library=/Library/Frameworks/R.framework/Resources/library --no-vignettes --timings flowGraph_1.4.0.tar.gz |
| StartedAt: 2022-10-19 02:31:29 -0400 (Wed, 19 Oct 2022) |
| EndedAt: 2022-10-19 02:38:45 -0400 (Wed, 19 Oct 2022) |
| EllapsedTime: 436.0 seconds |
| RetCode: 0 |
| Status: OK |
| CheckDir: flowGraph.Rcheck |
| Warnings: 0 |
##############################################################################
##############################################################################
###
### Running command:
###
### /Library/Frameworks/R.framework/Resources/bin/R CMD check --install=check:flowGraph.install-out.txt --library=/Library/Frameworks/R.framework/Resources/library --no-vignettes --timings flowGraph_1.4.0.tar.gz
###
##############################################################################
##############################################################################
* using log directory ‘/Users/biocbuild/bbs-3.15-bioc/meat/flowGraph.Rcheck’
* using R version 4.2.1 (2022-06-23)
* using platform: x86_64-apple-darwin17.0 (64-bit)
* using session charset: UTF-8
* using option ‘--no-vignettes’
* checking for file ‘flowGraph/DESCRIPTION’ ... OK
* checking extension type ... Package
* this is package ‘flowGraph’ version ‘1.4.0’
* checking package namespace information ... OK
* checking package dependencies ... OK
* checking if this is a source package ... OK
* checking if there is a namespace ... OK
* checking for hidden files and directories ... OK
* checking for portable file names ... OK
* checking for sufficient/correct file permissions ... OK
* checking whether package ‘flowGraph’ can be installed ... OK
* checking installed package size ... OK
* checking package directory ... OK
* checking ‘build’ directory ... OK
* checking DESCRIPTION meta-information ... OK
* checking top-level files ... OK
* checking for left-over files ... OK
* checking index information ... OK
* checking package subdirectories ... OK
* checking R files for non-ASCII characters ... OK
* checking R files for syntax errors ... OK
* checking whether the package can be loaded ... OK
* checking whether the package can be loaded with stated dependencies ... OK
* checking whether the package can be unloaded cleanly ... OK
* checking whether the namespace can be loaded with stated dependencies ... OK
* checking whether the namespace can be unloaded cleanly ... OK
* checking dependencies in R code ... OK
* checking S3 generic/method consistency ... OK
* checking replacement functions ... OK
* checking foreign function calls ... OK
* checking R code for possible problems ... NOTE
get_child: no visible binding for global variable ‘no_cores’
get_paren: no visible binding for global variable ‘no_cores’
ms_psig: no visible binding for global variable ‘meta’
Undefined global functions or variables:
meta no_cores
* checking Rd files ... OK
* checking Rd metadata ... OK
* checking Rd cross-references ... OK
* checking for missing documentation entries ... OK
* checking for code/documentation mismatches ... OK
* checking Rd \usage sections ... OK
* checking Rd contents ... OK
* checking for unstated dependencies in examples ... OK
* checking contents of ‘data’ directory ... OK
* checking data for non-ASCII characters ... OK
* checking data for ASCII and uncompressed saves ... OK
* checking files in ‘vignettes’ ... OK
* checking examples ... OK
Examples with CPU (user + system) or elapsed time > 5s
user system elapsed
fg_save 75.970 0.307 77.232
fg_load 74.412 0.451 75.587
fg_save_plots 73.888 0.288 74.383
* checking for unstated dependencies in ‘tests’ ... OK
* checking tests ...
Running ‘testthat.R’
OK
* checking for unstated dependencies in vignettes ... OK
* checking package vignettes in ‘inst/doc’ ... OK
* checking running R code from vignettes ... SKIPPED
* checking re-building of vignette outputs ... SKIPPED
* checking PDF version of manual ... OK
* DONE
Status: 1 NOTE
See
‘/Users/biocbuild/bbs-3.15-bioc/meat/flowGraph.Rcheck/00check.log’
for details.
flowGraph.Rcheck/00install.out
############################################################################## ############################################################################## ### ### Running command: ### ### /Library/Frameworks/R.framework/Resources/bin/R CMD INSTALL flowGraph ### ############################################################################## ############################################################################## * installing to library ‘/Library/Frameworks/R.framework/Versions/4.2/Resources/library’ * installing *source* package ‘flowGraph’ ... ** using staged installation ** R ** data ** inst ** byte-compile and prepare package for lazy loading ** help Loading required namespace: flowGraph *** installing help indices ** building package indices ** installing vignettes ** testing if installed package can be loaded from temporary location ** testing if installed package can be loaded from final location ** testing if installed package keeps a record of temporary installation path * DONE (flowGraph)
flowGraph.Rcheck/tests/testthat.Rout
R version 4.2.1 (2022-06-23) -- "Funny-Looking Kid"
Copyright (C) 2022 The R Foundation for Statistical Computing
Platform: x86_64-apple-darwin17.0 (64-bit)
R is free software and comes with ABSOLUTELY NO WARRANTY.
You are welcome to redistribute it under certain conditions.
Type 'license()' or 'licence()' for distribution details.
R is a collaborative project with many contributors.
Type 'contributors()' for more information and
'citation()' on how to cite R or R packages in publications.
Type 'demo()' for some demos, 'help()' for on-line help, or
'help.start()' for an HTML browser interface to help.
Type 'q()' to quit R.
> library(testthat)
> library(flowGraph)
>
> test_check("flowGraph")
[ FAIL 0 | WARN 0 | SKIP 0 | PASS 34 ]
>
> proc.time()
user system elapsed
10.788 0.355 11.138
flowGraph.Rcheck/flowGraph-Ex.timings
| name | user | system | elapsed | |
| cell_type_layers | 0.004 | 0.001 | 0.005 | |
| fg_add_feature | 0.667 | 0.010 | 0.677 | |
| fg_add_summary | 1.952 | 0.014 | 1.971 | |
| fg_clean_phen | 0 | 0 | 0 | |
| fg_clear_features | 1.846 | 0.009 | 1.857 | |
| fg_clear_summary | 0.726 | 0.005 | 0.733 | |
| fg_extract_phenotypes | 0.520 | 0.005 | 0.525 | |
| fg_extract_raw | 1.711 | 0.008 | 1.720 | |
| fg_extract_samples | 0.519 | 0.003 | 0.523 | |
| fg_feat_cumsum | 0.509 | 0.004 | 0.515 | |
| fg_feat_edge_specenr | 0.853 | 0.005 | 0.860 | |
| fg_feat_mean_class | 0.519 | 0.006 | 0.526 | |
| fg_feat_node_prop | 0.542 | 0.003 | 0.547 | |
| fg_feat_node_specenr | 0.892 | 0.009 | 0.906 | |
| fg_feat_prop_edge | 0.526 | 0.003 | 0.530 | |
| fg_get_feature | 0.495 | 0.005 | 0.499 | |
| fg_get_feature_desc | 1.844 | 0.012 | 1.866 | |
| fg_get_feature_means | 2.875 | 0.013 | 2.965 | |
| fg_get_graph | 0.550 | 0.005 | 0.565 | |
| fg_get_markers | 0.536 | 0.004 | 0.544 | |
| fg_get_meta | 0.550 | 0.004 | 0.563 | |
| fg_get_summary | 4.017 | 0.014 | 4.059 | |
| fg_get_summary_desc | 1.845 | 0.008 | 1.858 | |
| fg_get_summary_index | 4.217 | 0.015 | 4.243 | |
| fg_get_summary_tables | 2.719 | 0.013 | 2.745 | |
| fg_gsub_ids | 0.525 | 0.004 | 0.530 | |
| fg_gsub_markers | 0.637 | 0.004 | 0.642 | |
| fg_load | 74.412 | 0.451 | 75.587 | |
| fg_merge | 0.532 | 0.005 | 0.539 | |
| fg_merge_samples | 0.570 | 0.007 | 0.580 | |
| fg_plot | 0.804 | 0.005 | 0.813 | |
| fg_plot_box | 1.291 | 0.007 | 1.302 | |
| fg_plot_pVSdiff | 0.775 | 0.004 | 0.781 | |
| fg_plot_qq | 3.241 | 0.304 | 3.942 | |
| fg_replace_meta | 0.522 | 0.006 | 0.530 | |
| fg_rm_feature | 1.867 | 0.008 | 1.880 | |
| fg_rm_summary | 0.707 | 0.004 | 0.712 | |
| fg_save | 75.970 | 0.307 | 77.232 | |
| fg_save_plots | 73.888 | 0.288 | 74.383 | |
| fg_set_layout | 0.581 | 0.004 | 0.586 | |
| fg_summary | 0.752 | 0.005 | 0.759 | |
| flowGraph-class | 0.001 | 0.000 | 0.002 | |
| flowGraph | 2.744 | 0.011 | 2.775 | |
| flowGraphSubset | 0.000 | 0.000 | 0.001 | |
| flowGraphSubset_summary_adjust | 0 | 0 | 0 | |
| flowGraphSubset_summary_pars | 0.000 | 0.000 | 0.001 | |
| get_phen_list | 0.022 | 0.001 | 0.022 | |
| get_phen_meta | 0.003 | 0.000 | 0.003 | |
| ggdf | 0.560 | 0.003 | 0.565 | |
| loop_ind_f | 0.001 | 0.000 | 0.000 | |
| meandiff | 0 | 0 | 0 | |
| plot_gr | 2.672 | 0.024 | 2.712 | |
| set_layout_graph | 0.583 | 0.025 | 0.611 | |
| summary_table | 0.008 | 0.000 | 0.008 | |
| time_output | 0.001 | 0.000 | 0.002 | |
| tstr | 0.000 | 0.000 | 0.001 | |