| Back to Multiple platform build/check report for BioC 3.15 | 
  | 
This page was generated on 2022-03-18 11:08:46 -0400 (Fri, 18 Mar 2022).
| Hostname | OS | Arch (*) | R version | Installed pkgs | 
|---|---|---|---|---|
| nebbiolo1 | Linux (Ubuntu 20.04.4 LTS) | x86_64 | R Under development (unstable) (2022-02-17 r81757) -- "Unsuffered Consequences" | 4334 | 
| riesling1 | Windows Server 2019 Standard | x64 | R Under development (unstable) (2021-11-21 r81221) -- "Unsuffered Consequences" | 4097 | 
| palomino3 | Windows Server 2022 Datacenter | x64 | R Under development (unstable) (2022-02-17 r81757 ucrt) -- "Unsuffered Consequences" | 4083 | 
| merida1 | macOS 10.14.6 Mojave | x86_64 | R Under development (unstable) (2022-03-02 r81842) -- "Unsuffered Consequences" | 4134 | 
| Click on any hostname to see more info about the system (e.g. compilers) (*) as reported by 'uname -p', except on Windows and Mac OS X | ||||
| 
To the developers/maintainers of the SPLINTER package: - Please allow up to 24 hours (and sometimes 48 hours) for your latest push to git@git.bioconductor.org:packages/SPLINTER.git to reflect on this report. See How and When does the builder pull? When will my changes propagate? here for more information. - Make sure to use the following settings in order to reproduce any error or warning you see on this page.  | 
| Package 1872/2090 | Hostname | OS / Arch | INSTALL | BUILD | CHECK | BUILD BIN | ||||||||
| SPLINTER 1.21.1  (landing page) Diana Low 
  | nebbiolo1 | Linux (Ubuntu 20.04.4 LTS) / x86_64 | OK | OK | OK | |||||||||
| riesling1 | Windows Server 2019 Standard / x64 | OK | OK | WARNINGS | OK | |||||||||
| palomino3 | Windows Server 2022 Datacenter / x64 | OK | OK | WARNINGS | OK | |||||||||
| merida1 | macOS 10.14.6 Mojave / x86_64 | OK | OK | OK | OK | |||||||||
| Package: SPLINTER | 
| Version: 1.21.1 | 
| Command: D:\biocbuild\bbs-3.15-bioc\R\bin\R.exe CMD INSTALL SPLINTER | 
| StartedAt: 2022-03-17 16:17:54 -0400 (Thu, 17 Mar 2022) | 
| EndedAt: 2022-03-17 16:18:38 -0400 (Thu, 17 Mar 2022) | 
| EllapsedTime: 43.9 seconds | 
| RetCode: 0 | 
| Status: OK | 
##############################################################################
##############################################################################
###
### Running command:
###
###   D:\biocbuild\bbs-3.15-bioc\R\bin\R.exe CMD INSTALL SPLINTER
###
##############################################################################
##############################################################################
* installing to library 'D:/biocbuild/bbs-3.15-bioc/R/library'
* installing *source* package 'SPLINTER' ...
** using staged installation
** R
** data
*** moving datasets to lazyload DB
** inst
** byte-compile and prepare package for lazy loading
Creating a generic function for 'toJSON' from package 'jsonlite' in package 'googleVis'
Warning: replacing previous import 'IRanges::windows' by 'grDevices::windows' when loading 'SPLINTER'
** help
*** installing help indices
  converting help for package 'SPLINTER'
    finding HTML links ... done
    acceptor.m                              html  
    addEnsemblAnnotation                    html  
    annotateEvents                          html  
    callPrimer3                             html  
    checkPrimer                             html  
    compatible_cds                          html  
    compatible_tx                           html  
    donor.m                                 html  
    eventOutcomeCompare                     html  
    eventOutcomeTranslate                   html  
    eventPlot                               html  
    extendROI                               html  
    extractSpliceEvents                     html  
    extractSpliceSites                      html  
    findCompatibleEvents                    html  
    findCompatibleExon                      html  
    findExactOverlaps                       html  
    findTX                                  html  
    findTermination                         html  
    getPCRsizes                             html  
    getRegionDNA                            html  
    insertRegion                            html  
    makeROI                                 html  
    makeUniqueIDs                           html  
    matchExons                              html  
    metaremove                              html  
    pcr_result1                             html  
    plot_seqlogo                            html  
    primers                                 html  
    psiPlot                                 html  
    region_minus_exon                       html  
    removeRegion                            html  
    remvalue                                html  
    roi                                     html  
    shapiroAcceptor                         html  
    shapiroDensity                          html  
    shapiroDonor                            html  
    splice_data                             html  
    splice_fasta                            html  
    splitPCRhit                             html  
    thecds                                  html  
    theexons                                html  
    valid_cds                               html  
    valid_tx                                html  
** building package indices
** installing vignettes
** testing if installed package can be loaded from temporary location
Creating a generic function for 'toJSON' from package 'jsonlite' in package 'googleVis'
Warning: replacing previous import 'IRanges::windows' by 'grDevices::windows' when loading 'SPLINTER'
** testing if installed package can be loaded from final location
Creating a generic function for 'toJSON' from package 'jsonlite' in package 'googleVis'
Warning: replacing previous import 'IRanges::windows' by 'grDevices::windows' when loading 'SPLINTER'
** testing if installed package keeps a record of temporary installation path
* DONE (SPLINTER)
Making 'packages.html' ... done