| Back to Multiple platform build/check report for BioC 3.15 | 
  | 
This page was generated on 2022-03-18 11:08:08 -0400 (Fri, 18 Mar 2022).
| Hostname | OS | Arch (*) | R version | Installed pkgs | 
|---|---|---|---|---|
| nebbiolo1 | Linux (Ubuntu 20.04.4 LTS) | x86_64 | R Under development (unstable) (2022-02-17 r81757) -- "Unsuffered Consequences" | 4334 | 
| riesling1 | Windows Server 2019 Standard | x64 | R Under development (unstable) (2021-11-21 r81221) -- "Unsuffered Consequences" | 4097 | 
| palomino3 | Windows Server 2022 Datacenter | x64 | R Under development (unstable) (2022-02-17 r81757 ucrt) -- "Unsuffered Consequences" | 4083 | 
| merida1 | macOS 10.14.6 Mojave | x86_64 | R Under development (unstable) (2022-03-02 r81842) -- "Unsuffered Consequences" | 4134 | 
| Click on any hostname to see more info about the system (e.g. compilers) (*) as reported by 'uname -p', except on Windows and Mac OS X | ||||
| 
To the developers/maintainers of the MutationalPatterns package: - Please allow up to 24 hours (and sometimes 48 hours) for your latest push to git@git.bioconductor.org:packages/MutationalPatterns.git to reflect on this report. See How and When does the builder pull? When will my changes propagate? here for more information. - Make sure to use the following settings in order to reproduce any error or warning you see on this page.  | 
| Package 1262/2090 | Hostname | OS / Arch | INSTALL | BUILD | CHECK | BUILD BIN | ||||||||
| MutationalPatterns 3.5.5  (landing page) Mark van Roosmalen 
  | nebbiolo1 | Linux (Ubuntu 20.04.4 LTS) / x86_64 | OK | OK | OK | |||||||||
| riesling1 | Windows Server 2019 Standard / x64 | OK | OK | OK | OK | |||||||||
| palomino3 | Windows Server 2022 Datacenter / x64 | OK | OK | OK | OK | |||||||||
| merida1 | macOS 10.14.6 Mojave / x86_64 | OK | OK | OK | OK | |||||||||
| Package: MutationalPatterns | 
| Version: 3.5.5 | 
| Command: D:\biocbuild\bbs-3.15-bioc\R\bin\R.exe CMD INSTALL MutationalPatterns | 
| StartedAt: 2022-03-17 16:11:30 -0400 (Thu, 17 Mar 2022) | 
| EndedAt: 2022-03-17 16:12:48 -0400 (Thu, 17 Mar 2022) | 
| EllapsedTime: 77.2 seconds | 
| RetCode: 0 | 
| Status: OK | 
##############################################################################
##############################################################################
###
### Running command:
###
###   D:\biocbuild\bbs-3.15-bioc\R\bin\R.exe CMD INSTALL MutationalPatterns
###
##############################################################################
##############################################################################
* installing to library 'D:/biocbuild/bbs-3.15-bioc/R/library'
* installing *source* package 'MutationalPatterns' ...
** using staged installation
** R
** inst
** byte-compile and prepare package for lazy loading
** help
*** installing help indices
  converting help for package 'MutationalPatterns'
    finding HTML links ... done
    MutationalPatterns-defunct              html  
    MutationalPatterns-package              html  
    bin_mutation_density                    html  
    binomial_test                           html  
    calculate_lesion_segregation            html  
    cluster_signatures                      html  
    context_potential_damage_analysis       html  
    convert_sigs_to_ref                     html  
    cos_sim                                 html  
    cos_sim_matrix                          html  
    count_dbs_contexts                      html  
    count_indel_contexts                    html  
    count_mbs_contexts                      html  
    determine_regional_similarity           html  
    enrichment_depletion_test               html  
    extract_signatures                      html  
    fit_to_signatures                       html  
    fit_to_signatures_bootstrapped          html  
    fit_to_signatures_strict                html  
    genomic_distribution                    html  
    get_dbs_context                         html  
    get_indel_context                       html  
    get_known_signatures                    html  
    get_mut_type                            html  
    get_sim_tb                              html  
    lengthen_mut_matrix                     html  
    merge_signatures                        html  
    mut_192_occurrences                     html  
    mut_96_occurrences                      html  
    mut_context                             html  
    mut_matrix                              html  
    mut_matrix_stranded                     html  
    mut_strand                              html  
    mut_type                                html  
    mut_type_occurrences                    html  
    mutations_from_vcf                      html  
    plot_192_profile                        html  
    plot_96_profile                         html  
    plot_bootstrapped_contribution          html  
    plot_compare_dbs                        html  
    plot_compare_indels                     html  
    plot_compare_mbs                        html  
    plot_compare_profiles                   html  
    plot_contribution                       html  
    plot_contribution_heatmap               html  
    plot_correlation_bootstrap              html  
    plot_cosine_heatmap                     html  
    plot_dbs_contexts                       html  
    plot_enrichment_depletion               html  
    plot_indel_contexts                     html  
    plot_lesion_segregation                 html  
    plot_main_dbs_contexts                  html  
    plot_main_indel_contexts                html  
    plot_mbs_contexts                       html  
    plot_original_vs_reconstructed          html  
    plot_profile_heatmap                    html  
    plot_profile_region                     html  
    plot_rainfall                           html  
    plot_regional_similarity                html  
    plot_river                              html  
    plot_signature_strand_bias              html  
    plot_spectrum                           html  
    plot_spectrum_region                    html  
    plot_strand                             html  
    plot_strand_bias                        html  
    pool_mut_mat                            html  
    read_vcfs_as_granges                    html  
    region_cossim-class                     html  
    rename_nmf_signatures                   html  
    show-region_cossim-method               html  
    signature_potential_damage_analysis     html  
    split_muts_region                       html  
    strand_bias_test                        html  
    strand_occurrences                      html  
    type_context                            html  
** building package indices
** installing vignettes
** testing if installed package can be loaded from temporary location
** testing if installed package can be loaded from final location
** testing if installed package keeps a record of temporary installation path
* DONE (MutationalPatterns)
Making 'packages.html' ...Warning in packageDescription(i, lib.loc = lib, fields = "Title", encoding = "UTF-8") :
  DESCRIPTION file of package 'epivizrChart' is missing or broken
 done