| Back to Multiple platform build/check report for BioC 3.15 |
|
This page was generated on 2022-10-19 13:20:35 -0400 (Wed, 19 Oct 2022).
| Hostname | OS | Arch (*) | R version | Installed pkgs |
|---|---|---|---|---|
| nebbiolo1 | Linux (Ubuntu 20.04.5 LTS) | x86_64 | 4.2.1 (2022-06-23) -- "Funny-Looking Kid" | 4386 |
| palomino3 | Windows Server 2022 Datacenter | x64 | 4.2.1 (2022-06-23 ucrt) -- "Funny-Looking Kid" | 4138 |
| merida1 | macOS 10.14.6 Mojave | x86_64 | 4.2.1 (2022-06-23) -- "Funny-Looking Kid" | 4205 |
| Click on any hostname to see more info about the system (e.g. compilers) (*) as reported by 'uname -p', except on Windows and Mac OS X | ||||
|
To the developers/maintainers of the MutationalPatterns package: - Please allow up to 24 hours (and sometimes 48 hours) for your latest push to git@git.bioconductor.org:packages/MutationalPatterns.git to reflect on this report. See How and When does the builder pull? When will my changes propagate? for more information. - Make sure to use the following settings in order to reproduce any error or warning you see on this page. |
| Package 1288/2140 | Hostname | OS / Arch | INSTALL | BUILD | CHECK | BUILD BIN | ||||||||
| MutationalPatterns 3.6.0 (landing page) Mark van Roosmalen
| nebbiolo1 | Linux (Ubuntu 20.04.5 LTS) / x86_64 | OK | OK | OK | |||||||||
| palomino3 | Windows Server 2022 Datacenter / x64 | OK | OK | OK | OK | |||||||||
| merida1 | macOS 10.14.6 Mojave / x86_64 | OK | OK | OK | OK | |||||||||
| Package: MutationalPatterns |
| Version: 3.6.0 |
| Command: /home/biocbuild/bbs-3.15-bioc/R/bin/R CMD check --install=check:MutationalPatterns.install-out.txt --library=/home/biocbuild/bbs-3.15-bioc/R/library --no-vignettes --timings MutationalPatterns_3.6.0.tar.gz |
| StartedAt: 2022-10-18 20:47:45 -0400 (Tue, 18 Oct 2022) |
| EndedAt: 2022-10-18 20:57:03 -0400 (Tue, 18 Oct 2022) |
| EllapsedTime: 557.3 seconds |
| RetCode: 0 |
| Status: OK |
| CheckDir: MutationalPatterns.Rcheck |
| Warnings: 0 |
##############################################################################
##############################################################################
###
### Running command:
###
### /home/biocbuild/bbs-3.15-bioc/R/bin/R CMD check --install=check:MutationalPatterns.install-out.txt --library=/home/biocbuild/bbs-3.15-bioc/R/library --no-vignettes --timings MutationalPatterns_3.6.0.tar.gz
###
##############################################################################
##############################################################################
* using log directory ‘/home/biocbuild/bbs-3.15-bioc/meat/MutationalPatterns.Rcheck’
* using R version 4.2.1 (2022-06-23)
* using platform: x86_64-pc-linux-gnu (64-bit)
* using session charset: UTF-8
* using option ‘--no-vignettes’
* checking for file ‘MutationalPatterns/DESCRIPTION’ ... OK
* checking extension type ... Package
* this is package ‘MutationalPatterns’ version ‘3.6.0’
* package encoding: UTF-8
* checking package namespace information ... OK
* checking package dependencies ... OK
* checking if this is a source package ... OK
* checking if there is a namespace ... OK
* checking for hidden files and directories ... OK
* checking for portable file names ... OK
* checking for sufficient/correct file permissions ... OK
* checking whether package ‘MutationalPatterns’ can be installed ... OK
* checking installed package size ... OK
* checking package directory ... OK
* checking ‘build’ directory ... OK
* checking DESCRIPTION meta-information ... OK
* checking top-level files ... OK
* checking for left-over files ... OK
* checking index information ... OK
* checking package subdirectories ... OK
* checking R files for non-ASCII characters ... OK
* checking R files for syntax errors ... OK
* checking whether the package can be loaded ... OK
* checking whether the package can be loaded with stated dependencies ... OK
* checking whether the package can be unloaded cleanly ... OK
* checking whether the namespace can be loaded with stated dependencies ... OK
* checking whether the namespace can be unloaded cleanly ... OK
* checking dependencies in R code ... OK
* checking S3 generic/method consistency ... OK
* checking replacement functions ... OK
* checking foreign function calls ... OK
* checking R code for possible problems ... OK
* checking Rd files ... OK
* checking Rd metadata ... OK
* checking Rd cross-references ... OK
* checking for missing documentation entries ... OK
* checking for code/documentation mismatches ... OK
* checking Rd \usage sections ... OK
* checking Rd contents ... OK
* checking for unstated dependencies in examples ... OK
* checking files in ‘vignettes’ ... OK
* checking examples ... OK
Examples with CPU (user + system) or elapsed time > 5s
user system elapsed
context_potential_damage_analysis 22.856 0.828 23.685
read_vcfs_as_granges 20.233 1.789 24.260
plot_lesion_segregation 12.856 0.044 12.904
get_mut_type 11.725 0.087 11.813
calculate_lesion_segregation 10.927 0.504 11.431
genomic_distribution 9.859 0.245 10.108
bin_mutation_density 8.667 0.584 9.252
get_indel_context 6.439 1.008 7.448
plot_indel_contexts 6.918 0.008 6.927
plot_compare_indels 6.083 0.040 6.123
mut_matrix_stranded 5.167 0.547 5.716
plot_spectrum_region 5.025 0.172 5.197
split_muts_region 4.757 0.328 5.085
plot_river 5.022 0.016 5.038
* checking for unstated dependencies in ‘tests’ ... OK
* checking tests ...
Running ‘testthat.R’
OK
* checking for unstated dependencies in vignettes ... OK
* checking package vignettes in ‘inst/doc’ ... OK
* checking running R code from vignettes ... SKIPPED
* checking re-building of vignette outputs ... SKIPPED
* checking PDF version of manual ... OK
* DONE
Status: OK
MutationalPatterns.Rcheck/00install.out
############################################################################## ############################################################################## ### ### Running command: ### ### /home/biocbuild/bbs-3.15-bioc/R/bin/R CMD INSTALL MutationalPatterns ### ############################################################################## ############################################################################## * installing to library ‘/home/biocbuild/bbs-3.15-bioc/R/library’ * installing *source* package ‘MutationalPatterns’ ... ** using staged installation ** R ** inst ** byte-compile and prepare package for lazy loading ** help *** installing help indices ** building package indices ** installing vignettes ** testing if installed package can be loaded from temporary location ** testing if installed package can be loaded from final location ** testing if installed package keeps a record of temporary installation path * DONE (MutationalPatterns)
MutationalPatterns.Rcheck/tests/testthat.Rout
R version 4.2.1 (2022-06-23) -- "Funny-Looking Kid"
Copyright (C) 2022 The R Foundation for Statistical Computing
Platform: x86_64-pc-linux-gnu (64-bit)
R is free software and comes with ABSOLUTELY NO WARRANTY.
You are welcome to redistribute it under certain conditions.
Type 'license()' or 'licence()' for distribution details.
R is a collaborative project with many contributors.
Type 'contributors()' for more information and
'citation()' on how to cite R or R packages in publications.
Type 'demo()' for some demos, 'help()' for on-line help, or
'help.start()' for an HTML browser interface to help.
Type 'q()' to quit R.
> library(testthat)
> library(MutationalPatterns)
Loading required package: GenomicRanges
Loading required package: stats4
Loading required package: BiocGenerics
Attaching package: 'BiocGenerics'
The following objects are masked from 'package:stats':
IQR, mad, sd, var, xtabs
The following objects are masked from 'package:base':
Filter, Find, Map, Position, Reduce, anyDuplicated, append,
as.data.frame, basename, cbind, colnames, dirname, do.call,
duplicated, eval, evalq, get, grep, grepl, intersect, is.unsorted,
lapply, mapply, match, mget, order, paste, pmax, pmax.int, pmin,
pmin.int, rank, rbind, rownames, sapply, setdiff, sort, table,
tapply, union, unique, unsplit, which.max, which.min
Loading required package: S4Vectors
Attaching package: 'S4Vectors'
The following objects are masked from 'package:base':
I, expand.grid, unname
Loading required package: IRanges
Loading required package: GenomeInfoDb
Loading required package: NMF
Loading required package: pkgmaker
Loading required package: registry
Attaching package: 'pkgmaker'
The following object is masked from 'package:S4Vectors':
new2
Loading required package: rngtools
Loading required package: cluster
NMF - BioConductor layer [OK] | Shared memory capabilities [NO: synchronicity] | Cores 71/72
To enable shared memory capabilities, try: install.extras('
NMF
')
Attaching package: 'NMF'
The following object is masked from 'package:S4Vectors':
nrun
The following object is masked from 'package:testthat':
compare
>
> test_check("MutationalPatterns")
[ FAIL 0 | WARN 1 | SKIP 0 | PASS 474 ]
[ FAIL 0 | WARN 1 | SKIP 0 | PASS 474 ]
>
> proc.time()
user system elapsed
206.916 12.919 225.459
MutationalPatterns.Rcheck/MutationalPatterns-Ex.timings
| name | user | system | elapsed | |
| bin_mutation_density | 8.667 | 0.584 | 9.252 | |
| binomial_test | 0.009 | 0.000 | 0.009 | |
| calculate_lesion_segregation | 10.927 | 0.504 | 11.431 | |
| cluster_signatures | 0.045 | 0.003 | 0.050 | |
| context_potential_damage_analysis | 22.856 | 0.828 | 23.685 | |
| convert_sigs_to_ref | 0.032 | 0.004 | 0.036 | |
| cos_sim | 0.001 | 0.000 | 0.000 | |
| cos_sim_matrix | 0.014 | 0.008 | 0.022 | |
| count_dbs_contexts | 0.091 | 0.004 | 0.096 | |
| count_indel_contexts | 0.114 | 0.000 | 0.114 | |
| count_mbs_contexts | 0.084 | 0.004 | 0.089 | |
| determine_regional_similarity | 2.826 | 0.409 | 3.255 | |
| enrichment_depletion_test | 0.139 | 0.000 | 0.139 | |
| extract_signatures | 0.002 | 0.000 | 0.002 | |
| fit_to_signatures | 0.080 | 0.008 | 0.089 | |
| fit_to_signatures_bootstrapped | 4.839 | 0.024 | 4.863 | |
| fit_to_signatures_strict | 2.895 | 0.020 | 2.915 | |
| genomic_distribution | 9.859 | 0.245 | 10.108 | |
| get_dbs_context | 0.281 | 0.008 | 0.289 | |
| get_indel_context | 6.439 | 1.008 | 7.448 | |
| get_known_signatures | 0.216 | 0.584 | 0.806 | |
| get_mut_type | 11.725 | 0.087 | 11.813 | |
| lengthen_mut_matrix | 0.009 | 0.008 | 0.018 | |
| merge_signatures | 1.056 | 0.148 | 1.204 | |
| mut_context | 1.087 | 0.220 | 1.308 | |
| mut_matrix | 1.875 | 0.338 | 2.213 | |
| mut_matrix_stranded | 5.167 | 0.547 | 5.716 | |
| mut_strand | 1.008 | 0.012 | 1.020 | |
| mut_type | 0.023 | 0.004 | 0.027 | |
| mut_type_occurrences | 0.847 | 0.144 | 0.991 | |
| mutations_from_vcf | 0.027 | 0.000 | 0.027 | |
| plot_192_profile | 2.362 | 0.007 | 2.371 | |
| plot_96_profile | 1.992 | 0.028 | 2.021 | |
| plot_bootstrapped_contribution | 1.701 | 0.003 | 1.705 | |
| plot_compare_dbs | 4.573 | 0.064 | 4.637 | |
| plot_compare_indels | 6.083 | 0.040 | 6.123 | |
| plot_compare_mbs | 0.654 | 0.004 | 0.658 | |
| plot_compare_profiles | 1.491 | 0.000 | 1.491 | |
| plot_contribution | 2.414 | 0.008 | 2.422 | |
| plot_contribution_heatmap | 1.296 | 0.036 | 1.332 | |
| plot_correlation_bootstrap | 0.376 | 0.004 | 0.380 | |
| plot_cosine_heatmap | 1.616 | 0.004 | 1.622 | |
| plot_dbs_contexts | 2.688 | 0.000 | 2.688 | |
| plot_enrichment_depletion | 2.725 | 0.056 | 2.781 | |
| plot_indel_contexts | 6.918 | 0.008 | 6.927 | |
| plot_lesion_segregation | 12.856 | 0.044 | 12.904 | |
| plot_main_dbs_contexts | 0.467 | 0.004 | 0.472 | |
| plot_main_indel_contexts | 0.530 | 0.004 | 0.534 | |
| plot_mbs_contexts | 0.444 | 0.004 | 0.448 | |
| plot_original_vs_reconstructed | 0.468 | 0.008 | 0.477 | |
| plot_profile_heatmap | 4.917 | 0.020 | 4.937 | |
| plot_profile_region | 0.89 | 0.00 | 0.89 | |
| plot_rainfall | 1.856 | 0.016 | 1.872 | |
| plot_regional_similarity | 1.393 | 0.016 | 1.409 | |
| plot_river | 5.022 | 0.016 | 5.038 | |
| plot_signature_strand_bias | 0.764 | 0.000 | 0.763 | |
| plot_spectrum | 4.579 | 0.339 | 4.923 | |
| plot_spectrum_region | 5.025 | 0.172 | 5.197 | |
| plot_strand | 0.177 | 0.000 | 0.177 | |
| plot_strand_bias | 0.806 | 0.008 | 0.814 | |
| pool_mut_mat | 0.036 | 0.000 | 0.037 | |
| read_vcfs_as_granges | 20.233 | 1.789 | 24.260 | |
| rename_nmf_signatures | 0.036 | 0.048 | 0.084 | |
| signature_potential_damage_analysis | 0.165 | 0.016 | 0.181 | |
| split_muts_region | 4.757 | 0.328 | 5.085 | |
| strand_bias_test | 0.136 | 0.004 | 0.141 | |
| strand_occurrences | 0.166 | 0.008 | 0.175 | |
| type_context | 1.311 | 0.344 | 1.655 | |