| Back to Multiple platform build/check report for BioC 3.15 |
|
This page was generated on 2022-10-19 13:23:21 -0400 (Wed, 19 Oct 2022).
| Hostname | OS | Arch (*) | R version | Installed pkgs |
|---|---|---|---|---|
| nebbiolo1 | Linux (Ubuntu 20.04.5 LTS) | x86_64 | 4.2.1 (2022-06-23) -- "Funny-Looking Kid" | 4386 |
| palomino3 | Windows Server 2022 Datacenter | x64 | 4.2.1 (2022-06-23 ucrt) -- "Funny-Looking Kid" | 4138 |
| merida1 | macOS 10.14.6 Mojave | x86_64 | 4.2.1 (2022-06-23) -- "Funny-Looking Kid" | 4205 |
| Click on any hostname to see more info about the system (e.g. compilers) (*) as reported by 'uname -p', except on Windows and Mac OS X | ||||
|
To the developers/maintainers of the MutationalPatterns package: - Please allow up to 24 hours (and sometimes 48 hours) for your latest push to git@git.bioconductor.org:packages/MutationalPatterns.git to reflect on this report. See How and When does the builder pull? When will my changes propagate? for more information. - Make sure to use the following settings in order to reproduce any error or warning you see on this page. |
| Package 1288/2140 | Hostname | OS / Arch | INSTALL | BUILD | CHECK | BUILD BIN | ||||||||
| MutationalPatterns 3.6.0 (landing page) Mark van Roosmalen
| nebbiolo1 | Linux (Ubuntu 20.04.5 LTS) / x86_64 | OK | OK | OK | |||||||||
| palomino3 | Windows Server 2022 Datacenter / x64 | OK | OK | OK | OK | |||||||||
| merida1 | macOS 10.14.6 Mojave / x86_64 | OK | OK | OK | OK | |||||||||
| Package: MutationalPatterns |
| Version: 3.6.0 |
| Command: /Library/Frameworks/R.framework/Resources/bin/R CMD check --install=check:MutationalPatterns.install-out.txt --library=/Library/Frameworks/R.framework/Resources/library --no-vignettes --timings MutationalPatterns_3.6.0.tar.gz |
| StartedAt: 2022-10-19 05:18:03 -0400 (Wed, 19 Oct 2022) |
| EndedAt: 2022-10-19 05:36:24 -0400 (Wed, 19 Oct 2022) |
| EllapsedTime: 1101.3 seconds |
| RetCode: 0 |
| Status: OK |
| CheckDir: MutationalPatterns.Rcheck |
| Warnings: 0 |
##############################################################################
##############################################################################
###
### Running command:
###
### /Library/Frameworks/R.framework/Resources/bin/R CMD check --install=check:MutationalPatterns.install-out.txt --library=/Library/Frameworks/R.framework/Resources/library --no-vignettes --timings MutationalPatterns_3.6.0.tar.gz
###
##############################################################################
##############################################################################
* using log directory ‘/Users/biocbuild/bbs-3.15-bioc/meat/MutationalPatterns.Rcheck’
* using R version 4.2.1 (2022-06-23)
* using platform: x86_64-apple-darwin17.0 (64-bit)
* using session charset: UTF-8
* using option ‘--no-vignettes’
* checking for file ‘MutationalPatterns/DESCRIPTION’ ... OK
* checking extension type ... Package
* this is package ‘MutationalPatterns’ version ‘3.6.0’
* package encoding: UTF-8
* checking package namespace information ... OK
* checking package dependencies ... OK
* checking if this is a source package ... OK
* checking if there is a namespace ... OK
* checking for hidden files and directories ... OK
* checking for portable file names ... OK
* checking for sufficient/correct file permissions ... OK
* checking whether package ‘MutationalPatterns’ can be installed ... OK
* checking installed package size ... OK
* checking package directory ... OK
* checking ‘build’ directory ... OK
* checking DESCRIPTION meta-information ... OK
* checking top-level files ... OK
* checking for left-over files ... OK
* checking index information ... OK
* checking package subdirectories ... OK
* checking R files for non-ASCII characters ... OK
* checking R files for syntax errors ... OK
* checking whether the package can be loaded ... OK
* checking whether the package can be loaded with stated dependencies ... OK
* checking whether the package can be unloaded cleanly ... OK
* checking whether the namespace can be loaded with stated dependencies ... OK
* checking whether the namespace can be unloaded cleanly ... OK
* checking dependencies in R code ... OK
* checking S3 generic/method consistency ... OK
* checking replacement functions ... OK
* checking foreign function calls ... OK
* checking R code for possible problems ... OK
* checking Rd files ... OK
* checking Rd metadata ... OK
* checking Rd cross-references ... OK
* checking for missing documentation entries ... OK
* checking for code/documentation mismatches ... OK
* checking Rd \usage sections ... OK
* checking Rd contents ... OK
* checking for unstated dependencies in examples ... OK
* checking files in ‘vignettes’ ... OK
* checking examples ... OK
Examples with CPU (user + system) or elapsed time > 5s
user system elapsed
context_potential_damage_analysis 47.815 0.706 48.626
read_vcfs_as_granges 39.824 1.044 46.373
plot_lesion_segregation 29.332 0.087 29.461
get_mut_type 26.336 0.049 26.428
calculate_lesion_segregation 25.268 0.259 25.802
genomic_distribution 21.408 0.560 21.999
bin_mutation_density 16.125 0.495 16.646
plot_indel_contexts 15.307 0.035 15.364
plot_compare_indels 15.193 0.046 15.278
get_indel_context 14.099 0.595 14.708
fit_to_signatures_bootstrapped 11.052 0.273 11.338
plot_river 10.182 0.061 10.260
plot_spectrum_region 9.964 0.116 10.096
plot_profile_heatmap 9.670 0.164 9.854
split_muts_region 9.708 0.065 9.791
mut_matrix_stranded 9.283 0.301 9.596
plot_spectrum 9.418 0.102 9.533
plot_compare_dbs 8.979 0.032 9.026
determine_regional_similarity 6.645 0.235 6.886
plot_dbs_contexts 6.636 0.019 6.669
plot_enrichment_depletion 6.295 0.016 6.318
fit_to_signatures_strict 6.190 0.056 6.262
plot_contribution 5.805 0.017 5.925
plot_192_profile 5.422 0.017 5.448
* checking for unstated dependencies in ‘tests’ ... OK
* checking tests ...
Running ‘testthat.R’
OK
* checking for unstated dependencies in vignettes ... OK
* checking package vignettes in ‘inst/doc’ ... OK
* checking running R code from vignettes ... SKIPPED
* checking re-building of vignette outputs ... SKIPPED
* checking PDF version of manual ... OK
* DONE
Status: OK
MutationalPatterns.Rcheck/00install.out
############################################################################## ############################################################################## ### ### Running command: ### ### /Library/Frameworks/R.framework/Resources/bin/R CMD INSTALL MutationalPatterns ### ############################################################################## ############################################################################## * installing to library ‘/Library/Frameworks/R.framework/Versions/4.2/Resources/library’ * installing *source* package ‘MutationalPatterns’ ... ** using staged installation ** R ** inst ** byte-compile and prepare package for lazy loading ** help *** installing help indices ** building package indices ** installing vignettes ** testing if installed package can be loaded from temporary location ** testing if installed package can be loaded from final location ** testing if installed package keeps a record of temporary installation path * DONE (MutationalPatterns)
MutationalPatterns.Rcheck/tests/testthat.Rout
R version 4.2.1 (2022-06-23) -- "Funny-Looking Kid"
Copyright (C) 2022 The R Foundation for Statistical Computing
Platform: x86_64-apple-darwin17.0 (64-bit)
R is free software and comes with ABSOLUTELY NO WARRANTY.
You are welcome to redistribute it under certain conditions.
Type 'license()' or 'licence()' for distribution details.
R is a collaborative project with many contributors.
Type 'contributors()' for more information and
'citation()' on how to cite R or R packages in publications.
Type 'demo()' for some demos, 'help()' for on-line help, or
'help.start()' for an HTML browser interface to help.
Type 'q()' to quit R.
> library(testthat)
> library(MutationalPatterns)
Loading required package: GenomicRanges
Loading required package: stats4
Loading required package: BiocGenerics
Attaching package: 'BiocGenerics'
The following objects are masked from 'package:stats':
IQR, mad, sd, var, xtabs
The following objects are masked from 'package:base':
Filter, Find, Map, Position, Reduce, anyDuplicated, append,
as.data.frame, basename, cbind, colnames, dirname, do.call,
duplicated, eval, evalq, get, grep, grepl, intersect, is.unsorted,
lapply, mapply, match, mget, order, paste, pmax, pmax.int, pmin,
pmin.int, rank, rbind, rownames, sapply, setdiff, sort, table,
tapply, union, unique, unsplit, which.max, which.min
Loading required package: S4Vectors
Attaching package: 'S4Vectors'
The following objects are masked from 'package:base':
I, expand.grid, unname
Loading required package: IRanges
Loading required package: GenomeInfoDb
Loading required package: NMF
Loading required package: pkgmaker
Loading required package: registry
Attaching package: 'pkgmaker'
The following object is masked from 'package:S4Vectors':
new2
Loading required package: rngtools
Loading required package: cluster
NMF - BioConductor layer [OK] | Shared memory capabilities [NO: synchronicity] | Cores 23/24
To enable shared memory capabilities, try: install.extras('
NMF
')
Attaching package: 'NMF'
The following object is masked from 'package:S4Vectors':
nrun
The following object is masked from 'package:testthat':
compare
>
> test_check("MutationalPatterns")
[ FAIL 0 | WARN 1 | SKIP 0 | PASS 474 ]
[ FAIL 0 | WARN 1 | SKIP 0 | PASS 474 ]
>
> proc.time()
user system elapsed
401.856 9.851 427.313
MutationalPatterns.Rcheck/MutationalPatterns-Ex.timings
| name | user | system | elapsed | |
| bin_mutation_density | 16.125 | 0.495 | 16.646 | |
| binomial_test | 0.017 | 0.001 | 0.018 | |
| calculate_lesion_segregation | 25.268 | 0.259 | 25.802 | |
| cluster_signatures | 0.095 | 0.006 | 0.102 | |
| context_potential_damage_analysis | 47.815 | 0.706 | 48.626 | |
| convert_sigs_to_ref | 0.075 | 0.003 | 0.080 | |
| cos_sim | 0 | 0 | 0 | |
| cos_sim_matrix | 0.031 | 0.004 | 0.035 | |
| count_dbs_contexts | 0.184 | 0.003 | 0.187 | |
| count_indel_contexts | 0.218 | 0.003 | 0.222 | |
| count_mbs_contexts | 0.177 | 0.001 | 0.179 | |
| determine_regional_similarity | 6.645 | 0.235 | 6.886 | |
| enrichment_depletion_test | 0.301 | 0.002 | 0.304 | |
| extract_signatures | 0.002 | 0.000 | 0.002 | |
| fit_to_signatures | 0.179 | 0.015 | 0.195 | |
| fit_to_signatures_bootstrapped | 11.052 | 0.273 | 11.338 | |
| fit_to_signatures_strict | 6.190 | 0.056 | 6.262 | |
| genomic_distribution | 21.408 | 0.560 | 21.999 | |
| get_dbs_context | 0.572 | 0.002 | 0.576 | |
| get_indel_context | 14.099 | 0.595 | 14.708 | |
| get_known_signatures | 0.490 | 0.316 | 0.809 | |
| get_mut_type | 26.336 | 0.049 | 26.428 | |
| lengthen_mut_matrix | 0.017 | 0.005 | 0.022 | |
| merge_signatures | 3.850 | 0.263 | 4.118 | |
| mut_context | 2.277 | 0.146 | 2.427 | |
| mut_matrix | 4.482 | 0.201 | 4.698 | |
| mut_matrix_stranded | 9.283 | 0.301 | 9.596 | |
| mut_strand | 2.969 | 0.032 | 3.004 | |
| mut_type | 0.054 | 0.001 | 0.056 | |
| mut_type_occurrences | 1.937 | 0.088 | 2.026 | |
| mutations_from_vcf | 0.052 | 0.000 | 0.053 | |
| plot_192_profile | 5.422 | 0.017 | 5.448 | |
| plot_96_profile | 4.682 | 0.012 | 4.707 | |
| plot_bootstrapped_contribution | 3.644 | 0.021 | 3.678 | |
| plot_compare_dbs | 8.979 | 0.032 | 9.026 | |
| plot_compare_indels | 15.193 | 0.046 | 15.278 | |
| plot_compare_mbs | 1.546 | 0.009 | 1.560 | |
| plot_compare_profiles | 3.760 | 0.012 | 3.836 | |
| plot_contribution | 5.805 | 0.017 | 5.925 | |
| plot_contribution_heatmap | 3.004 | 0.016 | 3.029 | |
| plot_correlation_bootstrap | 0.787 | 0.004 | 0.798 | |
| plot_cosine_heatmap | 3.664 | 0.015 | 3.685 | |
| plot_dbs_contexts | 6.636 | 0.019 | 6.669 | |
| plot_enrichment_depletion | 6.295 | 0.016 | 6.318 | |
| plot_indel_contexts | 15.307 | 0.035 | 15.364 | |
| plot_lesion_segregation | 29.332 | 0.087 | 29.461 | |
| plot_main_dbs_contexts | 1.095 | 0.004 | 1.104 | |
| plot_main_indel_contexts | 1.023 | 0.005 | 1.032 | |
| plot_mbs_contexts | 0.961 | 0.008 | 0.972 | |
| plot_original_vs_reconstructed | 0.964 | 0.005 | 0.971 | |
| plot_profile_heatmap | 9.670 | 0.164 | 9.854 | |
| plot_profile_region | 2.052 | 0.008 | 2.063 | |
| plot_rainfall | 3.628 | 0.011 | 3.644 | |
| plot_regional_similarity | 2.926 | 0.010 | 2.946 | |
| plot_river | 10.182 | 0.061 | 10.260 | |
| plot_signature_strand_bias | 1.560 | 0.005 | 1.568 | |
| plot_spectrum | 9.418 | 0.102 | 9.533 | |
| plot_spectrum_region | 9.964 | 0.116 | 10.096 | |
| plot_strand | 0.319 | 0.008 | 0.327 | |
| plot_strand_bias | 1.608 | 0.009 | 1.621 | |
| pool_mut_mat | 0.069 | 0.002 | 0.072 | |
| read_vcfs_as_granges | 39.824 | 1.044 | 46.373 | |
| rename_nmf_signatures | 0.057 | 0.023 | 0.080 | |
| signature_potential_damage_analysis | 0.188 | 0.002 | 0.190 | |
| split_muts_region | 9.708 | 0.065 | 9.791 | |
| strand_bias_test | 0.274 | 0.010 | 0.284 | |
| strand_occurrences | 0.280 | 0.009 | 0.289 | |
| type_context | 2.380 | 0.139 | 2.523 | |