| Back to Multiple platform build/check report for BioC 3.15 |
|
This page was generated on 2022-10-19 13:23:14 -0400 (Wed, 19 Oct 2022).
| Hostname | OS | Arch (*) | R version | Installed pkgs |
|---|---|---|---|---|
| nebbiolo1 | Linux (Ubuntu 20.04.5 LTS) | x86_64 | 4.2.1 (2022-06-23) -- "Funny-Looking Kid" | 4386 |
| palomino3 | Windows Server 2022 Datacenter | x64 | 4.2.1 (2022-06-23 ucrt) -- "Funny-Looking Kid" | 4138 |
| merida1 | macOS 10.14.6 Mojave | x86_64 | 4.2.1 (2022-06-23) -- "Funny-Looking Kid" | 4205 |
| Click on any hostname to see more info about the system (e.g. compilers) (*) as reported by 'uname -p', except on Windows and Mac OS X | ||||
|
To the developers/maintainers of the MesKit package: - Please allow up to 24 hours (and sometimes 48 hours) for your latest push to git@git.bioconductor.org:packages/MesKit.git to reflect on this report. See How and When does the builder pull? When will my changes propagate? for more information. - Make sure to use the following settings in order to reproduce any error or warning you see on this page. |
| Package 1116/2140 | Hostname | OS / Arch | INSTALL | BUILD | CHECK | BUILD BIN | ||||||||
| MesKit 1.6.0 (landing page) Mengni Liu
| nebbiolo1 | Linux (Ubuntu 20.04.5 LTS) / x86_64 | OK | OK | WARNINGS | |||||||||
| palomino3 | Windows Server 2022 Datacenter / x64 | OK | OK | WARNINGS | OK | |||||||||
| merida1 | macOS 10.14.6 Mojave / x86_64 | OK | OK | WARNINGS | OK | |||||||||
| Package: MesKit |
| Version: 1.6.0 |
| Command: rm -rf MesKit.buildbin-libdir && mkdir MesKit.buildbin-libdir && /Users/biocbuild/BBS/utils/build-universal.sh MesKit_1.6.0.tar.gz /Library/Frameworks/R.framework/Resources/bin/R MesKit.buildbin-libdir |
| StartedAt: 2022-10-19 10:38:58 -0400 (Wed, 19 Oct 2022) |
| EndedAt: 2022-10-19 10:39:49 -0400 (Wed, 19 Oct 2022) |
| EllapsedTime: 50.8 seconds |
| RetCode: 0 |
| Status: OK |
| PackageFile: MesKit_1.6.0.tgz |
| PackageFileSize: 3.314 MiB |
############################################################################## ############################################################################## ### ### Running command: ### ### rm -rf MesKit.buildbin-libdir && mkdir MesKit.buildbin-libdir && /Users/biocbuild/BBS/utils/build-universal.sh MesKit_1.6.0.tar.gz /Library/Frameworks/R.framework/Resources/bin/R MesKit.buildbin-libdir ### ############################################################################## ############################################################################## >>>>>>> >>>>>>> INSTALLATION WITH 'R CMD INSTALL --preclean --no-multiarch --library=MesKit.buildbin-libdir MesKit_1.6.0.tar.gz' >>>>>>> * installing *source* package ‘MesKit’ ... ** using staged installation ** R ** inst ** byte-compile and prepare package for lazy loading Warning: replacing previous import ‘ape::degree’ by ‘circlize::degree’ when loading ‘MesKit’ ** help *** installing help indices ** building package indices ** installing vignettes ** testing if installed package can be loaded from temporary location Warning: replacing previous import ‘ape::degree’ by ‘circlize::degree’ when loading ‘MesKit’ ** testing if installed package can be loaded from final location Warning: replacing previous import ‘ape::degree’ by ‘circlize::degree’ when loading ‘MesKit’ ** testing if installed package keeps a record of temporary installation path * DONE (MesKit)