| Back to Multiple platform build/check report for BioC 3.15 | 
 | 
This page was generated on 2022-03-18 11:07:45 -0400 (Fri, 18 Mar 2022).
| Hostname | OS | Arch (*) | R version | Installed pkgs | 
|---|---|---|---|---|
| nebbiolo1 | Linux (Ubuntu 20.04.4 LTS) | x86_64 | R Under development (unstable) (2022-02-17 r81757) -- "Unsuffered Consequences" | 4334 | 
| riesling1 | Windows Server 2019 Standard | x64 | R Under development (unstable) (2021-11-21 r81221) -- "Unsuffered Consequences" | 4097 | 
| palomino3 | Windows Server 2022 Datacenter | x64 | R Under development (unstable) (2022-02-17 r81757 ucrt) -- "Unsuffered Consequences" | 4083 | 
| merida1 | macOS 10.14.6 Mojave | x86_64 | R Under development (unstable) (2022-03-02 r81842) -- "Unsuffered Consequences" | 4134 | 
| Click on any hostname to see more info about the system (e.g. compilers) (*) as reported by 'uname -p', except on Windows and Mac OS X | ||||
| To the developers/maintainers of the HiCDCPlus package: - Please allow up to 24 hours (and sometimes 48 hours) for your latest push to git@git.bioconductor.org:packages/HiCDCPlus.git to reflect on this report. See How and When does the builder pull? When will my changes propagate? here for more information. - Make sure to use the following settings in order to reproduce any error or warning you see on this page. | 
| Package 871/2090 | Hostname | OS / Arch | INSTALL | BUILD | CHECK | BUILD BIN | ||||||||
| HiCDCPlus 1.3.3  (landing page) Merve Sahin 
 | nebbiolo1 | Linux (Ubuntu 20.04.4 LTS) / x86_64 | OK | OK | OK |  | ||||||||
| riesling1 | Windows Server 2019 Standard / x64 | OK | OK | OK | OK | |||||||||
| palomino3 | Windows Server 2022 Datacenter / x64 | OK | OK | OK | OK |  | ||||||||
| merida1 | macOS 10.14.6 Mojave / x86_64 | OK | OK | OK | OK |  | ||||||||
| Package: HiCDCPlus | 
| Version: 1.3.3 | 
| Command: D:\biocbuild\bbs-3.15-bioc\R\bin\R.exe CMD check --no-multiarch --install=check:HiCDCPlus.install-out.txt --library=D:\biocbuild\bbs-3.15-bioc\R\library --no-vignettes --timings HiCDCPlus_1.3.3.tar.gz | 
| StartedAt: 2022-03-17 19:18:50 -0400 (Thu, 17 Mar 2022) | 
| EndedAt: 2022-03-17 19:24:25 -0400 (Thu, 17 Mar 2022) | 
| EllapsedTime: 335.2 seconds | 
| RetCode: 0 | 
| Status: OK | 
| CheckDir: HiCDCPlus.Rcheck | 
| Warnings: 0 | 
##############################################################################
##############################################################################
###
### Running command:
###
###   D:\biocbuild\bbs-3.15-bioc\R\bin\R.exe CMD check --no-multiarch --install=check:HiCDCPlus.install-out.txt --library=D:\biocbuild\bbs-3.15-bioc\R\library --no-vignettes --timings HiCDCPlus_1.3.3.tar.gz
###
##############################################################################
##############################################################################
* using log directory 'D:/biocbuild/bbs-3.15-bioc/meat/HiCDCPlus.Rcheck'
* using R Under development (unstable) (2021-11-21 r81221)
* using platform: x86_64-w64-mingw32 (64-bit)
* using session charset: ISO8859-1
* using option '--no-vignettes'
* checking for file 'HiCDCPlus/DESCRIPTION' ... OK
* checking extension type ... Package
* this is package 'HiCDCPlus' version '1.3.3'
* package encoding: UTF-8
* checking package namespace information ... OK
* checking package dependencies ... OK
* checking if this is a source package ... OK
* checking if there is a namespace ... OK
* checking for hidden files and directories ... OK
* checking for portable file names ... OK
* checking whether package 'HiCDCPlus' can be installed ... OK
* checking installed package size ... OK
* checking package directory ... OK
* checking 'build' directory ... OK
* checking DESCRIPTION meta-information ... OK
* checking top-level files ... OK
* checking for left-over files ... OK
* checking index information ... OK
* checking package subdirectories ... OK
* checking R files for non-ASCII characters ... OK
* checking R files for syntax errors ... OK
* checking whether the package can be loaded ... OK
* checking whether the package can be loaded with stated dependencies ... OK
* checking whether the package can be unloaded cleanly ... OK
* checking whether the namespace can be loaded with stated dependencies ... OK
* checking whether the namespace can be unloaded cleanly ... OK
* checking dependencies in R code ... OK
* checking S3 generic/method consistency ... OK
* checking replacement functions ... OK
* checking foreign function calls ... OK
* checking R code for possible problems ... OK
* checking Rd files ... OK
* checking Rd metadata ... OK
* checking Rd cross-references ... OK
* checking for missing documentation entries ... OK
* checking for code/documentation mismatches ... OK
* checking Rd \usage sections ... OK
* checking Rd contents ... OK
* checking for unstated dependencies in examples ... OK
* checking line endings in C/C++/Fortran sources/headers ... OK
* checking line endings in Makefiles ... OK
* checking compilation flags in Makevars ... OK
* checking for GNU extensions in Makefiles ... OK
* checking for portable use of $(BLAS_LIBS) and $(LAPACK_LIBS) ... OK
* checking use of PKG_*FLAGS in Makefiles ... OK
* checking compiled code ... NOTE
Note: information on .o files for x64 is not available
File 'D:/biocbuild/bbs-3.15-bioc/R/library/HiCDCPlus/libs/x64/HiCDCPlus.dll':
  Found 'abort', possibly from 'abort' (C), 'runtime' (Fortran)
  Found 'exit', possibly from 'exit' (C), 'stop' (Fortran)
  Found 'printf', possibly from 'printf' (C)
Compiled code should not call entry points which might terminate R nor
write to stdout/stderr instead of to the console, nor use Fortran I/O
nor system RNGs. The detected symbols are linked into the code but
might come from libraries and not actually be called.
See 'Writing portable packages' in the 'Writing R Extensions' manual.
* checking files in 'vignettes' ... OK
* checking examples ... OK
Examples with CPU (user + system) or elapsed time > 5s
                            user system elapsed
construct_features          8.44   1.95   10.39
construct_features_chr      5.78   2.06    7.84
hicdcdiff                   7.39   0.38   12.27
HTClist2gi_list             7.20   0.37    8.64
hic2icenorm_gi_list         3.12   1.29    5.28
HiCDCPlus_parallel          0.53   0.05   11.39
extract_hic_eigenvectors    0.22   0.03    6.71
construct_features_parallel 0.02   0.00   21.11
* checking for unstated dependencies in 'tests' ... OK
* checking tests ...
  Running 'runTests.R'
 OK
* checking for unstated dependencies in vignettes ... OK
* checking package vignettes in 'inst/doc' ... OK
* checking running R code from vignettes ... SKIPPED
* checking re-building of vignette outputs ... SKIPPED
* checking PDF version of manual ... OK
* DONE
Status: 1 NOTE
See
  'D:/biocbuild/bbs-3.15-bioc/meat/HiCDCPlus.Rcheck/00check.log'
for details.
HiCDCPlus.Rcheck/00install.out
##############################################################################
##############################################################################
###
### Running command:
###
###   D:\biocbuild\bbs-3.15-bioc\R\bin\R.exe CMD INSTALL HiCDCPlus
###
##############################################################################
##############################################################################
* installing to library 'D:/biocbuild/bbs-3.15-bioc/R/library'
* installing *source* package 'HiCDCPlus' ...
** using staged installation
** libs
"C:/rtools40/mingw64/bin/"g++  -std=gnu++11 -I"D:/biocbuild/bbs-3.15-bioc/R/include" -DNDEBUG  -I'D:/biocbuild/bbs-3.15-bioc/R/library/Rcpp/include'   -I"C:/extsoft/include"     -O2 -Wall  -mfpmath=sse -msse2 -mstackrealign -fno-reorder-blocks-and-partition  -c RcppExports.cpp -o RcppExports.o
"C:/rtools40/mingw64/bin/"g++  -std=gnu++11 -I"D:/biocbuild/bbs-3.15-bioc/R/include" -DNDEBUG  -I'D:/biocbuild/bbs-3.15-bioc/R/library/Rcpp/include'   -I"C:/extsoft/include"     -O2 -Wall  -mfpmath=sse -msse2 -mstackrealign -fno-reorder-blocks-and-partition  -c straw.cpp -o straw.o
C:/rtools40/mingw64/bin/g++ -shared -s -static-libgcc -o HiCDCPlus.dll tmp.def RcppExports.o straw.o -lz -LC:/extsoft/lib/x64 -LC:/extsoft/lib -LD:/biocbuild/bbs-3.15-bioc/R/bin/x64 -lR
installing to D:/biocbuild/bbs-3.15-bioc/R/library/00LOCK-HiCDCPlus/00new/HiCDCPlus/libs/x64
** R
** inst
** byte-compile and prepare package for lazy loading
** help
*** installing help indices
  converting help for package 'HiCDCPlus'
    finding HTML links ... done
    HTClist2gi_list                         html  
    HiCDCPlus                               html  
    HiCDCPlus_chr                           html  
    HiCDCPlus_parallel                      html  
    add_1D_features                         html  
    add_2D_features                         html  
    add_hic_counts                          html  
    add_hicpro_allvalidpairs_counts         html  
    add_hicpro_matrix_counts                html  
    construct_features                      html  
    construct_features_chr                  html  
    construct_features_parallel             html  
    expand_1D_features                      html  
    extract_hic_eigenvectors                html  
    generate_binned_gi_list                 html  
    generate_bintolen_gi_list               html  
    generate_df_gi_list                     html  
    get_chr_sizes                           html  
    get_chrs                                html  
    get_enzyme_cutsites                     html  
    gi_list2HTClist                         html  
    gi_list_Dthreshold.detect               html  
    gi_list_binsize_detect                  html  
    gi_list_read                            html  
    gi_list_topdom                          html  
    gi_list_validate                        html  
    gi_list_write                           html  
    hic2icenorm_gi_list                     html  
    hicdc2hic                               html  
    hicdcdiff                               html  
    straw                                   html  
    straw_dump                              html  
*** copying figures
** building package indices
** installing vignettes
** testing if installed package can be loaded from temporary location
** testing if installed package can be loaded from final location
** testing if installed package keeps a record of temporary installation path
* DONE (HiCDCPlus)
Making 'packages.html' ...Warning in packageDescription(i, lib.loc = lib, fields = "Title", encoding = "UTF-8") :
  DESCRIPTION file of package 'treekoR' is missing or broken
 done
HiCDCPlus.Rcheck/tests/runTests.Rout
R Under development (unstable) (2021-11-21 r81221) -- "Unsuffered Consequences"
Copyright (C) 2021 The R Foundation for Statistical Computing
Platform: x86_64-w64-mingw32/x64 (64-bit)
R is free software and comes with ABSOLUTELY NO WARRANTY.
You are welcome to redistribute it under certain conditions.
Type 'license()' or 'licence()' for distribution details.
R is a collaborative project with many contributors.
Type 'contributors()' for more information and
'citation()' on how to cite R or R packages in publications.
Type 'demo()' for some demos, 'help()' for on-line help, or
'help.start()' for an HTML browser interface to help.
Type 'q()' to quit R.
> BiocGenerics:::testPackage("HiCDCPlus")
Loading required package: BSgenome
Loading required package: BiocGenerics
Attaching package: 'BiocGenerics'
The following objects are masked from 'package:stats':
    IQR, mad, sd, var, xtabs
The following objects are masked from 'package:base':
    Filter, Find, Map, Position, Reduce, anyDuplicated, append,
    as.data.frame, basename, cbind, colnames, dirname, do.call,
    duplicated, eval, evalq, get, grep, grepl, intersect, is.unsorted,
    lapply, mapply, match, mget, order, paste, pmax, pmax.int, pmin,
    pmin.int, rank, rbind, rownames, sapply, setdiff, sort, table,
    tapply, union, unique, unsplit, which.max, which.min
Loading required package: S4Vectors
Loading required package: stats4
Attaching package: 'S4Vectors'
The following objects are masked from 'package:base':
    I, expand.grid, unname
Loading required package: IRanges
Attaching package: 'IRanges'
The following object is masked from 'package:grDevices':
    windows
Loading required package: GenomeInfoDb
Loading required package: GenomicRanges
Loading required package: Biostrings
Loading required package: XVector
Attaching package: 'Biostrings'
The following object is masked from 'package:base':
    strsplit
Loading required package: rtracklayer
RUNIT TEST PROTOCOL -- Thu Mar 17 19:24:15 2022 
*********************************************** 
Number of test functions: 1 
Number of errors: 0 
Number of failures: 0 
 
1 Test Suite : 
HiCDCPlus RUnit Tests - 1 test function, 0 errors, 0 failures
Number of test functions: 1 
Number of errors: 0 
Number of failures: 0 
> 
> proc.time()
   user  system elapsed 
   7.71    0.53    8.20 
HiCDCPlus.Rcheck/HiCDCPlus-Ex.timings
| name | user | system | elapsed | |
| HTClist2gi_list | 7.20 | 0.37 | 8.64 | |
| HiCDCPlus | 1.96 | 0.11 | 3.25 | |
| HiCDCPlus_chr | 1.80 | 0.09 | 2.94 | |
| HiCDCPlus_parallel | 0.53 | 0.05 | 11.39 | |
| add_1D_features | 0.1 | 0.0 | 0.1 | |
| add_2D_features | 0.28 | 0.03 | 0.31 | |
| add_hic_counts | 0.68 | 0.10 | 1.78 | |
| construct_features | 8.44 | 1.95 | 10.39 | |
| construct_features_chr | 5.78 | 2.06 | 7.84 | |
| construct_features_parallel | 0.02 | 0.00 | 21.11 | |
| expand_1D_features | 0.06 | 0.00 | 0.07 | |
| extract_hic_eigenvectors | 0.22 | 0.03 | 6.71 | |
| generate_binned_gi_list | 0.16 | 0.03 | 0.19 | |
| generate_bintolen_gi_list | 1.20 | 0.18 | 2.10 | |
| generate_df_gi_list | 0.16 | 0.04 | 0.20 | |
| get_chr_sizes | 0.15 | 0.02 | 0.17 | |
| get_chrs | 0.17 | 0.00 | 0.17 | |
| get_enzyme_cutsites | 1.71 | 0.16 | 1.86 | |
| gi_list2HTClist | 0.68 | 0.04 | 1.94 | |
| gi_list_Dthreshold.detect | 0.27 | 0.03 | 0.30 | |
| gi_list_binsize_detect | 0.30 | 0.02 | 0.31 | |
| gi_list_read | 0.48 | 0.05 | 0.64 | |
| gi_list_topdom | 2.69 | 1.36 | 4.81 | |
| gi_list_validate | 0.22 | 0.03 | 0.25 | |
| gi_list_write | 0.22 | 0.00 | 0.22 | |
| hic2icenorm_gi_list | 3.12 | 1.29 | 5.28 | |
| hicdc2hic | 1.17 | 0.08 | 3.78 | |
| hicdcdiff | 7.39 | 0.38 | 12.27 | |