| Back to Multiple platform build/check report for BioC 3.15 |
|
This page was generated on 2022-10-19 13:23:05 -0400 (Wed, 19 Oct 2022).
| Hostname | OS | Arch (*) | R version | Installed pkgs |
|---|---|---|---|---|
| nebbiolo1 | Linux (Ubuntu 20.04.5 LTS) | x86_64 | 4.2.1 (2022-06-23) -- "Funny-Looking Kid" | 4386 |
| palomino3 | Windows Server 2022 Datacenter | x64 | 4.2.1 (2022-06-23 ucrt) -- "Funny-Looking Kid" | 4138 |
| merida1 | macOS 10.14.6 Mojave | x86_64 | 4.2.1 (2022-06-23) -- "Funny-Looking Kid" | 4205 |
| Click on any hostname to see more info about the system (e.g. compilers) (*) as reported by 'uname -p', except on Windows and Mac OS X | ||||
|
To the developers/maintainers of the HiCDCPlus package: - Please allow up to 24 hours (and sometimes 48 hours) for your latest push to git@git.bioconductor.org:packages/HiCDCPlus.git to reflect on this report. See How and When does the builder pull? When will my changes propagate? for more information. - Make sure to use the following settings in order to reproduce any error or warning you see on this page. |
| Package 893/2140 | Hostname | OS / Arch | INSTALL | BUILD | CHECK | BUILD BIN | ||||||||
| HiCDCPlus 1.4.2 (landing page) Merve Sahin
| nebbiolo1 | Linux (Ubuntu 20.04.5 LTS) / x86_64 | OK | OK | OK | |||||||||
| palomino3 | Windows Server 2022 Datacenter / x64 | OK | OK | OK | OK | |||||||||
| merida1 | macOS 10.14.6 Mojave / x86_64 | OK | OK | OK | OK | |||||||||
| Package: HiCDCPlus |
| Version: 1.4.2 |
| Command: rm -rf HiCDCPlus.buildbin-libdir && mkdir HiCDCPlus.buildbin-libdir && /Users/biocbuild/BBS/utils/build-universal.sh HiCDCPlus_1.4.2.tar.gz /Library/Frameworks/R.framework/Resources/bin/R HiCDCPlus.buildbin-libdir |
| StartedAt: 2022-10-19 10:30:35 -0400 (Wed, 19 Oct 2022) |
| EndedAt: 2022-10-19 10:32:06 -0400 (Wed, 19 Oct 2022) |
| EllapsedTime: 90.9 seconds |
| RetCode: 0 |
| Status: OK |
| PackageFile: HiCDCPlus_1.4.2.tgz |
| PackageFileSize: 1.417 MiB |
############################################################################## ############################################################################## ### ### Running command: ### ### rm -rf HiCDCPlus.buildbin-libdir && mkdir HiCDCPlus.buildbin-libdir && /Users/biocbuild/BBS/utils/build-universal.sh HiCDCPlus_1.4.2.tar.gz /Library/Frameworks/R.framework/Resources/bin/R HiCDCPlus.buildbin-libdir ### ############################################################################## ############################################################################## >>>>>>> >>>>>>> INSTALLATION WITH 'R CMD INSTALL --preclean --no-multiarch --library=HiCDCPlus.buildbin-libdir HiCDCPlus_1.4.2.tar.gz' >>>>>>> * installing *source* package ‘HiCDCPlus’ ... ** using staged installation ** libs clang++ -mmacosx-version-min=10.13 -std=gnu++11 -I"/Library/Frameworks/R.framework/Resources/include" -DNDEBUG -I'/Library/Frameworks/R.framework/Versions/4.2/Resources/library/Rcpp/include' -I/usr/local/include -fPIC -Wall -g -O2 -c RcppExports.cpp -o RcppExports.o clang++ -mmacosx-version-min=10.13 -std=gnu++11 -I"/Library/Frameworks/R.framework/Resources/include" -DNDEBUG -I'/Library/Frameworks/R.framework/Versions/4.2/Resources/library/Rcpp/include' -I/usr/local/include -fPIC -Wall -g -O2 -c straw.cpp -o straw.o clang++ -mmacosx-version-min=10.13 -std=gnu++11 -dynamiclib -Wl,-headerpad_max_install_names -undefined dynamic_lookup -single_module -multiply_defined suppress -L/Library/Frameworks/R.framework/Resources/lib -L/usr/local/lib -o HiCDCPlus.so RcppExports.o straw.o -lz -F/Library/Frameworks/R.framework/.. -framework R -Wl,-framework -Wl,CoreFoundation installing to /Users/biocbuild/bbs-3.15-bioc/meat/HiCDCPlus.buildbin-libdir/00LOCK-HiCDCPlus/00new/HiCDCPlus/libs ** R ** inst ** byte-compile and prepare package for lazy loading ** help *** installing help indices *** copying figures ** building package indices ** installing vignettes ** testing if installed package can be loaded from temporary location ** checking absolute paths in shared objects and dynamic libraries ** testing if installed package can be loaded from final location ** testing if installed package keeps a record of temporary installation path * DONE (HiCDCPlus) >>>>>>> >>>>>>> FIXING LINKS FOR HiCDCPlus.buildbin-libdir/HiCDCPlus/libs/HiCDCPlus.so >>>>>>> install_name_tool -change "/usr/local/lib/libgcc_s.1.dylib" "/Library/Frameworks/R.framework/Versions/4.2/Resources/lib/libgcc_s.1.dylib" "HiCDCPlus.buildbin-libdir/HiCDCPlus/libs/HiCDCPlus.so" install_name_tool -change "/usr/local/lib/libgfortran.5.dylib" "/Library/Frameworks/R.framework/Versions/4.2/Resources/lib/libgfortran.5.dylib" "HiCDCPlus.buildbin-libdir/HiCDCPlus/libs/HiCDCPlus.so" install_name_tool -change "/usr/local/lib/libquadmath.0.dylib" "/Library/Frameworks/R.framework/Versions/4.2/Resources/lib/libquadmath.0.dylib" "HiCDCPlus.buildbin-libdir/HiCDCPlus/libs/HiCDCPlus.so"