| Back to Multiple platform build/check report for BioC 3.15 |
|
This page was generated on 2022-03-18 11:07:34 -0400 (Fri, 18 Mar 2022).
| Hostname | OS | Arch (*) | R version | Installed pkgs |
|---|---|---|---|---|
| nebbiolo1 | Linux (Ubuntu 20.04.4 LTS) | x86_64 | R Under development (unstable) (2022-02-17 r81757) -- "Unsuffered Consequences" | 4334 |
| riesling1 | Windows Server 2019 Standard | x64 | R Under development (unstable) (2021-11-21 r81221) -- "Unsuffered Consequences" | 4097 |
| palomino3 | Windows Server 2022 Datacenter | x64 | R Under development (unstable) (2022-02-17 r81757 ucrt) -- "Unsuffered Consequences" | 4083 |
| merida1 | macOS 10.14.6 Mojave | x86_64 | R Under development (unstable) (2022-03-02 r81842) -- "Unsuffered Consequences" | 4134 |
| Click on any hostname to see more info about the system (e.g. compilers) (*) as reported by 'uname -p', except on Windows and Mac OS X | ||||
|
To the developers/maintainers of the GCSConnection package: - Please allow up to 24 hours (and sometimes 48 hours) for your latest push to git@git.bioconductor.org:packages/GCSConnection.git to reflect on this report. See How and When does the builder pull? When will my changes propagate? here for more information. - Make sure to use the following settings in order to reproduce any error or warning you see on this page. |
| Package 709/2090 | Hostname | OS / Arch | INSTALL | BUILD | CHECK | BUILD BIN | ||||||||
Jiefei Wang
| nebbiolo1 | Linux (Ubuntu 20.04.4 LTS) / x86_64 | OK | OK | ERROR | |||||||||
| riesling1 | Windows Server 2019 Standard / x64 | OK | OK | ERROR | OK | |||||||||
| palomino3 | Windows Server 2022 Datacenter / x64 | OK | OK | ERROR | OK | |||||||||
| merida1 | macOS 10.14.6 Mojave / x86_64 | OK | OK | ERROR | OK | |||||||||
| Package: GCSConnection |
| Version: 1.7.1 |
| Command: rm -rf GCSConnection.buildbin-libdir && mkdir GCSConnection.buildbin-libdir && D:\biocbuild\bbs-3.15-bioc\R\bin\R.exe CMD INSTALL --build --library=GCSConnection.buildbin-libdir GCSConnection_1.7.1.tar.gz |
| StartedAt: 2022-03-17 21:09:29 -0400 (Thu, 17 Mar 2022) |
| EndedAt: 2022-03-17 21:11:04 -0400 (Thu, 17 Mar 2022) |
| EllapsedTime: 94.8 seconds |
| RetCode: 0 |
| Status: OK |
| PackageFile: GCSConnection_1.7.1.zip |
| PackageFileSize: 880.4 KiB |
##############################################################################
##############################################################################
###
### Running command:
###
### rm -rf GCSConnection.buildbin-libdir && mkdir GCSConnection.buildbin-libdir && D:\biocbuild\bbs-3.15-bioc\R\bin\R.exe CMD INSTALL --build --library=GCSConnection.buildbin-libdir GCSConnection_1.7.1.tar.gz
###
##############################################################################
##############################################################################
* installing *source* package 'GCSConnection' ...
** using staged installation
** libs
"C:/rtools40/mingw64/bin/"g++ -std=gnu++11 -I"D:/biocbuild/bbs-3.15-bioc/R/include" -DNDEBUG -I'D:/biocbuild/bbs-3.15-bioc/R/library/Rcpp/include' -I"C:/extsoft/include" -O2 -Wall -mfpmath=sse -msse2 -mstackrealign -fno-reorder-blocks-and-partition -c C_interface.cpp -o C_interface.o
"C:/rtools40/mingw64/bin/"g++ -std=gnu++11 -I"D:/biocbuild/bbs-3.15-bioc/R/include" -DNDEBUG -I'D:/biocbuild/bbs-3.15-bioc/R/library/Rcpp/include' -I"C:/extsoft/include" -O2 -Wall -mfpmath=sse -msse2 -mstackrealign -fno-reorder-blocks-and-partition -c RcppExports.cpp -o RcppExports.o
"C:/rtools40/mingw64/bin/"g++ -std=gnu++11 -I"D:/biocbuild/bbs-3.15-bioc/R/include" -DNDEBUG -I'D:/biocbuild/bbs-3.15-bioc/R/library/Rcpp/include' -I"C:/extsoft/include" -O2 -Wall -mfpmath=sse -msse2 -mstackrealign -fno-reorder-blocks-and-partition -c altrep.cpp -o altrep.o
"C:/rtools40/mingw64/bin/"g++ -std=gnu++11 -I"D:/biocbuild/bbs-3.15-bioc/R/include" -DNDEBUG -I'D:/biocbuild/bbs-3.15-bioc/R/library/Rcpp/include' -I"C:/extsoft/include" -O2 -Wall -mfpmath=sse -msse2 -mstackrealign -fno-reorder-blocks-and-partition -c connection.cpp -o connection.o
"C:/rtools40/mingw64/bin/"g++ -std=gnu++11 -I"D:/biocbuild/bbs-3.15-bioc/R/include" -DNDEBUG -I'D:/biocbuild/bbs-3.15-bioc/R/library/Rcpp/include' -I"C:/extsoft/include" -O2 -Wall -mfpmath=sse -msse2 -mstackrealign -fno-reorder-blocks-and-partition -c utils.cpp -o utils.o
C:/rtools40/mingw64/bin/g++ -shared -s -static-libgcc -o GCSConnection.dll tmp.def C_interface.o RcppExports.o altrep.o connection.o utils.o -LC:/extsoft/lib/x64 -LC:/extsoft/lib -LD:/biocbuild/bbs-3.15-bioc/R/bin/x64 -lR
installing to D:/biocbuild/bbs-3.15-bioc/meat/GCSConnection.buildbin-libdir/00LOCK-GCSConnection/00new/GCSConnection/libs/x64
** R
** inst
** byte-compile and prepare package for lazy loading
** help
*** installing help indices
converting help for package 'GCSConnection'
finding HTML links ... done
FileClass-class html
FolderClass-class html
as.character-FileClass-method html
as.character-FolderClass-method html
authentication html
buffer_size html
gcs_connection html
gcs_cp html
gcs_dir html
gcs_rm html
names-FileClass-method html
names-FolderClass-method html
requester_pays html
show-FileClass-method html
show-FolderClass-method html
subset-FileClass-method html
subset-FolderClass-method html
** building package indices
** installing vignettes
** testing if installed package can be loaded from temporary location
Warning: Package 'GCSConnection' is deprecated and will be removed from
Bioconductor version 3.16
** testing if installed package can be loaded from final location
Warning: Package 'GCSConnection' is deprecated and will be removed from
Bioconductor version 3.16
** testing if installed package keeps a record of temporary installation path
* MD5 sums
packaged installation of 'GCSConnection' as GCSConnection_1.7.1.zip
* DONE (GCSConnection)