Back to Multiple platform build/check report for BioC 3.13 |
|
This page was generated on 2021-10-15 15:06:07 -0400 (Fri, 15 Oct 2021).
To the developers/maintainers of the h5vc package: - Please allow up to 24 hours (and sometimes 48 hours) for your latest push to git@git.bioconductor.org:packages/h5vc.git to reflect on this report. See How and When does the builder pull? When will my changes propagate? here for more information. - Make sure to use the following settings in order to reproduce any error or warning you see on this page. |
Package 837/2041 | Hostname | OS / Arch | INSTALL | BUILD | CHECK | BUILD BIN | ||||||||
h5vc 2.26.1 (landing page) Paul Theodor Pyl
| nebbiolo1 | Linux (Ubuntu 20.04.2 LTS) / x86_64 | OK | OK | WARNINGS | ![]() | ||||||||
tokay2 | Windows Server 2012 R2 Standard / x64 | OK | OK | WARNINGS | OK | ![]() | ||||||||
machv2 | macOS 10.14.6 Mojave / x86_64 | OK | OK | WARNINGS | OK | ![]() | ||||||||
Package: h5vc |
Version: 2.26.1 |
Command: chmod a+r h5vc -R && C:\Users\biocbuild\bbs-3.13-bioc\R\bin\R.exe CMD build --keep-empty-dirs --no-resave-data h5vc |
StartedAt: 2021-10-14 14:48:06 -0400 (Thu, 14 Oct 2021) |
EndedAt: 2021-10-14 14:50:13 -0400 (Thu, 14 Oct 2021) |
EllapsedTime: 127.0 seconds |
RetCode: 0 |
Status: OK |
PackageFile: h5vc_2.26.1.tar.gz |
PackageFileSize: 1011 KiB |
############################################################################## ############################################################################## ### ### Running command: ### ### chmod a+r h5vc -R && C:\Users\biocbuild\bbs-3.13-bioc\R\bin\R.exe CMD build --keep-empty-dirs --no-resave-data h5vc ### ############################################################################## ############################################################################## * checking for file 'h5vc/DESCRIPTION' ... OK * preparing 'h5vc': * checking DESCRIPTION meta-information ... OK * cleaning src * installing the package to build vignettes * creating vignettes ... OK * cleaning src * checking for LF line-endings in source and make files and shell scripts * checking for empty or unneeded directories * looking to see if a 'data/datalist' file should be added * building 'h5vc_2.26.1.tar.gz'