| Back to Multiple platform build/check report for BioC 3.13 | 
  | 
This page was generated on 2021-10-15 15:06:38 -0400 (Fri, 15 Oct 2021).
| 
To the developers/maintainers of the h5vc package: - Please allow up to 24 hours (and sometimes 48 hours) for your latest push to git@git.bioconductor.org:packages/h5vc.git to reflect on this report. See How and When does the builder pull? When will my changes propagate? here for more information. - Make sure to use the following settings in order to reproduce any error or warning you see on this page.  | 
| Package 837/2041 | Hostname | OS / Arch | INSTALL | BUILD | CHECK | BUILD BIN | ||||||||
| h5vc 2.26.1  (landing page) Paul Theodor Pyl 
  | nebbiolo1 | Linux (Ubuntu 20.04.2 LTS) / x86_64 | OK | OK | WARNINGS | |||||||||
| tokay2 | Windows Server 2012 R2 Standard / x64 | OK | OK | WARNINGS | OK | |||||||||
| machv2 | macOS 10.14.6 Mojave / x86_64 | OK | OK | WARNINGS | OK | |||||||||
| Package: h5vc | 
| Version: 2.26.1 | 
| Command: /Library/Frameworks/R.framework/Versions/Current/Resources/bin/R CMD INSTALL h5vc | 
| StartedAt: 2021-10-14 08:50:33 -0400 (Thu, 14 Oct 2021) | 
| EndedAt: 2021-10-14 08:51:22 -0400 (Thu, 14 Oct 2021) | 
| EllapsedTime: 48.7 seconds | 
| RetCode: 0 | 
| Status: OK | 
##############################################################################
##############################################################################
###
### Running command:
###
###   /Library/Frameworks/R.framework/Versions/Current/Resources/bin/R CMD INSTALL h5vc
###
##############################################################################
##############################################################################
* installing to library ‘/Library/Frameworks/R.framework/Versions/4.1/Resources/library’
* installing *source* package ‘h5vc’ ...
** using staged installation
** libs
clang -mmacosx-version-min=10.13 -I"/Library/Frameworks/R.framework/Resources/include" -DNDEBUG -D_FILE_OFFSET_BITS=64 -I'/Library/Frameworks/R.framework/Versions/4.1/Resources/library/Rhtslib/include' -I/usr/local/include   -fPIC  -Wall -g -O2  -c bam.c -o bam.o
clang -mmacosx-version-min=10.13 -I"/Library/Frameworks/R.framework/Resources/include" -DNDEBUG -D_FILE_OFFSET_BITS=64 -I'/Library/Frameworks/R.framework/Versions/4.1/Resources/library/Rhtslib/include' -I/usr/local/include   -fPIC  -Wall -g -O2  -c bam_plbuf.c -o bam_plbuf.o
clang -mmacosx-version-min=10.13 -I"/Library/Frameworks/R.framework/Resources/include" -DNDEBUG -D_FILE_OFFSET_BITS=64 -I'/Library/Frameworks/R.framework/Versions/4.1/Resources/library/Rhtslib/include' -I/usr/local/include   -fPIC  -Wall -g -O2  -c sam.c -o sam.o
clang++ -mmacosx-version-min=10.13 -std=gnu++14 -I"/Library/Frameworks/R.framework/Resources/include" -DNDEBUG -D_FILE_OFFSET_BITS=64 -I'/Library/Frameworks/R.framework/Versions/4.1/Resources/library/Rhtslib/include' -I/usr/local/include   -fPIC  -Wall -g -O2  -c tallyBAM.cpp -o tallyBAM.o
tallyBAM.cpp:47:7: warning: unused variable 'len' [-Wunused-variable]
  int len = nttable->end - nttable->beg;
      ^
tallyBAM.cpp:60:18: warning: variable 'c' is used uninitialized whenever 'if' condition is false [-Wsometimes-uninitialized]
        }else if(p->indel > 0){
                 ^~~~~~~~~~~~
tallyBAM.cpp:64:16: note: uninitialized use occurs here
        str += c;
               ^
tallyBAM.cpp:60:15: note: remove the 'if' if its condition is always true
        }else if(p->indel > 0){
              ^~~~~~~~~~~~~~~~
tallyBAM.cpp:55:15: note: initialize the variable 'c' to silence this warning
        char c;
              ^
               = '\0'
tallyBAM.cpp:96:7: warning: unused variable 'len' [-Wunused-variable]
  int len = nttable->end - nttable->beg;
      ^
tallyBAM.cpp:140:6: warning: unused variable 'c' [-Wunused-variable]
        int c = 0;
            ^
tallyBAM.cpp:43:12: warning: unused function 'pileup_func_old' [-Wunused-function]
static int pileup_func_old(uint32_t tid, uint32_t pos, int n, const bam_pileup1_t *pl, void *data)
           ^
5 warnings generated.
clang++ -mmacosx-version-min=10.13 -std=gnu++14 -dynamiclib -Wl,-headerpad_max_install_names -undefined dynamic_lookup -single_module -multiply_defined suppress -L/Library/Frameworks/R.framework/Resources/lib -L/usr/local/lib -o h5vc.so bam.o bam_plbuf.o sam.o tallyBAM.o /Library/Frameworks/R.framework/Versions/4.1/Resources/library/Rhtslib/usrlib/libhts.a -lcurl -F/Library/Frameworks/R.framework/.. -framework R -Wl,-framework -Wl,CoreFoundation
installing to /Library/Frameworks/R.framework/Versions/4.1/Resources/library/00LOCK-h5vc/00new/h5vc/libs
** R
** data
** inst
** byte-compile and prepare package for lazy loading
Warning: replacing previous import ‘Biostrings::pattern’ by ‘grid::pattern’ when loading ‘h5vc’
** help
*** installing help indices
** building package indices
** installing vignettes
   ‘h5vc.simple.genome.browser.Rmd’ 
   ‘h5vc.tour.Rmd’ 
** testing if installed package can be loaded from temporary location
Warning: replacing previous import ‘Biostrings::pattern’ by ‘grid::pattern’ when loading ‘h5vc’
** checking absolute paths in shared objects and dynamic libraries
** testing if installed package can be loaded from final location
Warning: replacing previous import ‘Biostrings::pattern’ by ‘grid::pattern’ when loading ‘h5vc’
** testing if installed package keeps a record of temporary installation path
* DONE (h5vc)