| Back to Multiple platform build/check report for BioC 3.13 |
|
This page was generated on 2021-10-15 15:05:42 -0400 (Fri, 15 Oct 2021).
|
To the developers/maintainers of the h5vc package: - Please allow up to 24 hours (and sometimes 48 hours) for your latest push to git@git.bioconductor.org:packages/h5vc.git to reflect on this report. See How and When does the builder pull? When will my changes propagate? here for more information. - Make sure to use the following settings in order to reproduce any error or warning you see on this page. |
| Package 837/2041 | Hostname | OS / Arch | INSTALL | BUILD | CHECK | BUILD BIN | ||||||||
| h5vc 2.26.1 (landing page) Paul Theodor Pyl
| nebbiolo1 | Linux (Ubuntu 20.04.2 LTS) / x86_64 | OK | OK | WARNINGS | |||||||||
| tokay2 | Windows Server 2012 R2 Standard / x64 | OK | OK | WARNINGS | OK | |||||||||
| machv2 | macOS 10.14.6 Mojave / x86_64 | OK | OK | WARNINGS | OK | |||||||||
| Package: h5vc |
| Version: 2.26.1 |
| Command: /home/biocbuild/bbs-3.13-bioc/R/bin/R CMD INSTALL h5vc |
| StartedAt: 2021-10-14 06:10:37 -0400 (Thu, 14 Oct 2021) |
| EndedAt: 2021-10-14 06:10:55 -0400 (Thu, 14 Oct 2021) |
| EllapsedTime: 18.7 seconds |
| RetCode: 0 |
| Status: OK |
##############################################################################
##############################################################################
###
### Running command:
###
### /home/biocbuild/bbs-3.13-bioc/R/bin/R CMD INSTALL h5vc
###
##############################################################################
##############################################################################
* installing to library ‘/home/biocbuild/bbs-3.13-bioc/R/library’
* installing *source* package ‘h5vc’ ...
** using staged installation
** libs
gcc -I"/home/biocbuild/bbs-3.13-bioc/R/include" -DNDEBUG -D_FILE_OFFSET_BITS=64 -I'/home/biocbuild/bbs-3.13-bioc/R/library/Rhtslib/include' -I/usr/local/include -fpic -g -O2 -Wall -c bam.c -o bam.o
gcc -I"/home/biocbuild/bbs-3.13-bioc/R/include" -DNDEBUG -D_FILE_OFFSET_BITS=64 -I'/home/biocbuild/bbs-3.13-bioc/R/library/Rhtslib/include' -I/usr/local/include -fpic -g -O2 -Wall -c bam_plbuf.c -o bam_plbuf.o
gcc -I"/home/biocbuild/bbs-3.13-bioc/R/include" -DNDEBUG -D_FILE_OFFSET_BITS=64 -I'/home/biocbuild/bbs-3.13-bioc/R/library/Rhtslib/include' -I/usr/local/include -fpic -g -O2 -Wall -c sam.c -o sam.o
g++ -std=gnu++14 -I"/home/biocbuild/bbs-3.13-bioc/R/include" -DNDEBUG -D_FILE_OFFSET_BITS=64 -I'/home/biocbuild/bbs-3.13-bioc/R/library/Rhtslib/include' -I/usr/local/include -fpic -g -O2 -Wall -c tallyBAM.cpp -o tallyBAM.o
tallyBAM.cpp: In function ‘int pileup_func_old(uint32_t, uint32_t, int, const bam_pileup1_t*, void*)’:
tallyBAM.cpp:47:7: warning: unused variable ‘len’ [-Wunused-variable]
47 | int len = nttable->end - nttable->beg;
| ^~~
tallyBAM.cpp: In function ‘int pileup_func(uint32_t, uint32_t, int, const bam_pileup1_t*, void*)’:
tallyBAM.cpp:96:7: warning: unused variable ‘len’ [-Wunused-variable]
96 | int len = nttable->end - nttable->beg;
| ^~~
tallyBAM.cpp: In function ‘int _tallyBAM(char**, char**, int*, int*, int*, int*, int*, int*, int*, int*)’:
tallyBAM.cpp:140:6: warning: unused variable ‘c’ [-Wunused-variable]
140 | int c = 0;
| ^
tallyBAM.cpp: At global scope:
tallyBAM.cpp:43:12: warning: ‘int pileup_func_old(uint32_t, uint32_t, int, const bam_pileup1_t*, void*)’ defined but not used [-Wunused-function]
43 | static int pileup_func_old(uint32_t tid, uint32_t pos, int n, const bam_pileup1_t *pl, void *data)
| ^~~~~~~~~~~~~~~
g++ -std=gnu++14 -shared -L/home/biocbuild/bbs-3.13-bioc/R/lib -L/usr/local/lib -o h5vc.so bam.o bam_plbuf.o sam.o tallyBAM.o /home/biocbuild/bbs-3.13-bioc/R/library/Rhtslib/usrlib/libhts.a -lcurl -L/home/biocbuild/bbs-3.13-bioc/R/lib -lR
installing to /home/biocbuild/bbs-3.13-bioc/R/library/00LOCK-h5vc/00new/h5vc/libs
** R
** data
** inst
** byte-compile and prepare package for lazy loading
Warning: replacing previous import ‘Biostrings::pattern’ by ‘grid::pattern’ when loading ‘h5vc’
** help
*** installing help indices
** building package indices
** installing vignettes
‘h5vc.simple.genome.browser.Rmd’
‘h5vc.tour.Rmd’
** testing if installed package can be loaded from temporary location
Warning: replacing previous import ‘Biostrings::pattern’ by ‘grid::pattern’ when loading ‘h5vc’
** checking absolute paths in shared objects and dynamic libraries
** testing if installed package can be loaded from final location
Warning: replacing previous import ‘Biostrings::pattern’ by ‘grid::pattern’ when loading ‘h5vc’
** testing if installed package keeps a record of temporary installation path
* DONE (h5vc)