| Back to Multiple platform build/check report for BioC 3.13 |
|
This page was generated on 2021-10-15 15:06:25 -0400 (Fri, 15 Oct 2021).
|
To the developers/maintainers of the TimeSeriesExperiment package: - Please allow up to 24 hours (and sometimes 48 hours) for your latest push to git@git.bioconductor.org:packages/TimeSeriesExperiment.git to reflect on this report. See How and When does the builder pull? When will my changes propagate? here for more information. - Make sure to use the following settings in order to reproduce any error or warning you see on this page. |
| Package 1921/2041 | Hostname | OS / Arch | INSTALL | BUILD | CHECK | BUILD BIN | ||||||||
| TimeSeriesExperiment 1.10.1 (landing page) Lan Huong Nguyen
| nebbiolo1 | Linux (Ubuntu 20.04.2 LTS) / x86_64 | OK | OK | OK | |||||||||
| tokay2 | Windows Server 2012 R2 Standard / x64 | OK | OK | OK | OK | |||||||||
| machv2 | macOS 10.14.6 Mojave / x86_64 | OK | OK | OK | OK | |||||||||
| Package: TimeSeriesExperiment |
| Version: 1.10.1 |
| Command: C:\cygwin\bin\curl.exe -O http://155.52.207.165/BBS/3.13/bioc/src/contrib/TimeSeriesExperiment_1.10.1.tar.gz && rm -rf TimeSeriesExperiment.buildbin-libdir && mkdir TimeSeriesExperiment.buildbin-libdir && C:\Users\biocbuild\bbs-3.13-bioc\R\bin\R.exe CMD INSTALL --merge-multiarch --build --library=TimeSeriesExperiment.buildbin-libdir TimeSeriesExperiment_1.10.1.tar.gz && C:\Users\biocbuild\bbs-3.13-bioc\R\bin\R.exe CMD INSTALL TimeSeriesExperiment_1.10.1.zip && rm TimeSeriesExperiment_1.10.1.tar.gz TimeSeriesExperiment_1.10.1.zip |
| StartedAt: 2021-10-14 09:32:12 -0400 (Thu, 14 Oct 2021) |
| EndedAt: 2021-10-14 09:33:40 -0400 (Thu, 14 Oct 2021) |
| EllapsedTime: 87.6 seconds |
| RetCode: 0 |
| Status: OK |
##############################################################################
##############################################################################
###
### Running command:
###
### C:\cygwin\bin\curl.exe -O http://155.52.207.165/BBS/3.13/bioc/src/contrib/TimeSeriesExperiment_1.10.1.tar.gz && rm -rf TimeSeriesExperiment.buildbin-libdir && mkdir TimeSeriesExperiment.buildbin-libdir && C:\Users\biocbuild\bbs-3.13-bioc\R\bin\R.exe CMD INSTALL --merge-multiarch --build --library=TimeSeriesExperiment.buildbin-libdir TimeSeriesExperiment_1.10.1.tar.gz && C:\Users\biocbuild\bbs-3.13-bioc\R\bin\R.exe CMD INSTALL TimeSeriesExperiment_1.10.1.zip && rm TimeSeriesExperiment_1.10.1.tar.gz TimeSeriesExperiment_1.10.1.zip
###
##############################################################################
##############################################################################
% Total % Received % Xferd Average Speed Time Time Time Current
Dload Upload Total Spent Left Speed
0 0 0 0 0 0 0 0 --:--:-- --:--:-- --:--:-- 0
82 623k 82 512k 0 0 880k 0 --:--:-- --:--:-- --:--:-- 881k
100 623k 100 623k 0 0 899k 0 --:--:-- --:--:-- --:--:-- 899k
install for i386
* installing *source* package 'TimeSeriesExperiment' ...
** using staged installation
** R
** data
** inst
** byte-compile and prepare package for lazy loading
** help
*** installing help indices
converting help for package 'TimeSeriesExperiment'
finding HTML links ... done
TimeSeriesExperiment html
finding level-2 HTML links ... done
addLags html
assignClusterDynamic html
assignClusterStatic html
clusterAssignment html
clusterData html
clusterTimeSeries html
colData html
collapseReplicates html
collapsed-data html
dataToTimeSeries html
differentialExpression html
dimensionReduction html
dot-addLagsToTimeSeries html
dot-imputeData html
endoderm_small html
filterFeatures html
groups html
makeTimeSeries html
makeTimeSeriesExperimentFromExpressionSet
html
makeTimeSeriesExperimentFromSummarizedExperiment
html
meltMatrix html
normalizeData html
pathwayEnrichment html
pipe html
plotEnrichment html
plotHeatmap html
plotSamplePCA html
plotTimeSeries html
plotTimeSeriesClusters html
plotTimeSeriesPCA html
replicates html
rowData html
row_and_colnames html
runPCA html
show-methods html
timeSeries html
timepointDE html
timepoints html
trajectoryDE html
varianceStabilization html
** building package indices
** installing vignettes
** testing if installed package can be loaded from temporary location
** testing if installed package can be loaded from final location
** testing if installed package keeps a record of temporary installation path
install for x64
* installing *source* package 'TimeSeriesExperiment' ...
** testing if installed package can be loaded
* MD5 sums
packaged installation of 'TimeSeriesExperiment' as TimeSeriesExperiment_1.10.1.zip
* DONE (TimeSeriesExperiment)
* installing to library 'C:/Users/biocbuild/bbs-3.13-bioc/R/library'
package 'TimeSeriesExperiment' successfully unpacked and MD5 sums checked