Back to Multiple platform build/check report for BioC 3.13 |
|
This page was generated on 2021-10-15 15:06:56 -0400 (Fri, 15 Oct 2021).
To the developers/maintainers of the TimeSeriesExperiment package: - Please allow up to 24 hours (and sometimes 48 hours) for your latest push to git@git.bioconductor.org:packages/TimeSeriesExperiment.git to reflect on this report. See How and When does the builder pull? When will my changes propagate? here for more information. - Make sure to use the following settings in order to reproduce any error or warning you see on this page. |
Package 1921/2041 | Hostname | OS / Arch | INSTALL | BUILD | CHECK | BUILD BIN | ||||||||
TimeSeriesExperiment 1.10.1 (landing page) Lan Huong Nguyen
| nebbiolo1 | Linux (Ubuntu 20.04.2 LTS) / x86_64 | OK | OK | OK | ![]() | ||||||||
tokay2 | Windows Server 2012 R2 Standard / x64 | OK | OK | OK | OK | ![]() | ||||||||
machv2 | macOS 10.14.6 Mojave / x86_64 | OK | OK | OK | OK | ![]() | ||||||||
Package: TimeSeriesExperiment |
Version: 1.10.1 |
Command: /Library/Frameworks/R.framework/Versions/Current/Resources/bin/R CMD check --install=check:TimeSeriesExperiment.install-out.txt --library=/Library/Frameworks/R.framework/Versions/Current/Resources/library --no-vignettes --timings TimeSeriesExperiment_1.10.1.tar.gz |
StartedAt: 2021-10-15 00:45:13 -0400 (Fri, 15 Oct 2021) |
EndedAt: 2021-10-15 00:50:22 -0400 (Fri, 15 Oct 2021) |
EllapsedTime: 308.7 seconds |
RetCode: 0 |
Status: OK |
CheckDir: TimeSeriesExperiment.Rcheck |
Warnings: 0 |
############################################################################## ############################################################################## ### ### Running command: ### ### /Library/Frameworks/R.framework/Versions/Current/Resources/bin/R CMD check --install=check:TimeSeriesExperiment.install-out.txt --library=/Library/Frameworks/R.framework/Versions/Current/Resources/library --no-vignettes --timings TimeSeriesExperiment_1.10.1.tar.gz ### ############################################################################## ############################################################################## * using log directory ‘/Users/biocbuild/bbs-3.13-bioc/meat/TimeSeriesExperiment.Rcheck’ * using R version 4.1.1 (2021-08-10) * using platform: x86_64-apple-darwin17.0 (64-bit) * using session charset: UTF-8 * using option ‘--no-vignettes’ * checking for file ‘TimeSeriesExperiment/DESCRIPTION’ ... OK * checking extension type ... Package * this is package ‘TimeSeriesExperiment’ version ‘1.10.1’ * package encoding: UTF-8 * checking package namespace information ... OK * checking package dependencies ... OK * checking if this is a source package ... OK * checking if there is a namespace ... OK * checking for hidden files and directories ... NOTE Found the following hidden files and directories: .git_fetch_output.txt .git_merge_output.txt These were most likely included in error. See section ‘Package structure’ in the ‘Writing R Extensions’ manual. * checking for portable file names ... OK * checking for sufficient/correct file permissions ... OK * checking whether package ‘TimeSeriesExperiment’ can be installed ... OK * checking installed package size ... OK * checking package directory ... OK * checking ‘build’ directory ... OK * checking DESCRIPTION meta-information ... OK * checking top-level files ... OK * checking for left-over files ... OK * checking index information ... OK * checking package subdirectories ... OK * checking R files for non-ASCII characters ... OK * checking R files for syntax errors ... OK * checking whether the package can be loaded ... OK * checking whether the package can be loaded with stated dependencies ... OK * checking whether the package can be unloaded cleanly ... OK * checking whether the namespace can be loaded with stated dependencies ... OK * checking whether the namespace can be unloaded cleanly ... OK * checking dependencies in R code ... NOTE Unexported object imported by a ':::' call: ‘S4Vectors:::selectSome’ See the note in ?`:::` about the use of this operator. * checking S3 generic/method consistency ... OK * checking replacement functions ... OK * checking foreign function calls ... OK * checking R code for possible problems ... NOTE clusterTimeSeries: no visible binding for global variable ‘freq’ clusterTimeSeries: no visible binding for global variable ‘.’ Undefined global functions or variables: . freq * checking Rd files ... OK * checking Rd metadata ... OK * checking Rd cross-references ... OK * checking for missing documentation entries ... OK * checking for code/documentation mismatches ... OK * checking Rd \usage sections ... OK * checking Rd contents ... OK * checking for unstated dependencies in examples ... OK * checking contents of ‘data’ directory ... OK * checking data for non-ASCII characters ... OK * checking data for ASCII and uncompressed saves ... OK * checking files in ‘vignettes’ ... OK * checking examples ... OK Examples with CPU (user + system) or elapsed time > 5s user system elapsed differentialExpression 16.69 0.442 17.144 plotTimeSeriesPCA 5.22 0.467 5.689 * checking for unstated dependencies in vignettes ... OK * checking package vignettes in ‘inst/doc’ ... OK * checking running R code from vignettes ... SKIPPED * checking re-building of vignette outputs ... SKIPPED * checking PDF version of manual ... OK * DONE Status: 3 NOTEs See ‘/Users/biocbuild/bbs-3.13-bioc/meat/TimeSeriesExperiment.Rcheck/00check.log’ for details.
TimeSeriesExperiment.Rcheck/00install.out
############################################################################## ############################################################################## ### ### Running command: ### ### /Library/Frameworks/R.framework/Versions/Current/Resources/bin/R CMD INSTALL TimeSeriesExperiment ### ############################################################################## ############################################################################## * installing to library ‘/Library/Frameworks/R.framework/Versions/4.1/Resources/library’ * installing *source* package ‘TimeSeriesExperiment’ ... ** using staged installation ** R ** data ** inst ** byte-compile and prepare package for lazy loading ** help *** installing help indices ** building package indices ** installing vignettes ** testing if installed package can be loaded from temporary location ** testing if installed package can be loaded from final location ** testing if installed package keeps a record of temporary installation path * DONE (TimeSeriesExperiment)
TimeSeriesExperiment.Rcheck/TimeSeriesExperiment-Ex.timings
name | user | system | elapsed | |
TimeSeriesExperiment | 0.410 | 0.003 | 0.414 | |
addLags | 0.669 | 0.045 | 0.714 | |
clusterAssignment | 0.755 | 0.024 | 0.780 | |
clusterData | 0.158 | 0.004 | 0.164 | |
clusterTimeSeries | 0.661 | 0.017 | 0.678 | |
colData | 0.080 | 0.005 | 0.085 | |
collapseReplicates | 0.225 | 0.006 | 0.230 | |
collapsed-data | 0.346 | 0.008 | 0.354 | |
dataToTimeSeries | 0.041 | 0.001 | 0.043 | |
differentialExpression | 16.690 | 0.442 | 17.144 | |
dimensionReduction | 0.111 | 0.002 | 0.114 | |
filterFeatures | 0.135 | 0.004 | 0.140 | |
groups | 0.032 | 0.003 | 0.035 | |
makeTimeSeries | 0.314 | 0.023 | 0.337 | |
makeTimeSeriesExperimentFromExpressionSet | 0.001 | 0.001 | 0.002 | |
makeTimeSeriesExperimentFromSummarizedExperiment | 0.369 | 0.005 | 0.374 | |
meltMatrix | 0.014 | 0.001 | 0.015 | |
normalizeData | 0.085 | 0.004 | 0.089 | |
pathwayEnrichment | 0.929 | 0.041 | 0.973 | |
pipe | 0.001 | 0.001 | 0.001 | |
plotEnrichment | 0.901 | 0.012 | 0.914 | |
plotHeatmap | 0.070 | 0.003 | 0.074 | |
plotSamplePCA | 0.353 | 0.004 | 0.359 | |
plotTimeSeries | 1.891 | 0.047 | 1.939 | |
plotTimeSeriesClusters | 2.408 | 0.047 | 2.458 | |
plotTimeSeriesPCA | 5.220 | 0.467 | 5.689 | |
replicates | 0.029 | 0.002 | 0.031 | |
rowData | 0.047 | 0.002 | 0.049 | |
row_and_colnames | 0.029 | 0.002 | 0.030 | |
runPCA | 0.110 | 0.003 | 0.113 | |
timeSeries | 0.598 | 0.390 | 0.988 | |
timepointDE | 0.166 | 0.004 | 0.170 | |
timepoints | 0.070 | 0.003 | 0.073 | |
trajectoryDE | 0.291 | 0.015 | 0.306 | |
varianceStabilization | 0.005 | 0.002 | 0.007 | |