| Back to Multiple platform build/check report for BioC 3.12 |
|
This page was generated on 2021-05-06 12:33:34 -0400 (Thu, 06 May 2021).
|
To the developers/maintainers of the seqplots package: Please make sure to use the following settings in order to reproduce any error or warning you see on this page. |
| Package 1684/1974 | Hostname | OS / Arch | INSTALL | BUILD | CHECK | BUILD BIN | ||||||||
| seqplots 1.28.0 (landing page) Przemyslaw Stempor
| malbec1 | Linux (Ubuntu 18.04.5 LTS) / x86_64 | OK | OK | ERROR | |||||||||
| tokay1 | Windows Server 2012 R2 Standard / x64 | OK | OK | ERROR | OK | |||||||||
| merida1 | macOS 10.14.6 Mojave / x86_64 | OK | OK | ERROR | OK | |||||||||
| Package: seqplots |
| Version: 1.28.0 |
| Command: chmod a+r seqplots -R && C:\Users\biocbuild\bbs-3.12-bioc\R\bin\R.exe CMD build --keep-empty-dirs --no-resave-data seqplots |
| StartedAt: 2021-05-05 23:29:49 -0400 (Wed, 05 May 2021) |
| EndedAt: 2021-05-05 23:31:23 -0400 (Wed, 05 May 2021) |
| EllapsedTime: 93.5 seconds |
| RetCode: 0 |
| Status: OK |
| PackageFile: seqplots_1.28.0.tar.gz |
| PackageFileSize: 6.928 MiB |
############################################################################## ############################################################################## ### ### Running command: ### ### chmod a+r seqplots -R && C:\Users\biocbuild\bbs-3.12-bioc\R\bin\R.exe CMD build --keep-empty-dirs --no-resave-data seqplots ### ############################################################################## ############################################################################## * checking for file 'seqplots/DESCRIPTION' ... OK * preparing 'seqplots': * checking DESCRIPTION meta-information ... OK * installing the package to build vignettes * creating vignettes ... OK * checking for LF line-endings in source and make files and shell scripts * checking for empty or unneeded directories * building 'seqplots_1.28.0.tar.gz'