| Back to Multiple platform build/check report for BioC 3.12 |
|
This page was generated on 2021-05-06 12:33:34 -0400 (Thu, 06 May 2021).
|
To the developers/maintainers of the seqplots package: Please make sure to use the following settings in order to reproduce any error or warning you see on this page. |
| Package 1684/1974 | Hostname | OS / Arch | INSTALL | BUILD | CHECK | BUILD BIN | ||||||||
| seqplots 1.28.0 (landing page) Przemyslaw Stempor
| malbec1 | Linux (Ubuntu 18.04.5 LTS) / x86_64 | OK | OK | ERROR | |||||||||
| tokay1 | Windows Server 2012 R2 Standard / x64 | OK | OK | ERROR | OK | |||||||||
| merida1 | macOS 10.14.6 Mojave / x86_64 | OK | OK | ERROR | OK | |||||||||
| Package: seqplots |
| Version: 1.28.0 |
| Command: rm -rf seqplots.buildbin-libdir && mkdir seqplots.buildbin-libdir && C:\Users\biocbuild\bbs-3.12-bioc\R\bin\R.exe CMD INSTALL --merge-multiarch --build --library=seqplots.buildbin-libdir seqplots_1.28.0.tar.gz |
| StartedAt: 2021-05-06 10:06:13 -0400 (Thu, 06 May 2021) |
| EndedAt: 2021-05-06 10:07:32 -0400 (Thu, 06 May 2021) |
| EllapsedTime: 79.3 seconds |
| RetCode: 0 |
| Status: OK |
| PackageFile: seqplots_1.28.0.zip |
| PackageFileSize: 7.386 MiB |
##############################################################################
##############################################################################
###
### Running command:
###
### rm -rf seqplots.buildbin-libdir && mkdir seqplots.buildbin-libdir && C:\Users\biocbuild\bbs-3.12-bioc\R\bin\R.exe CMD INSTALL --merge-multiarch --build --library=seqplots.buildbin-libdir seqplots_1.28.0.tar.gz
###
##############################################################################
##############################################################################
install for i386
* installing *source* package 'seqplots' ...
** using staged installation
** R
** inst
** byte-compile and prepare package for lazy loading
** help
*** installing help indices
converting help for package 'seqplots'
finding HTML links ... done
MotifSetup-class html
PlotSetArray-class html
PlotSetList-class html
PlotSetPair-class html
add_local_file html
deployServerInstance html
getPlotSetArray html
Rd warning: C:/Users/biocbuild/bbs-3.12-bioc/tmpdir/RtmpE5sO8r/R.INSTALL43d41b8078da/seqplots/man/getPlotSetArray.Rd:144: file link 'installed.genomes' in package 'BSgenome' does not exist and so has been treated as a topic
Rd warning: C:/Users/biocbuild/bbs-3.12-bioc/tmpdir/RtmpE5sO8r/R.INSTALL43d41b8078da/seqplots/man/getPlotSetArray.Rd:147: file link 'BSgenome' in package 'BSgenome' does not exist and so has been treated as a topic
getREF html
ggHeatmapPlotWrapper html
Rd warning: C:/Users/biocbuild/bbs-3.12-bioc/tmpdir/RtmpE5sO8r/R.INSTALL43d41b8078da/seqplots/man/ggHeatmapPlotWrapper.Rd:75: file link 'grDevices' in package 'grDevices' does not exist and so has been treated as a topic
heatmapPlotWrapper html
Rd warning: C:/Users/biocbuild/bbs-3.12-bioc/tmpdir/RtmpE5sO8r/R.INSTALL43d41b8078da/seqplots/man/heatmapPlotWrapper.Rd:76: file link 'grDevices' in package 'grDevices' does not exist and so has been treated as a topic
imPlot2 html
import.narrowPeak html
num2bp html
num2sci html
plot html
Rd warning: C:/Users/biocbuild/bbs-3.12-bioc/tmpdir/RtmpE5sO8r/R.INSTALL43d41b8078da/seqplots/man/plot.Rd:25: file link 'plot' in package 'graphics' does not exist and so has been treated as a topic
plotAverage html
plotHeatmap html
Rd warning: C:/Users/biocbuild/bbs-3.12-bioc/tmpdir/RtmpE5sO8r/R.INSTALL43d41b8078da/seqplots/man/plotHeatmap.Rd:177: file link 'grDevices' in package 'grDevices' does not exist and so has been treated as a topic
Rd warning: C:/Users/biocbuild/bbs-3.12-bioc/tmpdir/RtmpE5sO8r/R.INSTALL43d41b8078da/seqplots/man/plotHeatmap.Rd:192: file link 'geom_raster' in package 'ggplot2' does not exist and so has been treated as a topic
plotMext html
run html
seqplots-generic html
seqplots html
** building package indices
** installing vignettes
** testing if installed package can be loaded from temporary location
** testing if installed package can be loaded from final location
** testing if installed package keeps a record of temporary installation path
install for x64
* installing *source* package 'seqplots' ...
** testing if installed package can be loaded
* MD5 sums
packaged installation of 'seqplots' as seqplots_1.28.0.zip
* DONE (seqplots)