| Back to Multiple platform build/check report for BioC 3.12 |
|
This page was generated on 2021-05-06 12:28:52 -0400 (Thu, 06 May 2021).
|
To the developers/maintainers of the Rmmquant package: Please make sure to use the following settings in order to reproduce any error or warning you see on this page. |
| Package 1543/1974 | Hostname | OS / Arch | INSTALL | BUILD | CHECK | BUILD BIN | ||||||||
| Rmmquant 1.8.1 (landing page) Zytnicki Matthias
| malbec1 | Linux (Ubuntu 18.04.5 LTS) / x86_64 | OK | OK | OK | |||||||||
| tokay1 | Windows Server 2012 R2 Standard / x64 | OK | OK | OK | OK | |||||||||
| merida1 | macOS 10.14.6 Mojave / x86_64 | OK | OK | OK | OK | |||||||||
| Package: Rmmquant |
| Version: 1.8.1 |
| Command: /home/biocbuild/bbs-3.12-bioc/R/bin/R CMD INSTALL Rmmquant |
| StartedAt: 2021-05-05 16:55:19 -0400 (Wed, 05 May 2021) |
| EndedAt: 2021-05-05 16:56:29 -0400 (Wed, 05 May 2021) |
| EllapsedTime: 69.7 seconds |
| RetCode: 0 |
| Status: OK |
##############################################################################
##############################################################################
###
### Running command:
###
### /home/biocbuild/bbs-3.12-bioc/R/bin/R CMD INSTALL Rmmquant
###
##############################################################################
##############################################################################
* installing to library ‘/home/biocbuild/bbs-3.12-bioc/R/library’
* installing *source* package ‘Rmmquant’ ...
** using staged installation
** libs
g++ -std=gnu++11 -I"/home/biocbuild/bbs-3.12-bioc/R/include" -DNDEBUG -I'/home/biocbuild/bbs-3.12-bioc/R/library/Rcpp/include' -I/usr/local/include -fpic -g -O2 -Wall -c RcppExports.cpp -o RcppExports.o
g++ -std=gnu++11 -I"/home/biocbuild/bbs-3.12-bioc/R/include" -DNDEBUG -I'/home/biocbuild/bbs-3.12-bioc/R/library/Rcpp/include' -I/usr/local/include -fpic -g -O2 -Wall -c mmquant_wrapper.cpp -o mmquant_wrapper.o
In file included from /home/biocbuild/bbs-3.12-bioc/R/library/Rcpp/include/Rcpp.h:57:0,
from mmquant_wrapper.cpp:1:
/home/biocbuild/bbs-3.12-bioc/R/library/Rcpp/include/Rcpp/DataFrame.h: In instantiation of ‘void Rcpp::DataFrame_Impl<StoragePolicy>::set_type_after_push() [with StoragePolicy = Rcpp::PreserveStorage]’:
/home/biocbuild/bbs-3.12-bioc/R/library/Rcpp/include/Rcpp/DataFrame.h:95:32: required from ‘void Rcpp::DataFrame_Impl<StoragePolicy>::push_back(const T&, const string&) [with T = Rcpp::Vector<14, Rcpp::PreserveStorage>; StoragePolicy = Rcpp::PreserveStorage; std::__cxx11::string = std::__cxx11::basic_string<char>]’
mmquant.h:2009:35: required from here
/home/biocbuild/bbs-3.12-bioc/R/library/Rcpp/include/Rcpp/DataFrame.h:136:18: warning: unused variable ‘data’ [-Wunused-variable]
SEXP data = Parent::get__();
^~~~
g++ -std=gnu++11 -shared -L/home/biocbuild/bbs-3.12-bioc/R/lib -L/usr/local/lib -o Rmmquant.so RcppExports.o mmquant_wrapper.o -lz -L/home/biocbuild/bbs-3.12-bioc/R/lib -lR
installing to /home/biocbuild/bbs-3.12-bioc/R/library/00LOCK-Rmmquant/00new/Rmmquant/libs
** R
** inst
** byte-compile and prepare package for lazy loading
** help
*** installing help indices
** building package indices
** installing vignettes
** testing if installed package can be loaded from temporary location
** checking absolute paths in shared objects and dynamic libraries
** testing if installed package can be loaded from final location
** testing if installed package keeps a record of temporary installation path
* DONE (Rmmquant)