| Back to "Blame Jeroen" build/check report for BioC 3.11 |
This page was generated on 2020-04-15 03:20:15 -0400 (Wed, 15 Apr 2020).
| These builds are using Rtools40 and R-testing by Jeroen Ooms (available at https://cran.r-project.org/bin/windows/testing/rtools40.html) |
| TO THE DEVELOPERS/MAINTAINERS OF THE rBiopaxParser PACKAGE: Please make sure to use the following settings in order to reproduce any error or warning you see on this page. |
| Package 66/89 | Hostname | OS / Arch | INSTALL | BUILD | CHECK | BUILD BIN | |||||
| rBiopaxParser 2.27.1 Frank Kramer
| tokay2 | Windows Server 2012 R2 Standard / x64 | OK | OK | [ OK ] | OK |
| Package: rBiopaxParser |
| Version: 2.27.1 |
| Command: C:\Users\bioctesting\bbs-3.11-bioc-testing\R\bin\R.exe CMD check --force-multiarch --install=check:rBiopaxParser.install-out.txt --library=C:\Users\bioctesting\bbs-3.11-bioc-testing\R\library --no-vignettes --timings rBiopaxParser_2.27.1.tar.gz |
| StartedAt: 2020-04-14 23:02:12 -0400 (Tue, 14 Apr 2020) |
| EndedAt: 2020-04-14 23:05:25 -0400 (Tue, 14 Apr 2020) |
| EllapsedTime: 192.5 seconds |
| RetCode: 0 |
| Status: OK |
| CheckDir: rBiopaxParser.Rcheck |
| Warnings: 0 |
##############################################################################
##############################################################################
###
### Running command:
###
### C:\Users\bioctesting\bbs-3.11-bioc-testing\R\bin\R.exe CMD check --force-multiarch --install=check:rBiopaxParser.install-out.txt --library=C:\Users\bioctesting\bbs-3.11-bioc-testing\R\library --no-vignettes --timings rBiopaxParser_2.27.1.tar.gz
###
##############################################################################
##############################################################################
* using log directory 'C:/Users/bioctesting/bbs-3.11-bioc-testing/meat/rBiopaxParser.Rcheck'
* using R version 4.0.0 alpha (Rtools40) (2020-03-31 r78116)
* using platform: x86_64-w64-mingw32 (64-bit)
* using session charset: ISO8859-1
* using option '--no-vignettes'
* checking for file 'rBiopaxParser/DESCRIPTION' ... OK
* checking extension type ... Package
* this is package 'rBiopaxParser' version '2.27.1'
* checking package namespace information ... OK
* checking package dependencies ... OK
* checking if this is a source package ... OK
* checking if there is a namespace ... OK
* checking for hidden files and directories ... OK
* checking for portable file names ... OK
* checking whether package 'rBiopaxParser' can be installed ... OK
* checking installed package size ... OK
* checking package directory ... OK
* checking 'build' directory ... OK
* checking DESCRIPTION meta-information ... OK
* checking top-level files ... OK
* checking for left-over files ... OK
* checking index information ... OK
* checking package subdirectories ... OK
* checking R files for non-ASCII characters ... OK
* checking R files for syntax errors ... OK
* loading checks for arch 'i386'
** checking whether the package can be loaded ... OK
** checking whether the package can be loaded with stated dependencies ... OK
** checking whether the package can be unloaded cleanly ... OK
** checking whether the namespace can be loaded with stated dependencies ... OK
** checking whether the namespace can be unloaded cleanly ... OK
* loading checks for arch 'x64'
** checking whether the package can be loaded ... OK
** checking whether the package can be loaded with stated dependencies ... OK
** checking whether the package can be unloaded cleanly ... OK
** checking whether the namespace can be loaded with stated dependencies ... OK
** checking whether the namespace can be unloaded cleanly ... OK
* checking dependencies in R code ... NOTE
'library' or 'require' calls in package code:
'RBGL' 'RCurl' 'Rgraphviz' 'graph' 'igraph' 'nem'
Please use :: or requireNamespace() instead.
See section 'Suggested packages' in the 'Writing R Extensions' manual.
* checking S3 generic/method consistency ... OK
* checking replacement functions ... OK
* checking foreign function calls ... OK
* checking R code for possible problems ... NOTE
addBiopaxInstance: no visible binding for global variable 'property'
addBiopaxInstances: no visible binding for global variable 'id'
addBiopaxInstances: no visible binding for global variable 'property'
addPropertiesToBiopaxInstance: no visible binding for global variable
'property'
colorGraphNodes: no visible global function definition for 'hcl'
createBiopax: no visible binding for global variable 'id'
createBiopax: no visible binding for global variable 'property'
getReferencedIDs: no visible binding for global variable
'property_attr'
getReferencedIDs: no visible binding for global variable 'property'
getReferencingIDs: no visible binding for global variable
'property_attr'
getReferencingIDs: no visible binding for global variable 'property'
internal_XMLInstance2DF: no visible binding for global variable 'i'
internal_XMLInstance2DF: no visible binding for global variable 'p'
internal_generateXMLfromBiopax: no visible binding for global variable
'id'
internal_getBiopaxModelAsDataFrame: no visible binding for global
variable 'property'
internal_propertyListToDF: no visible binding for global variable
'property'
layoutRegulatoryGraph: no visible global function definition for
'nodes'
listInstances: no visible binding for global variable 'property_value'
listInstances: no visible binding for global variable 'property'
pathway2AdjacancyMatrix: no visible global function definition for 'as'
pathway2Graph: no visible global function definition for 'new'
pathway2Graph: no visible global function definition for 'getClassDef'
pathway2Graph: no visible binding for global variable 'id'
pathway2Graph: no visible binding for global variable 'property'
pathway2RegulatoryGraph: no visible global function definition for
'new'
pathway2RegulatoryGraph: no visible global function definition for
'getClassDef'
pathway2RegulatoryGraph: no visible binding for global variable 'id'
pathway2RegulatoryGraph: no visible binding for global variable
'property'
plotRegulatoryGraph: no visible global function definition for 'nodes'
removeDisconnectedParts: no visible global function definition for
'removeNode'
removeNodes: no visible global function definition for 'edgeWeights'
removeNodes: no visible global function definition for 'na.omit'
removeNodes: no visible global function definition for 'removeNode'
removeNodes: no visible global function definition for 'addEdge'
removeProperties: no visible binding for global variable 'property'
selectInstances: no visible binding for global variable
'property_value'
transitiveReduction: no visible global function definition for 'as'
Undefined global functions or variables:
addEdge as edgeWeights getClassDef hcl i id na.omit new nodes p
property property_attr property_value removeNode
Consider adding
importFrom("grDevices", "hcl")
importFrom("methods", "as", "getClassDef", "new")
importFrom("stats", "na.omit")
to your NAMESPACE file (and ensure that your DESCRIPTION Imports field
contains 'methods').
* checking Rd files ... OK
* checking Rd metadata ... OK
* checking Rd cross-references ... OK
* checking for missing documentation entries ... OK
* checking for code/documentation mismatches ... OK
* checking Rd \usage sections ... OK
* checking Rd contents ... OK
* checking for unstated dependencies in examples ... OK
* checking contents of 'data' directory ... OK
* checking data for non-ASCII characters ... NOTE
Note: found 1 marked UTF-8 string
* checking data for ASCII and uncompressed saves ... OK
* checking files in 'vignettes' ... OK
* checking examples ...
** running examples for arch 'i386' ... OK
Examples with CPU (user + system) or elapsed time > 5s
user system elapsed
pathway2Graph 1.5 0.14 20.62
** running examples for arch 'x64' ... OK
* checking for unstated dependencies in 'tests' ... OK
* checking tests ...
** running tests for arch 'i386' ...
Running 'runTests.R'
OK
** running tests for arch 'x64' ...
Running 'runTests.R'
OK
* checking for unstated dependencies in vignettes ... OK
* checking package vignettes in 'inst/doc' ... OK
* checking running R code from vignettes ... SKIPPED
* checking re-building of vignette outputs ... SKIPPED
* checking PDF version of manual ... OK
* DONE
Status: 3 NOTEs
See
'C:/Users/bioctesting/bbs-3.11-bioc-testing/meat/rBiopaxParser.Rcheck/00check.log'
for details.
rBiopaxParser.Rcheck/00install.out
##############################################################################
##############################################################################
###
### Running command:
###
### C:\cygwin\bin\curl.exe -O https://malbec2.bioconductor.org/BBS/3.11/bioc-testing/src/contrib/rBiopaxParser_2.27.1.tar.gz && rm -rf rBiopaxParser.buildbin-libdir && mkdir rBiopaxParser.buildbin-libdir && C:\Users\bioctesting\bbs-3.11-bioc-testing\R\bin\R.exe CMD INSTALL --merge-multiarch --build --library=rBiopaxParser.buildbin-libdir rBiopaxParser_2.27.1.tar.gz && C:\Users\bioctesting\bbs-3.11-bioc-testing\R\bin\R.exe CMD INSTALL rBiopaxParser_2.27.1.zip && rm rBiopaxParser_2.27.1.tar.gz rBiopaxParser_2.27.1.zip
###
##############################################################################
##############################################################################
% Total % Received % Xferd Average Speed Time Time Time Current
Dload Upload Total Spent Left Speed
0 0 0 0 0 0 0 0 --:--:-- --:--:-- --:--:-- 0
100 331k 100 331k 0 0 6170k 0 --:--:-- --:--:-- --:--:-- 7053k
install for i386
* installing *source* package 'rBiopaxParser' ...
** using staged installation
** R
** data
** inst
** byte-compile and prepare package for lazy loading
** help
*** installing help indices
converting help for package 'rBiopaxParser'
finding HTML links ... done
CLASS_INHERITANCE_BP2 html
CLASS_INHERITANCE_BP3 html
CLASS_PROPERTIES_BP2 html
CLASS_PROPERTIES_BP3 html
DATABASE_BIOPAX html
addBiochemicalReaction html
addBiopaxInstance html
addBiopaxInstances html
addControl html
addPathway html
addPathwayComponents html
addPhysicalEntity html
addPhysicalEntityParticipant html
addPropertiesToBiopaxInstance html
addhash html
addns html
biopax html
calcGraphOverlap html
checkValidity html
colorGraphNodes html
combineNodes html
createBiopax html
diffGraphs html
downloadBiopaxData html
generateNewUniqueID html
getClassProperties html
getInstanceClass html
getInstanceProperty html
getNeighborhood html
getParticipants html
getReferencedIDs html
getReferencingIDs html
getSubClasses html
getSuperClasses html
getXrefAnnotations html
hasProperty html
internal_NrOfXMLNodes html
internal_XMLInstance2DF html
internal_checkArguments html
internal_generateXMLfromBiopax html
internal_getBiopaxModelAsDataFrame html
internal_propertyListToDF html
internal_resolvePhysicalEntityParticipant
html
intersectGraphs html
isOfClass html
isOfNamespace html
isURL html
layoutRegulatoryGraph html
listComplexComponents html
listInstances html
listInteractionComponents html
listPathwayComponents html
listPathways html
mergePathways html
pathway2AdjacancyMatrix html
pathway2Geneset html
pathway2Graph html
pathway2RegulatoryGraph html
plotRegulatoryGraph html
print.biopax html
rBiopaxParser-package html
readBiopax html
removeDisconnectedParts html
removeInstance html
removeNodes html
removeProperties html
selectInstances html
splitComplex html
striphash html
stripns html
transitiveClosure html
transitiveReduction html
unfactorize html
uniteGraphs html
writeBiopax html
** building package indices
** installing vignettes
** testing if installed package can be loaded from temporary location
** testing if installed package can be loaded from final location
** testing if installed package keeps a record of temporary installation path
install for x64
* installing *source* package 'rBiopaxParser' ...
** testing if installed package can be loaded
* MD5 sums
packaged installation of 'rBiopaxParser' as rBiopaxParser_2.27.1.zip
* DONE (rBiopaxParser)
* installing to library 'C:/Users/bioctesting/bbs-3.11-bioc-testing/R/library'
package 'rBiopaxParser' successfully unpacked and MD5 sums checked
|
rBiopaxParser.Rcheck/tests_i386/runTests.Rout
R version 4.0.0 alpha (Rtools40) (2020-03-31 r78116) -- "Blame Jeroen"
Copyright (C) 2020 The R Foundation for Statistical Computing
Platform: i386-w64-mingw32/i386 (32-bit)
R is free software and comes with ABSOLUTELY NO WARRANTY.
You are welcome to redistribute it under certain conditions.
Type 'license()' or 'licence()' for distribution details.
R is a collaborative project with many contributors.
Type 'contributors()' for more information and
'citation()' on how to cite R or R packages in publications.
Type 'demo()' for some demos, 'help()' for on-line help, or
'help.start()' for an HTML browser interface to help.
Type 'q()' to quit R.
> BiocGenerics:::testPackage("rBiopaxParser")
RUNIT TEST PROTOCOL -- Tue Apr 14 23:05:14 2020
***********************************************
Number of test functions: 12
Number of errors: 0
Number of failures: 0
1 Test Suite :
rBiopaxParser RUnit Tests - 12 test functions, 0 errors, 0 failures
Number of test functions: 12
Number of errors: 0
Number of failures: 0
>
> proc.time()
user system elapsed
0.79 0.03 0.81
|
rBiopaxParser.Rcheck/tests_x64/runTests.Rout
R version 4.0.0 alpha (Rtools40) (2020-03-31 r78116) -- "Blame Jeroen"
Copyright (C) 2020 The R Foundation for Statistical Computing
Platform: x86_64-w64-mingw32/x64 (64-bit)
R is free software and comes with ABSOLUTELY NO WARRANTY.
You are welcome to redistribute it under certain conditions.
Type 'license()' or 'licence()' for distribution details.
R is a collaborative project with many contributors.
Type 'contributors()' for more information and
'citation()' on how to cite R or R packages in publications.
Type 'demo()' for some demos, 'help()' for on-line help, or
'help.start()' for an HTML browser interface to help.
Type 'q()' to quit R.
> BiocGenerics:::testPackage("rBiopaxParser")
RUNIT TEST PROTOCOL -- Tue Apr 14 23:05:15 2020
***********************************************
Number of test functions: 12
Number of errors: 0
Number of failures: 0
1 Test Suite :
rBiopaxParser RUnit Tests - 12 test functions, 0 errors, 0 failures
Number of test functions: 12
Number of errors: 0
Number of failures: 0
>
> proc.time()
user system elapsed
0.73 0.10 0.92
|
|
rBiopaxParser.Rcheck/examples_i386/rBiopaxParser-Ex.timings
|
rBiopaxParser.Rcheck/examples_x64/rBiopaxParser-Ex.timings
|