Back to "Blame Jeroen" build/check report for BioC 3.11

BUILD report for rBiopaxParser on tokay2

This page was generated on 2020-04-15 03:20:15 -0400 (Wed, 15 Apr 2020).

These builds are using Rtools40 and R-testing by Jeroen Ooms (available at https://cran.r-project.org/bin/windows/testing/rtools40.html)
TO THE DEVELOPERS/MAINTAINERS OF THE rBiopaxParser PACKAGE: Please make sure to use the following settings in order to reproduce any error or warning you see on this page.
Package 66/89HostnameOS / ArchINSTALLBUILDCHECKBUILD BIN
rBiopaxParser 2.27.1
Frank Kramer
Snapshot Date: 2020-04-14 17:00:05 -0400 (Tue, 14 Apr 2020)
URL: https://git.bioconductor.org/packages/rBiopaxParser
Branch: master
Last Commit: 026ca10
Last Changed Date: 2020-04-13 16:44:51 -0400 (Mon, 13 Apr 2020)
tokay2 Windows Server 2012 R2 Standard / x64  OK [ OK ] OK  OK 

Summary

Package: rBiopaxParser
Version: 2.27.1
Command: chmod a+r rBiopaxParser -R && C:\Users\bioctesting\bbs-3.11-bioc-testing\R\bin\R.exe CMD build --keep-empty-dirs --no-resave-data rBiopaxParser
StartedAt: 2020-04-14 20:17:31 -0400 (Tue, 14 Apr 2020)
EndedAt: 2020-04-14 20:18:00 -0400 (Tue, 14 Apr 2020)
EllapsedTime: 29.2 seconds
RetCode: 0
Status:  OK  
PackageFile: rBiopaxParser_2.27.1.tar.gz
PackageFileSize: 828.3 KiB

Command output

##############################################################################
##############################################################################
###
### Running command:
###
###   chmod a+r rBiopaxParser -R && C:\Users\bioctesting\bbs-3.11-bioc-testing\R\bin\R.exe CMD build --keep-empty-dirs --no-resave-data rBiopaxParser
###
##############################################################################
##############################################################################


* checking for file 'rBiopaxParser/DESCRIPTION' ... OK
* preparing 'rBiopaxParser':
* checking DESCRIPTION meta-information ... OK
* installing the package to build vignettes
* creating vignettes ... OK
* checking for LF line-endings in source and make files and shell scripts
* checking for empty or unneeded directories
* looking to see if a 'data/datalist' file should be added
* building 'rBiopaxParser_2.27.1.tar.gz'