Back to "Blame Jeroen" build/check report for BioC 3.11

"Blame Jeroen" build/check report for BioC 3.11

Results for rBiopaxParser

This page was generated on 2020-04-15 03:20:09 -0400 (Wed, 15 Apr 2020).

These builds are using Rtools40 and R-testing by Jeroen Ooms (available at https://cran.r-project.org/bin/windows/testing/rtools40.html)
Package 66/89HostnameOS / ArchINSTALLBUILDCHECKBUILD BIN
rBiopaxParser 2.27.1
Frank Kramer
Snapshot Date: 2020-04-14 17:00:05 -0400 (Tue, 14 Apr 2020)
URL: https://git.bioconductor.org/packages/rBiopaxParser
Branch: master
Last Commit: 026ca10
Last Changed Date: 2020-04-13 16:44:51 -0400 (Mon, 13 Apr 2020)
tokay2 Windows Server 2012 R2 Standard / x64  OK  OK  OK  OK