| Back to Multiple platform build/check report for BioC 3.11 |
|
This page was generated on 2020-10-17 11:57:54 -0400 (Sat, 17 Oct 2020).
| TO THE DEVELOPERS/MAINTAINERS OF THE switchBox PACKAGE: Please make sure to use the following settings in order to reproduce any error or warning you see on this page. |
| Package 1769/1905 | Hostname | OS / Arch | INSTALL | BUILD | CHECK | BUILD BIN | ||||||
| switchBox 1.24.0 Bahman Afsari
| malbec2 | Linux (Ubuntu 18.04.4 LTS) / x86_64 | OK | OK | WARNINGS | |||||||
| tokay2 | Windows Server 2012 R2 Standard / x64 | OK | [ OK ] | WARNINGS | NA | |||||||
| machv2 | macOS 10.14.6 Mojave / x86_64 | OK | OK | WARNINGS | OK |
| Package: switchBox |
| Version: 1.24.0 |
| Command: chmod a+r switchBox -R && C:\Users\biocbuild\bbs-3.11-bioc\R\bin\R.exe CMD build --keep-empty-dirs --no-resave-data switchBox |
| StartedAt: 2020-10-17 00:53:59 -0400 (Sat, 17 Oct 2020) |
| EndedAt: 2020-10-17 00:54:46 -0400 (Sat, 17 Oct 2020) |
| EllapsedTime: 46.6 seconds |
| RetCode: 0 |
| Status: OK |
| PackageFile: switchBox_1.24.0.tar.gz |
| PackageFileSize: 465.4 KiB |
##############################################################################
##############################################################################
###
### Running command:
###
### chmod a+r switchBox -R && C:\Users\biocbuild\bbs-3.11-bioc\R\bin\R.exe CMD build --keep-empty-dirs --no-resave-data switchBox
###
##############################################################################
##############################################################################
* checking for file 'switchBox/DESCRIPTION' ... OK
* preparing 'switchBox':
* checking DESCRIPTION meta-information ... OK
* cleaning src
* installing the package to build vignettes
* creating vignettes ... OK
Warning: 'inst/doc' files
'switchBox.Rnw', 'switchBox.pdf', 'switchBox.R'
ignored as vignettes have been rebuilt.
Run R CMD build with --no-build-vignettes to prevent rebuilding.
* cleaning src
* checking for LF line-endings in source and make files and shell scripts
* checking for empty or unneeded directories
* looking to see if a 'data/datalist' file should be added
* building 'switchBox_1.24.0.tar.gz'