| Back to Multiple platform build/check report for BioC 3.11 |
|
This page was generated on 2020-10-17 11:57:41 -0400 (Sat, 17 Oct 2020).
| TO THE DEVELOPERS/MAINTAINERS OF THE ropls PACKAGE: Please make sure to use the following settings in order to reproduce any error or warning you see on this page. |
| Package 1526/1905 | Hostname | OS / Arch | INSTALL | BUILD | CHECK | BUILD BIN | ||||||
| ropls 1.20.0 Etienne A. Thevenot
| malbec2 | Linux (Ubuntu 18.04.4 LTS) / x86_64 | OK | OK | OK | |||||||
| tokay2 | Windows Server 2012 R2 Standard / x64 | OK | OK | OK | [ OK ] | |||||||
| machv2 | macOS 10.14.6 Mojave / x86_64 | OK | OK | OK | OK |
| Package: ropls |
| Version: 1.20.0 |
| Command: rm -rf ropls.buildbin-libdir && mkdir ropls.buildbin-libdir && C:\Users\biocbuild\bbs-3.11-bioc\R\bin\R.exe CMD INSTALL --merge-multiarch --build --library=ropls.buildbin-libdir ropls_1.20.0.tar.gz |
| StartedAt: 2020-10-17 11:31:14 -0400 (Sat, 17 Oct 2020) |
| EndedAt: 2020-10-17 11:31:58 -0400 (Sat, 17 Oct 2020) |
| EllapsedTime: 44.4 seconds |
| RetCode: 0 |
| Status: OK |
| PackageFile: ropls_1.20.0.zip |
| PackageFileSize: 2.095 MiB |
##############################################################################
##############################################################################
###
### Running command:
###
### rm -rf ropls.buildbin-libdir && mkdir ropls.buildbin-libdir && C:\Users\biocbuild\bbs-3.11-bioc\R\bin\R.exe CMD INSTALL --merge-multiarch --build --library=ropls.buildbin-libdir ropls_1.20.0.tar.gz
###
##############################################################################
##############################################################################
install for i386
* installing *source* package 'ropls' ...
** using staged installation
** R
** data
** inst
** byte-compile and prepare package for lazy loading
in method for 'opls' with signature 'x="MultiDataSet"': no definition for class "MultiDataSet"
** help
*** installing help indices
converting help for package 'ropls'
finding HTML links ... done
aminoacids html
cellulose html
checkW4M html
coef html
cornell html
fitted html
foods html
fromW4M html
getEset html
getLoadingMN html
getMset html
getPcaVarVn html
getScoreMN html
getSubsetVi html
getSummaryDF html
getVipVn html
getWeightMN html
linnerud html
lowarp html
mark html
opls-class html
opls html
oplsMultiDataSet-class html
plot html
predict html
print html
residuals html
ropls-package html
sacurine html
show html
tested html
toW4M html
view html
** building package indices
** installing vignettes
** testing if installed package can be loaded from temporary location
** testing if installed package can be loaded from final location
** testing if installed package keeps a record of temporary installation path
install for x64
* installing *source* package 'ropls' ...
** testing if installed package can be loaded
* MD5 sums
packaged installation of 'ropls' as ropls_1.20.0.zip
* DONE (ropls)