| Back to Multiple platform build/check report for BioC 3.11 | 
  | 
This page was generated on 2020-10-17 11:57:21 -0400 (Sat, 17 Oct 2020).
| TO THE DEVELOPERS/MAINTAINERS OF THE pathVar PACKAGE: Please make sure to use the following settings in order to reproduce any error or warning you see on this page. | 
| Package 1275/1905 | Hostname | OS / Arch | INSTALL | BUILD | CHECK | BUILD BIN | ||||||
| pathVar 1.18.0 Samuel Zimmerman 
  | malbec2 | Linux (Ubuntu 18.04.4 LTS) / x86_64 | OK | OK | OK | |||||||
| tokay2 | Windows Server 2012 R2 Standard / x64 | OK | OK | OK | [ OK ] | |||||||
| machv2 | macOS 10.14.6 Mojave / x86_64 | OK | OK | OK | OK | 
| Package: pathVar | 
| Version: 1.18.0 | 
| Command: rm -rf pathVar.buildbin-libdir && mkdir pathVar.buildbin-libdir && C:\Users\biocbuild\bbs-3.11-bioc\R\bin\R.exe CMD INSTALL --merge-multiarch --build --library=pathVar.buildbin-libdir pathVar_1.18.0.tar.gz | 
| StartedAt: 2020-10-17 11:14:00 -0400 (Sat, 17 Oct 2020) | 
| EndedAt: 2020-10-17 11:14:45 -0400 (Sat, 17 Oct 2020) | 
| EllapsedTime: 44.5 seconds | 
| RetCode: 0 | 
| Status: OK | 
| PackageFile: pathVar_1.18.0.zip | 
| PackageFileSize: 4.177 MiB | 
##############################################################################
##############################################################################
###
### Running command:
###
###   rm -rf pathVar.buildbin-libdir && mkdir pathVar.buildbin-libdir && C:\Users\biocbuild\bbs-3.11-bioc\R\bin\R.exe CMD INSTALL --merge-multiarch --build --library=pathVar.buildbin-libdir pathVar_1.18.0.tar.gz
###
##############################################################################
##############################################################################
install for i386
* installing *source* package 'pathVar' ...
** using staged installation
** R
** data
*** moving datasets to lazyload DB
** inst
** byte-compile and prepare package for lazy loading
** help
*** installing help indices
  converting help for package 'pathVar'
    finding HTML links ... done
    bock                                    html  
    diagnosticsVarPlots                     html  
    diagnosticsVarPlotsTwoSample            html  
    geneDistributionSet-class               html  
    geneDistributionSet2-class              html  
    geneDistributionSet3-class              html  
    geneSet-class                           html  
    getGenes                                html  
    makeDBList                              html  
    pathVar-package                         html  
    pathVarOneSample                        html  
    pathVarTwoSamplesCont                   html  
    pathVarTwoSamplesDisc                   html  
    plotAllTwoSampleDistributionCounts      html  
    plotPway                                html  
    pways.kegg                              html  
    pways.reactome                          html  
    saveAsPDF                               html  
    sigPway                                 html  
    significantPathway-class                html  
    significantPathway2-class               html  
    significantPathway3-class               html  
** building package indices
** installing vignettes
** testing if installed package can be loaded from temporary location
** testing if installed package can be loaded from final location
** testing if installed package keeps a record of temporary installation path
install for x64
* installing *source* package 'pathVar' ...
** testing if installed package can be loaded
* MD5 sums
packaged installation of 'pathVar' as pathVar_1.18.0.zip
* DONE (pathVar)