| Back to Multiple platform build/check report for BioC 3.11 |
|
This page was generated on 2020-10-17 11:55:21 -0400 (Sat, 17 Oct 2020).
| TO THE DEVELOPERS/MAINTAINERS OF THE pathVar PACKAGE: Please make sure to use the following settings in order to reproduce any error or warning you see on this page. |
| Package 1275/1905 | Hostname | OS / Arch | INSTALL | BUILD | CHECK | BUILD BIN | ||||||
| pathVar 1.18.0 Samuel Zimmerman
| malbec2 | Linux (Ubuntu 18.04.4 LTS) / x86_64 | OK | OK | [ OK ] | |||||||
| tokay2 | Windows Server 2012 R2 Standard / x64 | OK | OK | OK | OK | |||||||
| machv2 | macOS 10.14.6 Mojave / x86_64 | OK | OK | OK | OK |
| Package: pathVar |
| Version: 1.18.0 |
| Command: /home/biocbuild/bbs-3.11-bioc/R/bin/R CMD check --install=check:pathVar.install-out.txt --library=/home/biocbuild/bbs-3.11-bioc/R/library --no-vignettes --timings pathVar_1.18.0.tar.gz |
| StartedAt: 2020-10-17 03:57:23 -0400 (Sat, 17 Oct 2020) |
| EndedAt: 2020-10-17 04:00:43 -0400 (Sat, 17 Oct 2020) |
| EllapsedTime: 199.7 seconds |
| RetCode: 0 |
| Status: OK |
| CheckDir: pathVar.Rcheck |
| Warnings: 0 |
##############################################################################
##############################################################################
###
### Running command:
###
### /home/biocbuild/bbs-3.11-bioc/R/bin/R CMD check --install=check:pathVar.install-out.txt --library=/home/biocbuild/bbs-3.11-bioc/R/library --no-vignettes --timings pathVar_1.18.0.tar.gz
###
##############################################################################
##############################################################################
* using log directory ‘/home/biocbuild/bbs-3.11-bioc/meat/pathVar.Rcheck’
* using R version 4.0.3 (2020-10-10)
* using platform: x86_64-pc-linux-gnu (64-bit)
* using session charset: UTF-8
* using option ‘--no-vignettes’
* checking for file ‘pathVar/DESCRIPTION’ ... OK
* checking extension type ... Package
* this is package ‘pathVar’ version ‘1.18.0’
* checking package namespace information ... OK
* checking package dependencies ... OK
* checking if this is a source package ... OK
* checking if there is a namespace ... OK
* checking for hidden files and directories ... OK
* checking for portable file names ... OK
* checking for sufficient/correct file permissions ... OK
* checking whether package ‘pathVar’ can be installed ... OK
* checking installed package size ... OK
* checking package directory ... OK
* checking ‘build’ directory ... OK
* checking DESCRIPTION meta-information ... OK
* checking top-level files ... OK
* checking for left-over files ... OK
* checking index information ... OK
* checking package subdirectories ... OK
* checking R files for non-ASCII characters ... OK
* checking R files for syntax errors ... OK
* checking whether the package can be loaded ... OK
* checking whether the package can be loaded with stated dependencies ... OK
* checking whether the package can be unloaded cleanly ... OK
* checking whether the namespace can be loaded with stated dependencies ... OK
* checking whether the namespace can be unloaded cleanly ... OK
* checking dependencies in R code ... OK
* checking S3 generic/method consistency ... OK
* checking replacement functions ... OK
* checking foreign function calls ... OK
* checking R code for possible problems ... NOTE
diagnosticsVarPlots: no visible binding for global variable ‘avg’
diagnosticsVarPlots: no visible binding for global variable ‘standDev’
diagnosticsVarPlots: no visible binding for global variable ‘medAbsDev’
diagnosticsVarPlots: no visible binding for global variable ‘cv’
diagnosticsVarPlotsTwoSample: no visible binding for global variable
‘avg’
diagnosticsVarPlotsTwoSample: no visible binding for global variable
‘standDev’
diagnosticsVarPlotsTwoSample: no visible binding for global variable
‘medAbsDev’
diagnosticsVarPlotsTwoSample: no visible binding for global variable
‘cv’
pathVarOneSample: no visible binding for global variable ‘APval’
pathVarOneSample: no visible binding for global variable
‘PercOfGenesInPway’
pathVarTwoSamplesCont: no visible binding for global variable ‘APval’
pathVarTwoSamplesCont: no visible binding for global variable
‘PercOfGenesInPway’
pathVarTwoSamplesDisc: no visible binding for global variable ‘APval’
pathVarTwoSamplesDisc: no visible binding for global variable
‘PercOfGenesInPway’
plotAllTwoSampleDistributionCounts: no visible binding for global
variable ‘Cluster’
plotAllTwoSampleDistributionCounts: no visible binding for global
variable ‘Number_of_genes’
plotOneSample: no visible binding for global variable ‘Cluster’
plotOneSample: no visible binding for global variable ‘Number_of_genes’
plotTwoSamplesCont: no visible binding for global variable ‘PwayName’
plotTwoSamplesCont: no visible binding for global variable
‘NumOfGenesFromDataSetInPathway’
plotTwoSamplesCont: no visible binding for global variable ‘value’
plotTwoSamplesCont: no visible binding for global variable
‘..density..’
plotTwoSamplesCont: no visible binding for global variable ‘group’
plotTwoSamplesDisc: no visible binding for global variable ‘Cluster’
plotTwoSamplesDisc: no visible binding for global variable
‘Number_of_genes’
sigOneSample: no visible binding for global variable ‘APval’
sigOneSample: no visible binding for global variable ‘PwayName’
sigTwoSamplesCont: no visible binding for global variable ‘APval’
sigTwoSamplesCont: no visible binding for global variable ‘PwayName’
sigTwoSamplesDisc: no visible binding for global variable ‘APval’
sigTwoSamplesDisc: no visible binding for global variable ‘PwayName’
Undefined global functions or variables:
..density.. APval Cluster NumOfGenesFromDataSetInPathway
Number_of_genes PercOfGenesInPway PwayName avg cv group medAbsDev
standDev value
* checking Rd files ... OK
* checking Rd metadata ... OK
* checking Rd cross-references ... OK
* checking for missing documentation entries ... OK
* checking for code/documentation mismatches ... OK
* checking Rd \usage sections ... OK
* checking Rd contents ... OK
* checking for unstated dependencies in examples ... OK
* checking contents of ‘data’ directory ... OK
* checking data for non-ASCII characters ... OK
* checking data for ASCII and uncompressed saves ... OK
* checking files in ‘vignettes’ ... OK
* checking examples ... OK
Examples with CPU (user + system) or elapsed time > 5s
user system elapsed
sigPway 80.408 0.000 80.430
diagnosticsVarPlots 32.752 0.228 32.979
diagnosticsVarPlotsTwoSample 17.892 0.128 18.020
plotAllTwoSampleDistributionCounts 5.209 0.000 5.209
* checking for unstated dependencies in vignettes ... OK
* checking package vignettes in ‘inst/doc’ ... OK
* checking running R code from vignettes ... SKIPPED
* checking re-building of vignette outputs ... SKIPPED
* checking PDF version of manual ... OK
* DONE
Status: 1 NOTE
See
‘/home/biocbuild/bbs-3.11-bioc/meat/pathVar.Rcheck/00check.log’
for details.
pathVar.Rcheck/00install.out
############################################################################## ############################################################################## ### ### Running command: ### ### /home/biocbuild/bbs-3.11-bioc/R/bin/R CMD INSTALL pathVar ### ############################################################################## ############################################################################## * installing to library ‘/home/biocbuild/bbs-3.11-bioc/R/library’ * installing *source* package ‘pathVar’ ... ** using staged installation ** R ** data *** moving datasets to lazyload DB ** inst ** byte-compile and prepare package for lazy loading ** help *** installing help indices ** building package indices ** installing vignettes ** testing if installed package can be loaded from temporary location ** testing if installed package can be loaded from final location ** testing if installed package keeps a record of temporary installation path * DONE (pathVar)
pathVar.Rcheck/pathVar-Ex.timings
| name | user | system | elapsed | |
| bock | 0.018 | 0.004 | 0.021 | |
| diagnosticsVarPlots | 32.752 | 0.228 | 32.979 | |
| diagnosticsVarPlotsTwoSample | 17.892 | 0.128 | 18.020 | |
| geneDistributionSet-class | 0.004 | 0.000 | 0.003 | |
| geneDistributionSet2-class | 0.001 | 0.000 | 0.001 | |
| geneDistributionSet3-class | 0.000 | 0.002 | 0.001 | |
| geneSet-class | 0.000 | 0.001 | 0.001 | |
| getGenes | 2.154 | 0.000 | 2.155 | |
| makeDBList | 0 | 0 | 0 | |
| pathVar-package | 3.734 | 0.004 | 3.739 | |
| pathVarOneSample | 2.835 | 0.000 | 2.834 | |
| pathVarTwoSamplesCont | 3.153 | 0.000 | 3.152 | |
| pathVarTwoSamplesDisc | 1.55 | 0.00 | 1.55 | |
| plotAllTwoSampleDistributionCounts | 5.209 | 0.000 | 5.209 | |
| plotPway | 4.943 | 0.008 | 4.951 | |
| pways.kegg | 0.002 | 0.000 | 0.001 | |
| pways.reactome | 0.002 | 0.000 | 0.001 | |
| saveAsPDF | 3.001 | 0.000 | 3.001 | |
| sigPway | 80.408 | 0.000 | 80.430 | |
| significantPathway-class | 0.001 | 0.000 | 0.001 | |
| significantPathway2-class | 0.001 | 0.000 | 0.000 | |
| significantPathway3-class | 0.001 | 0.000 | 0.001 | |