| Back to Multiple platform build/check report for BioC 3.11 | 
  | 
This page was generated on 2020-10-17 11:56:35 -0400 (Sat, 17 Oct 2020).
| TO THE DEVELOPERS/MAINTAINERS OF THE flowTrans PACKAGE: Please make sure to use the following settings in order to reproduce any error or warning you see on this page. | 
| Package 628/1905 | Hostname | OS / Arch | INSTALL | BUILD | CHECK | BUILD BIN | ||||||
| flowTrans 1.40.0 Greg Finak 
  | malbec2 | Linux (Ubuntu 18.04.4 LTS) / x86_64 | OK | OK | OK | |||||||
| tokay2 | Windows Server 2012 R2 Standard / x64 | [ OK ] | OK | OK | OK | |||||||
| machv2 | macOS 10.14.6 Mojave / x86_64 | OK | OK | OK | OK | 
| Package: flowTrans | 
| Version: 1.40.0 | 
| Command: C:\cygwin\bin\curl.exe -O https://malbec2.bioconductor.org/BBS/3.11/bioc/src/contrib/flowTrans_1.40.0.tar.gz && rm -rf flowTrans.buildbin-libdir && mkdir flowTrans.buildbin-libdir && C:\Users\biocbuild\bbs-3.11-bioc\R\bin\R.exe CMD INSTALL --merge-multiarch --build --library=flowTrans.buildbin-libdir flowTrans_1.40.0.tar.gz && C:\Users\biocbuild\bbs-3.11-bioc\R\bin\R.exe CMD INSTALL flowTrans_1.40.0.zip && rm flowTrans_1.40.0.tar.gz flowTrans_1.40.0.zip | 
| StartedAt: 2020-10-16 18:03:53 -0400 (Fri, 16 Oct 2020) | 
| EndedAt: 2020-10-16 18:04:20 -0400 (Fri, 16 Oct 2020) | 
| EllapsedTime: 26.7 seconds | 
| RetCode: 0 | 
| Status: OK | 
##############################################################################
##############################################################################
###
### Running command:
###
###   C:\cygwin\bin\curl.exe -O https://malbec2.bioconductor.org/BBS/3.11/bioc/src/contrib/flowTrans_1.40.0.tar.gz && rm -rf flowTrans.buildbin-libdir && mkdir flowTrans.buildbin-libdir && C:\Users\biocbuild\bbs-3.11-bioc\R\bin\R.exe CMD INSTALL --merge-multiarch --build --library=flowTrans.buildbin-libdir flowTrans_1.40.0.tar.gz && C:\Users\biocbuild\bbs-3.11-bioc\R\bin\R.exe CMD INSTALL flowTrans_1.40.0.zip && rm flowTrans_1.40.0.tar.gz flowTrans_1.40.0.zip
###
##############################################################################
##############################################################################
  % Total    % Received % Xferd  Average Speed   Time    Time     Time  Current
                                 Dload  Upload   Total   Spent    Left  Speed
  0     0    0     0    0     0      0      0 --:--:-- --:--:-- --:--:--     0
100  9477  100  9477    0     0   155k      0 --:--:-- --:--:-- --:--:--  174k
install for i386
* installing *source* package 'flowTrans' ...
** using staged installation
** R
** byte-compile and prepare package for lazy loading
** help
*** installing help indices
  converting help for package 'flowTrans'
    finding HTML links ... done
    extractParams                           html  
    flowTrans-methods                       html  
    flowTrans-package                       html  
    flowTrans                               html  
    flowTransResult-class                   html  
    summary-methods                         html  
    summary.flowTransResult                 html  
** building package indices
** installing vignettes
** testing if installed package can be loaded from temporary location
** testing if installed package can be loaded from final location
** testing if installed package keeps a record of temporary installation path
install for x64
* installing *source* package 'flowTrans' ...
** testing if installed package can be loaded
* MD5 sums
packaged installation of 'flowTrans' as flowTrans_1.40.0.zip
* DONE (flowTrans)
* installing to library 'C:/Users/biocbuild/bbs-3.11-bioc/R/library'
package 'flowTrans' successfully unpacked and MD5 sums checked