| Back to Multiple platform build/check report for BioC 3.11 |
|
This page was generated on 2020-10-17 11:54:46 -0400 (Sat, 17 Oct 2020).
| TO THE DEVELOPERS/MAINTAINERS OF THE flowTrans PACKAGE: Please make sure to use the following settings in order to reproduce any error or warning you see on this page. |
| Package 628/1905 | Hostname | OS / Arch | INSTALL | BUILD | CHECK | BUILD BIN | ||||||
| flowTrans 1.40.0 Greg Finak
| malbec2 | Linux (Ubuntu 18.04.4 LTS) / x86_64 | OK | OK | [ OK ] | |||||||
| tokay2 | Windows Server 2012 R2 Standard / x64 | OK | OK | OK | OK | |||||||
| machv2 | macOS 10.14.6 Mojave / x86_64 | OK | OK | OK | OK |
| Package: flowTrans |
| Version: 1.40.0 |
| Command: /home/biocbuild/bbs-3.11-bioc/R/bin/R CMD check --install=check:flowTrans.install-out.txt --library=/home/biocbuild/bbs-3.11-bioc/R/library --no-vignettes --timings flowTrans_1.40.0.tar.gz |
| StartedAt: 2020-10-17 01:24:51 -0400 (Sat, 17 Oct 2020) |
| EndedAt: 2020-10-17 01:25:48 -0400 (Sat, 17 Oct 2020) |
| EllapsedTime: 56.9 seconds |
| RetCode: 0 |
| Status: OK |
| CheckDir: flowTrans.Rcheck |
| Warnings: 0 |
##############################################################################
##############################################################################
###
### Running command:
###
### /home/biocbuild/bbs-3.11-bioc/R/bin/R CMD check --install=check:flowTrans.install-out.txt --library=/home/biocbuild/bbs-3.11-bioc/R/library --no-vignettes --timings flowTrans_1.40.0.tar.gz
###
##############################################################################
##############################################################################
* using log directory ‘/home/biocbuild/bbs-3.11-bioc/meat/flowTrans.Rcheck’
* using R version 4.0.3 (2020-10-10)
* using platform: x86_64-pc-linux-gnu (64-bit)
* using session charset: UTF-8
* using option ‘--no-vignettes’
* checking for file ‘flowTrans/DESCRIPTION’ ... OK
* checking extension type ... Package
* this is package ‘flowTrans’ version ‘1.40.0’
* checking package namespace information ... OK
* checking package dependencies ... OK
* checking if this is a source package ... OK
* checking if there is a namespace ... OK
* checking for hidden files and directories ... OK
* checking for portable file names ... OK
* checking for sufficient/correct file permissions ... OK
* checking whether package ‘flowTrans’ can be installed ... OK
* checking installed package size ... OK
* checking package directory ... OK
* checking ‘build’ directory ... OK
* checking DESCRIPTION meta-information ... NOTE
Packages listed in more than one of Depends, Imports, Suggests, Enhances:
‘flowCore’ ‘flowViz’ ‘flowClust’
A package should be listed in only one of these fields.
* checking top-level files ... OK
* checking for left-over files ... OK
* checking index information ... OK
* checking package subdirectories ... OK
* checking R files for non-ASCII characters ... OK
* checking R files for syntax errors ... OK
* checking whether the package can be loaded ... OK
* checking whether the package can be loaded with stated dependencies ... OK
* checking whether the package can be unloaded cleanly ... OK
* checking whether the namespace can be loaded with stated dependencies ... OK
* checking whether the namespace can be unloaded cleanly ... OK
* checking dependencies in R code ... NOTE
Unexported object imported by a ':::' call: ‘flowCore:::biexponential_transform’
See the note in ?`:::` about the use of this operator.
There are ::: calls to the package's namespace in its code. A package
almost never needs to use ::: for its own objects:
‘linlog’
* checking S3 generic/method consistency ... NOTE
Found the following apparent S3 methods exported but not registered:
summary.flowTransResult
See section ‘Registering S3 methods’ in the ‘Writing R Extensions’
manual.
* checking replacement functions ... OK
* checking foreign function calls ... NOTE
Foreign function call to a different package:
.Call("_flowCore_biexponential_transform", ..., PACKAGE = "flowCore")
See chapter ‘System and foreign language interfaces’ in the ‘Writing R
Extensions’ manual.
* checking R code for possible problems ... NOTE
flowTrans,flowFrame-character-character-logical-logical: no visible
global function definition for ‘norm2Filter’
Undefined global functions or variables:
norm2Filter
* checking Rd files ... OK
* checking Rd metadata ... OK
* checking Rd cross-references ... OK
* checking for missing documentation entries ... OK
* checking for code/documentation mismatches ... OK
* checking Rd \usage sections ... NOTE
S3 methods shown with full name in documentation object 'summary.flowTransResult':
‘summary.flowTransResult’
The \usage entries for S3 methods should use the \method markup and not
their full name.
See chapter ‘Writing R documentation files’ in the ‘Writing R
Extensions’ manual.
* checking Rd contents ... OK
* checking for unstated dependencies in examples ... OK
* checking files in ‘vignettes’ ... OK
* checking examples ... OK
* checking for unstated dependencies in vignettes ... OK
* checking package vignettes in ‘inst/doc’ ... OK
* checking running R code from vignettes ... SKIPPED
* checking re-building of vignette outputs ... SKIPPED
* checking PDF version of manual ... OK
* DONE
Status: 6 NOTEs
See
‘/home/biocbuild/bbs-3.11-bioc/meat/flowTrans.Rcheck/00check.log’
for details.
flowTrans.Rcheck/00install.out
############################################################################## ############################################################################## ### ### Running command: ### ### /home/biocbuild/bbs-3.11-bioc/R/bin/R CMD INSTALL flowTrans ### ############################################################################## ############################################################################## * installing to library ‘/home/biocbuild/bbs-3.11-bioc/R/library’ * installing *source* package ‘flowTrans’ ... ** using staged installation ** R ** byte-compile and prepare package for lazy loading ** help *** installing help indices ** building package indices ** installing vignettes ** testing if installed package can be loaded from temporary location ** testing if installed package can be loaded from final location ** testing if installed package keeps a record of temporary installation path * DONE (flowTrans)
flowTrans.Rcheck/flowTrans-Ex.timings
| name | user | system | elapsed | |
| extractParams | 0.272 | 0.004 | 0.277 | |
| flowTrans-package | 1.878 | 0.048 | 1.927 | |
| flowTrans | 0.988 | 0.020 | 1.008 | |
| flowTransResult-class | 0.212 | 0.000 | 0.213 | |
| summary.flowTransResult | 0.204 | 0.000 | 0.204 | |