| Back to Multiple platform build/check report for BioC 3.11 |
|
This page was generated on 2020-10-17 11:55:14 -0400 (Sat, 17 Oct 2020).
| TO THE DEVELOPERS/MAINTAINERS OF THE MutationalPatterns PACKAGE: Please make sure to use the following settings in order to reproduce any error or warning you see on this page. |
| Package 1162/1905 | Hostname | OS / Arch | INSTALL | BUILD | CHECK | BUILD BIN | ||||||
| MutationalPatterns 2.0.0 Rurika Oka
| malbec2 | Linux (Ubuntu 18.04.4 LTS) / x86_64 | OK | OK | [ OK ] | |||||||
| tokay2 | Windows Server 2012 R2 Standard / x64 | OK | OK | OK | OK | |||||||
| machv2 | macOS 10.14.6 Mojave / x86_64 | OK | OK | OK | OK |
| Package: MutationalPatterns |
| Version: 2.0.0 |
| Command: /home/biocbuild/bbs-3.11-bioc/R/bin/R CMD check --install=check:MutationalPatterns.install-out.txt --library=/home/biocbuild/bbs-3.11-bioc/R/library --no-vignettes --timings MutationalPatterns_2.0.0.tar.gz |
| StartedAt: 2020-10-17 03:32:54 -0400 (Sat, 17 Oct 2020) |
| EndedAt: 2020-10-17 03:40:45 -0400 (Sat, 17 Oct 2020) |
| EllapsedTime: 470.8 seconds |
| RetCode: 0 |
| Status: OK |
| CheckDir: MutationalPatterns.Rcheck |
| Warnings: 0 |
##############################################################################
##############################################################################
###
### Running command:
###
### /home/biocbuild/bbs-3.11-bioc/R/bin/R CMD check --install=check:MutationalPatterns.install-out.txt --library=/home/biocbuild/bbs-3.11-bioc/R/library --no-vignettes --timings MutationalPatterns_2.0.0.tar.gz
###
##############################################################################
##############################################################################
* using log directory ‘/home/biocbuild/bbs-3.11-bioc/meat/MutationalPatterns.Rcheck’
* using R version 4.0.3 (2020-10-10)
* using platform: x86_64-pc-linux-gnu (64-bit)
* using session charset: UTF-8
* using option ‘--no-vignettes’
* checking for file ‘MutationalPatterns/DESCRIPTION’ ... OK
* checking extension type ... Package
* this is package ‘MutationalPatterns’ version ‘2.0.0’
* package encoding: UTF-8
* checking package namespace information ... OK
* checking package dependencies ... OK
* checking if this is a source package ... OK
* checking if there is a namespace ... OK
* checking for hidden files and directories ... OK
* checking for portable file names ... OK
* checking for sufficient/correct file permissions ... OK
* checking whether package ‘MutationalPatterns’ can be installed ... OK
* checking installed package size ... OK
* checking package directory ... OK
* checking ‘build’ directory ... OK
* checking DESCRIPTION meta-information ... OK
* checking top-level files ... OK
* checking for left-over files ... OK
* checking index information ... OK
* checking package subdirectories ... OK
* checking R files for non-ASCII characters ... OK
* checking R files for syntax errors ... OK
* checking whether the package can be loaded ... OK
* checking whether the package can be loaded with stated dependencies ... OK
* checking whether the package can be unloaded cleanly ... OK
* checking whether the namespace can be loaded with stated dependencies ... OK
* checking whether the namespace can be unloaded cleanly ... OK
* checking dependencies in R code ... OK
* checking S3 generic/method consistency ... OK
* checking replacement functions ... OK
* checking foreign function calls ... OK
* checking R code for possible problems ... OK
* checking Rd files ... OK
* checking Rd metadata ... OK
* checking Rd cross-references ... OK
* checking for missing documentation entries ... OK
* checking for code/documentation mismatches ... OK
* checking Rd \usage sections ... OK
* checking Rd contents ... OK
* checking for unstated dependencies in examples ... OK
* checking files in ‘vignettes’ ... OK
* checking examples ... OK
Examples with CPU (user + system) or elapsed time > 5s
user system elapsed
mut_matrix_stranded 21.737 6.564 5.272
genomic_distribution 22.108 0.180 22.312
mut_matrix 8.437 2.505 2.117
read_vcfs_as_granges 7.981 2.552 1.863
plot_spectrum 9.183 0.287 9.471
mut_type_occurrences 8.151 0.404 8.556
* checking for unstated dependencies in ‘tests’ ... OK
* checking tests ...
Running ‘testthat.R’
OK
* checking for unstated dependencies in vignettes ... OK
* checking package vignettes in ‘inst/doc’ ... OK
* checking running R code from vignettes ... SKIPPED
* checking re-building of vignette outputs ... SKIPPED
* checking PDF version of manual ... OK
* DONE
Status: OK
MutationalPatterns.Rcheck/00install.out
############################################################################## ############################################################################## ### ### Running command: ### ### /home/biocbuild/bbs-3.11-bioc/R/bin/R CMD INSTALL MutationalPatterns ### ############################################################################## ############################################################################## * installing to library ‘/home/biocbuild/bbs-3.11-bioc/R/library’ * installing *source* package ‘MutationalPatterns’ ... ** using staged installation ** R ** inst ** byte-compile and prepare package for lazy loading ** help *** installing help indices ** building package indices ** installing vignettes ** testing if installed package can be loaded from temporary location ** testing if installed package can be loaded from final location ** testing if installed package keeps a record of temporary installation path * DONE (MutationalPatterns)
MutationalPatterns.Rcheck/tests/testthat.Rout
R version 4.0.3 (2020-10-10) -- "Bunny-Wunnies Freak Out"
Copyright (C) 2020 The R Foundation for Statistical Computing
Platform: x86_64-pc-linux-gnu (64-bit)
R is free software and comes with ABSOLUTELY NO WARRANTY.
You are welcome to redistribute it under certain conditions.
Type 'license()' or 'licence()' for distribution details.
R is a collaborative project with many contributors.
Type 'contributors()' for more information and
'citation()' on how to cite R or R packages in publications.
Type 'demo()' for some demos, 'help()' for on-line help, or
'help.start()' for an HTML browser interface to help.
Type 'q()' to quit R.
> library(testthat)
> library(MutationalPatterns)
Loading required package: GenomicRanges
Loading required package: stats4
Loading required package: BiocGenerics
Loading required package: parallel
Attaching package: 'BiocGenerics'
The following objects are masked from 'package:parallel':
clusterApply, clusterApplyLB, clusterCall, clusterEvalQ,
clusterExport, clusterMap, parApply, parCapply, parLapply,
parLapplyLB, parRapply, parSapply, parSapplyLB
The following objects are masked from 'package:stats':
IQR, mad, sd, var, xtabs
The following objects are masked from 'package:base':
Filter, Find, Map, Position, Reduce, anyDuplicated, append,
as.data.frame, basename, cbind, colnames, dirname, do.call,
duplicated, eval, evalq, get, grep, grepl, intersect, is.unsorted,
lapply, mapply, match, mget, order, paste, pmax, pmax.int, pmin,
pmin.int, rank, rbind, rownames, sapply, setdiff, sort, table,
tapply, union, unique, unsplit, which, which.max, which.min
Loading required package: S4Vectors
Attaching package: 'S4Vectors'
The following object is masked from 'package:base':
expand.grid
Loading required package: IRanges
Loading required package: GenomeInfoDb
Loading required package: NMF
Loading required package: pkgmaker
Loading required package: registry
Attaching package: 'pkgmaker'
The following object is masked from 'package:S4Vectors':
new2
Loading required package: rngtools
Loading required package: cluster
NMF - BioConductor layer [OK] | Shared memory capabilities [NO: synchronicity] | Cores 19/20
To enable shared memory capabilities, try: install.extras('
NMF
')
Attaching package: 'NMF'
The following object is masked from 'package:S4Vectors':
nrun
The following object is masked from 'package:testthat':
compare
>
> test_check("MutationalPatterns")
══ testthat results ═══════════════════════════════════════════════════════════
[ OK: 10 | SKIPPED: 0 | WARNINGS: 0 | FAILED: 0 ]
>
> proc.time()
user system elapsed
150.078 42.472 54.337
MutationalPatterns.Rcheck/MutationalPatterns-Ex.timings
| name | user | system | elapsed | |
| binomial_test | 0.007 | 0.000 | 0.006 | |
| cluster_signatures | 0.031 | 0.004 | 0.098 | |
| cos_sim | 0.000 | 0.001 | 0.000 | |
| cos_sim_matrix | 0.011 | 0.006 | 0.017 | |
| enrichment_depletion_test | 0.071 | 0.020 | 0.102 | |
| explained_by_signatures | 0.012 | 0.000 | 0.012 | |
| extract_signatures | 0.001 | 0.000 | 0.001 | |
| fit_to_signatures | 0.037 | 0.004 | 0.041 | |
| genomic_distribution | 22.108 | 0.180 | 22.312 | |
| mut_context | 0.836 | 0.060 | 0.895 | |
| mut_matrix | 8.437 | 2.505 | 2.117 | |
| mut_matrix_stranded | 21.737 | 6.564 | 5.272 | |
| mut_strand | 0.384 | 0.020 | 0.404 | |
| mut_type | 0.056 | 0.000 | 0.056 | |
| mut_type_occurrences | 8.151 | 0.404 | 8.556 | |
| mutation_context | 0.940 | 0.028 | 0.968 | |
| mutation_types | 0.03 | 0.00 | 0.03 | |
| mutations_from_vcf | 0.029 | 0.000 | 0.029 | |
| plot_192_profile | 0.758 | 0.008 | 0.765 | |
| plot_96_profile | 0.921 | 0.000 | 0.920 | |
| plot_compare_profiles | 0.637 | 0.012 | 0.648 | |
| plot_contribution | 0.715 | 0.004 | 0.719 | |
| plot_contribution_heatmap | 0.379 | 0.004 | 0.384 | |
| plot_cosine_heatmap | 0.312 | 0.000 | 0.311 | |
| plot_enrichment_depletion | 1.639 | 0.004 | 1.643 | |
| plot_rainfall | 1.158 | 0.000 | 1.158 | |
| plot_signature_strand_bias | 0.432 | 0.000 | 0.431 | |
| plot_spectrum | 9.183 | 0.287 | 9.471 | |
| plot_strand | 0.159 | 0.000 | 0.159 | |
| plot_strand_bias | 0.446 | 0.004 | 0.450 | |
| read_vcfs_as_granges | 7.981 | 2.552 | 1.863 | |
| strand_bias_test | 0.170 | 0.012 | 0.181 | |
| strand_occurrences | 0.154 | 0.000 | 0.154 | |
| type_context | 0.742 | 0.072 | 0.814 | |