| Back to Multiple platform build/check report for BioC 3.11 | 
 | 
This page was generated on 2020-10-17 11:57:02 -0400 (Sat, 17 Oct 2020).
| TO THE DEVELOPERS/MAINTAINERS OF THE MeSHDbi PACKAGE: Please make sure to use the following settings in order to reproduce any error or warning you see on this page. | 
| Package 1025/1905 | Hostname | OS / Arch | INSTALL | BUILD | CHECK | BUILD BIN | ||||||
| MeSHDbi 1.24.0 Koki Tsuyuzaki 
 | malbec2 | Linux (Ubuntu 18.04.4 LTS) / x86_64 | OK | OK | OK |  | ||||||
| tokay2 | Windows Server 2012 R2 Standard / x64 | OK | OK | OK | [ OK ] |  | ||||||
| machv2 | macOS 10.14.6 Mojave / x86_64 | OK | OK | OK | OK |  | 
| Package: MeSHDbi | 
| Version: 1.24.0 | 
| Command: rm -rf MeSHDbi.buildbin-libdir && mkdir MeSHDbi.buildbin-libdir && C:\Users\biocbuild\bbs-3.11-bioc\R\bin\R.exe CMD INSTALL --merge-multiarch --build --library=MeSHDbi.buildbin-libdir MeSHDbi_1.24.0.tar.gz | 
| StartedAt: 2020-10-17 10:58:10 -0400 (Sat, 17 Oct 2020) | 
| EndedAt: 2020-10-17 10:58:57 -0400 (Sat, 17 Oct 2020) | 
| EllapsedTime: 46.7 seconds | 
| RetCode: 0 | 
| Status: OK | 
| PackageFile: MeSHDbi_1.24.0.zip | 
| PackageFileSize: 393 KiB | 
##############################################################################
##############################################################################
###
### Running command:
###
###   rm -rf MeSHDbi.buildbin-libdir && mkdir MeSHDbi.buildbin-libdir && C:\Users\biocbuild\bbs-3.11-bioc\R\bin\R.exe CMD INSTALL --merge-multiarch --build --library=MeSHDbi.buildbin-libdir MeSHDbi_1.24.0.tar.gz
###
##############################################################################
##############################################################################
install for i386
* installing *source* package 'MeSHDbi' ...
** using staged installation
** R
** data
** inst
** byte-compile and prepare package for lazy loading
Creating a new generic function for 'packageName' in package 'MeSHDbi'
** help
*** installing help indices
  converting help for package 'MeSHDbi'
    finding HTML links ... done
    MeSHDb                                  html  
    PAO1                                    html  
    listDatabases                           html  
    makeMeSHPackage                         html  
    meshVersion                             html  
    metaPAO1                                html  
    nomenclature                            html  
    packageName                             html  
** building package indices
** installing vignettes
** testing if installed package can be loaded from temporary location
** testing if installed package can be loaded from final location
** testing if installed package keeps a record of temporary installation path
install for x64
* installing *source* package 'MeSHDbi' ...
** testing if installed package can be loaded
* MD5 sums
packaged installation of 'MeSHDbi' as MeSHDbi_1.24.0.zip
* DONE (MeSHDbi)